Workbook

Sheet Таблица-1
A1: Таблица 1 Брой работни места, разкрити в резултат от подпомагане на проектите-НЕПРИЛОЖИМО
A2: Индикатор | B2: Цел за периода 2014 – 2020 според СВОМР | C2: Планирани съгласно заявления за подпомагане, одобрени от МИГ за периода на доклада | E2: Планирани съгласно заявления за подпомагане, одобрени от МИГ за периода от подписване на СВОМР | G2: Постигнато за периода на годишния доклад (за изплатени проекти) | I2: Постигнато за периода от подписване на СВОМР (за изплатени проекти)
C3: Мъже | D3: Жени | E3: Мъже | F3: Жени | G3: Мъже | H3: Жени | I3: Мъже | J3: Жени
A4: Работни места, разкрити в резултат от подпомагане на проектите, финансираниот:
A5: ЕЗФРСР
A6: ОПОС
A7: ОПРЧР
A8: ОПИК
A9: ОПНОИР
A10: ПМДР

Sheet Таблица 2
A1: Таблица 2: Брой жители, които ще се ползват от подобрени услуги/ инфраструктура, в резултат от изпълнението на проектите, финансирани от ЕЗФРСР.
A2: Индикатор | B2: Брой съгласно СВОМР | C2: Планиран брой съгласно заявления за подпомагане, одобрени от МИГ за периода на доклада | D2: Планиран брой съгласно заявления за подпомагане, одобрени от МИГ за периода от подписване на СВОМР | E2: Брой съгласно изплатени проекти за периода на доклада | F2: Брой съгласно изплатени проекти за периода от подписване на СВОМР
A3: 1 | B3: 2 | C3: 3 | D3: 4 | E3: 5 | F3: 6
A4: Жители, които ще се ползват от подобрени ИТ услуги/инфраструктура; | B4: 0 | C4: 0 | D4: 0 | E4: 0 | F4: 0
A5: Жители, които ще се ползват от подобрени услуги/инфраструктура, различни от тези, свързани с ИТ. | B5: 10000 | C5: 8372 | D5: 8372 | E5: 0 | F5: 0
G7: 1242
G8: 5781
G9: 105
G10: 1244
G11: =SUM(G7:G10) -> 8372

Sheet Таблица-3
A1: Таблица 1: Брой проекти към СВОМР по мерки и по фондове за отчетния период и от сключване на споразумение за изпълнение на СВОМР
A2: МЕРКИ ПО ФОНДОВЕ | B2: Цел за периода 2014 – 2020 | C2: Брой регистрирани заявления от кандидати за одобрение от МИГ | E2: Брой одобрени заявления от МИГ | G2: Брой внесени заявления от МИГ за одобрение от УО/ДФЗ | I2: Брой одобрени заявления от УО/ДФЗ | K2: Брой сключени договори с кандидати | M2: Процент на одобрение | N2: Брой договори с изплатена субсидия | P2: Процент на изплащане
B3: (брой) | C3: за отч. период | D3: от скл. на спораз. | E3: за отч. период | F3: от скл. на спораз. | G3: за отч. период | H3: от скл. на спораз. | I3: за отч. период | J3: от скл. на спораз. | K3: за отч. период | L3: от скл. на спораз. | M3: колона 12 разделена на колона 2 | N3: за отч. период | O3: от скл. на спораз. | P3: колона 15 разделена на колона 2
A4: 1 | B4: 2 | C4: 3 | D4: 4 | E4: 5 | F4: 6 | G4: 7 | H4: 8 | I4: 9 | J4: 10 | K4: 11 | L4: 12 | M4: 13 | N4: 14 | O4: 15 | P4: 16
A5: Мерки, финансирани от ПРСР 2014 - 2020 г. (ЕЗФРСР)
A6: Подмярка 4.1. Подкрепа за инвестиции в земеделски стопанства | B6: 20 | C6: 15 | D6: 15 | E6: 15 | F6: 15 | G6: 15 | H6: 15 | I6: 0 | J6: 0 | K6: 0 | L6: 0 | M6: =L6/B6 -> 0 | N6: 0 | O6: 0 | P6: =O6/B6 -> 0
A7: Подмярка 4.2 Инвестиции в преработка/маркетинг на селскостопански продукти | B7: 4 | C7: 3 | D7: 3 | E7: 1 | F7: 1 | G7: 1 | H7: 1 | I7: 0 | J7: 0 | K7: 0 | L7: 0 | M7: =L7/B7 -> 0 | N7: 0 | O7: 0 | P7: =O7/B7 -> 0
A8: Подмярка 6.4. Инвестиции в подкрепа на неземеделски дейности | B8: 8 | C8: 0 | D8: 0 | E8: 0 | F8: 0 | G8: 0 | H8: 0 | I8: 0 | J8: 0 | K8: 0 | L8: 0 | M8: =L8/B8 -> 0 | N8: 0 | O8: 0 | P8: =O8/B8 -> 0
A9: Подмярка 7.2. Инвестиции в създаването, подобряването или разширяването на всички видове малка по мащаби инфраструктура | B9: 8 | C9: 5 | D9: 5 | E9: 5 | F9: 5 | G9: 5 | H9: 5 | I9: 0 | J9: 0 | K9: 0 | L9: 0 | M9: =L9/B9 -> 0 | N9: 0 | O9: 0 | P9: =O9/B9 -> 0
A10: Подмярка 19.7.6. Проучвания и инвестиции, свързани с възстановяване и подобряване на културното и природното наследство | B10: 8 | C10: 0 | D10: 0 | E10: 0 | F10: 0 | G10: 0 | H10: 0 | I10: 0 | J10: 0 | K10: 0 | L10: 0 | M10: =L10/B10 -> 0 | N10: 0 | O10: 0 | P10: =O10/B10 -> 0
A12: Мерки, които не са част от ПРСР 2014 - 2020 г. , но са включени в Регламент (EC) № 1305/2013 (финансирани от ЕЗФРСР)
A13: ………
A14: Мерки, извън обхвата на мерките от Регламент (EC) № 1305/2013, но съответстващи на целите на регламента (финансирани от ЕЗФРСР)
A15: ………
A16: Мерки, финансирани от ОПОС (ЕФРР)
A17: ………
A18: Мерки, финансирани от ОПНОИР (ЕСФ)
A19: ………
A20: Мерки, финансирани от ОПРЧР (ЕСФ)
A21: ………
A22: Мерки, финансирани от ОПИК (ЕФРР)
A23: ………
... A25: ………
A26: Общо: | B26: =SUM(B6:B25) -> 48 | C26: =SUM(C6:C25) -> 23 | D26: =SUM(D6:D25) -> 23 | E26: =SUM(E6:E25) -> 21 | F26: =SUM(F6:F25) -> 21 | G26: =SUM(G6:G25) -> 21 | H26: =SUM(H6:H25) -> 21 | I26: =SUM(I6:I25) -> 0 | ... P26: =SUM(P6:P25) -> 0

Sheet Таблица-4
A1: Таблица 4: Изпълнение на СВОМР по мерки и по фондове през отчетния период в лева
A2: МЕРКИ ПО ФОНДОВЕ | B2: Заявен общ размер на разходите по заявления, подадени в МИГ | C2: Заявена субсидия по заявления, подадени в МИГ | D2: Интензитет на заявената помощ, % | E2: Одобрен общ размер на разходите по проект от МИГ | F2: Субсидия по проектите, одобрени от МИГ | G2: Заявен общ размер на разходите по проект към УО/ДФЗ | H2: Заявена субсидия към УО/ДФЗ | I2: Одобрен общ размер на разходите по проект от УО/ДФЗ | J2: Субсидия по проектите, одобрени от УО/ДФЗ | K2: Изплатена субсидия
A3: 1 | B3: 2 | C3: 3 | D3: 4 | E3: 5 | F3: 6 | G3: 7 | H3: 8 | I3: 9 | J3: 10 | K3: 11
A4: Мерки, финансирани от ПРСР 2014 - 2020 г. (ЕЗФРСР)
A5: Подмярка 4.1. Подкрепа за инвестиции в земеделски стопанства | B5: 1565002.1 | C5: 749433.49 | D5: =C5/B5*100 -> 47.887061 | E5: =B5 -> 1565002.1 | F5: =C5 -> 749433.49 | G5: =E5 -> 1565002.1 | H5: =F5 -> 749433.49 | I5: 0 | J5: 0 | K5: 0
A6: Подмярка 4.2 Инвестиции в преработка/маркетинг на селскостопански продукти | B6: 237813.32 | C6: 118906.69 | D6: =C6/B6*100 -> 50.000013 | E6: 82000 | F6: 41600 | G6: =E6 -> 82000 | H6: =F6 -> 41600 | I6: 0 | J6: 0 | K6: 0
A7: Подмярка 6.4. Инвестиции в подкрепа на неземеделски дейности | B7: 0 | C7: 0 | D7: 0 | E7: =B7 -> 0 | F7: =C7 -> 0 | G7: =E7 -> 0 | H7: =F7 -> 0 | I7: 0 | J7: 0 | K7: 0
A8: Подмярка 7.2. Инвестиции в създаването, подобряването или разширяването на всички видове малка по мащаби инфраструктура | B8: 967346.95 | C8: 967346.95 | D8: =C8/B8*100 -> 100 | E8: =B8 -> 967346.95 | F8: =C8 -> 967346.95 | G8: =E8 -> 967346.95 | H8: =F8 -> 967346.95 | I8: 0 | J8: 0 | K8: 0
A9: Подмярка 19.7.6. Проучвания и инвестиции, свързани с възстановяване и подобряване на културното и природното наследство | B9: 0 | C9: 0 | D9: 0 | E9: =B9 -> 0 | F9: =C9 -> 0 | G9: =E9 -> 0 | H9: =F9 -> 0 | I9: 0 | J9: 0 | K9: 0
A10: Мерки, които не са част от ПРСР 2014 - 2020 г. , но са включени в Регламент (EC) № 1305/2013 (финансирани от ЕЗФРСР)
A11: ………
A12: Мерки, извън обхвата на мерките от Регламент (EC) № 1305/2013, но съответстващи на целите на регламента (финансирани от ЕЗФРСР)
A13: ………
A14: Мерки, финансирани от ОПОС (ЕФРР)
A15: ………
A16: Мерки, финансирани от ОПНОИР (ЕСФ)
A17: ………
A18: Мерки, финансирани от ОПРЧР (ЕСФ)
A19: ………
A20: Мерки, финансирани от ОПИК (ЕФРР)
A21: ………
... A23: ………
A24: Общо: | B24: =SUM(B4:B23) -> 2770162.3 | C24: =SUM(C4:C23) -> 1835687.1 | D24: =C24/B24 -> 0.6626641 | E24: =SUM(E4:E23) -> 2614349 | F24: =SUM(F4:F23) -> 1758380.4 | G24: =SUM(G4:G23) -> 2614349 | H24: =SUM(H4:H23) -> 1758380.4 | I24: =SUM(I4:I23) -> 0 | J24: =SUM(J4:J23) -> 0 | K24: =SUM(K4:K23) -> 0

Sheet Таблица-5
A1: Таблица : Изпълнение на СВОМР по мерки и по фондове от сключване на споразумение за финансиране в лева
A2: МЕРКИ ПО ФОНДОВЕ | B2: Одобрен бюджет на субсидията за целия период | C2: Заявен общ размер на разходите по заявления, подадени в МИГ | D2: Заявен общ размер на разходите по заявления, подадени в МИГ | E2: Одобрен общ размер на разходите по проект от МИГ | F2: Субсидия по проектите, одобрени от МИГ | G2: Заявен общ размер на разходите по проект към УО/ДФЗ | H2: Заявена субсидия към УО/ДФЗ | I2: Одобрен общ размер на разходите по проект от УО/ДФЗ | J2: Субсидия по проектите, одобрени от УО/ДФЗ | K2: Сключени договори | L2: ОСТАТЪК | M2: Процент на одобрение | N2: Изплатена субсидия
L3: колона 2 минус колона 10 | M3: колона 10 разделена на колона 2
A4: 1 | B4: 2 | C4: 3 | D4: 4 | E4: 5 | F4: 6 | G4: 7 | H4: 8 | I4: 9 | J4: 10 | K4: 11 | L4: 12 | M4: 13 | N4: 14
A5: Мерки, финансирани от ПРСР 2014 - 2020 г. (ЕЗФРСР)
A6: Подмярка 4.1. Подкрепа за инвестиции в земеделски стопанства | B6: 750000 | C6: ='Таблица-4'!B5 -> 1565002.1 | D6: ='Таблица-4'!C5 -> 749433.49 | E6: ='Таблица-4'!E5 -> 1565002.1 | F6: ='Таблица-4'!F5 -> 749433.49 | G6: ='Таблица-4'!G5 -> 1565002.1 | H6: ='Таблица-4'!H5 -> 749433.49 | I6: ='[1]02.2020'!$D$10+'[1]02.2020'!$D$15 -> 305694.77 | J6: ='[1]02.2020'!$E$10+'[1]02.2020'!$E$15 -> 152847.37 | K6: 2 | L6: =B6-J6 -> 597152.63 | M6: =J6/B6 -> 0.20379649 | N6: 0
A7: Подмярка 4.2 Инвестиции в преработка/маркетинг на селскостопански продукти | B7: 200000 | C7: ='[1]02.2020'!$D$23+'[1]02.2020'!$D$24+'[1]02.2020'!$D$25+'[1]02.2020'!$D$26 -> 300568.32 | D7: ='[1]02.2020'!$E$23+'[1]02.2020'!$E$24+'[1]02.2020'!$E$25+'[1]02.2020'!$E$26 -> 150284.19 | E7: ='[1]02.2020'!$D$24 -> 83200 | F7: ='[1]02.2020'!$E$24 -> 41600 | G7: =E7 -> 83200 | H7: ='Таблица-4'!H6 -> 41600 | I7: =G7 -> 83200 | J7: =H7 -> 41600 | K7: 1 | L7: =B7-J7 -> 158400 | M7: =J7/B7 -> 0.208 | N7: 0 | Q7: =F6+F7 -> 791033.49 | R7: =Q7/B25 -> 0.26970116
A8: Подмярка 6.4. Инвестиции в подкрепа на неземеделски дейности | B8: 683000 | C8: ='[1]02.2020'!$D$28+'[1]02.2020'!$D$29+'[1]02.2020'!$D$30+'[1]02.2020'!$D$31+'[1]02.2020'!$D$32+'[1]02.2020'!$D$33 -> 854250.11 | D8: ='[1]02.2020'!$E$28+'[1]02.2020'!$E$29+'[1]02.2020'!$E$30+'[1]02.2020'!$E$31+'[1]02.2020'!$E$32+'[1]02.2020'!$E$33 -> 597975.08 | E8: ='[1]02.2020'!$D$28+'[1]02.2020'!$D$29+'[1]02.2020'!$D$30+'[1]02.2020'!$D$31+'[1]02.2020'!$D$32 -> 833588.46 | F8: ='[1]02.2020'!$E$28+'[1]02.2020'!$E$29+'[1]02.2020'!$E$30+'[1]02.2020'!$E$31+'[1]02.2020'!$E$32 -> 583511.92 | G8: =E8 -> 833588.46 | H8: =F8 -> 583511.92 | I8: ='Таблица-4'!I7 -> 0 | J8: ='Таблица-4'!J7 -> 0 | K8: 0 | L8: =B8-J8 -> 683000 | M8: =J8/B8 -> 0 | N8: 0 | O8: =L8-H8 -> 99488.078 | P8: =O8/L8 -> 0.14566336 | R8: =H8/B25 -> 0.19894713
A9: Подмярка 7.2. Инвестиции в създаването, подобряването или разширяването на всички видове малка по мащаби инфраструктура | B9: 1150000 | C9: ='[1]02.2020'!$D$35+'[1]02.2020'!$D$36+'[1]02.2020'!$D$37+'[1]02.2020'!$D$38+'[1]02.2020'!$D$39+'[1]02.2020'!$D$40 -> 1149596.6 | D9: =C9 -> 1149596.6 | E9: =C9 -> 1149596.6 | F9: =E9 -> 1149596.6 | G9: =E9 -> 1149596.6 | H9: =F9 -> 1149596.6 | I9: ='[1]02.2020'!$D$35 -> 137255.26 | J9: =I9 -> 137255.26 | K9: 1 | L9: =B9-J9 -> 1012744.7 | M9: =J9/B9 -> 0.1193524 | N9: 0
A10: Подмярка 19.7.6. Проучвания и инвестиции, свързани с възстановяване и подобряване на културното и природното наследство | B10: 150000 | C10: ='Таблица-4'!B9 -> 0 | D10: ='Таблица-4'!C9 -> 0 | E10: ='Таблица-4'!E9 -> 0 | F10: ='Таблица-4'!F9 -> 0 | G10: ='Таблица-4'!G9 -> 0 | H10: ='Таблица-4'!H9 -> 0 | I10: ='Таблица-4'!I9 -> 0 | J10: ='Таблица-4'!J9 -> 0 | K10: 0 | L10: 0 | M10: =J10/B10 -> 0 | N10: 0
A11: Мерки, които не са част от ПРСР 2014 - 2020 г. , но са включени в Регламент (EC) № 1305/2013 (финансирани от ЕЗФРСР)
A12: ……… | Q12: 583511.92
A13: Мерки, извън обхвата на мерките от Регламент (EC) № 1305/2013, но съответстващи на целите на регламента (финансирани от ЕЗФРСР)
A14: ………
A15: Мерки, финансирани от ОПОС (ЕФРР)
A16: ………
A17: Мерки, финансирани от ОПНОИР (ЕСФ)
A18: ………
A19: Мерки, финансирани от ОПРЧР (ЕСФ)
A20: ………
A21: Мерки, финансирани от ОПИК (ЕФРР)
A22: ………
A23: Мерки, финансирани от ПМДР (ЕФМДР)
A24: ………
A25: Общо: | B25: =SUM(B6:B24) -> 2933000 | C25: =SUM(C6:C24) -> 3869417.1 | D25: =SUM(D6:D24) -> 2647289.4 | E25: =SUM(E6:E24) -> 3631387.1 | F25: =SUM(F6:F24) -> 2524142 | G25: =SUM(G6:G24) -> 3631387.1 | H25: =SUM(H6:H24) -> 2524142 | I25: =SUM(I6:I24) -> 526150.03 | ... N25: =SUM(N6:N24) -> 0 | Q25: 791033.5
F26: =F25/B25 -> 0.86060076
Q27: 583511.92
Q29: =SUM(Q25:Q27) -> 1374545.4 | R29: =Q29/B25 -> 0.46864829

Sheet Таблица-6
A1: Таблица 6: Брой заявления към СВОМР по приоритети от СВОМР
A2: ПРИОРИТЕТИ | B2: Цел за периода 2014 – 2020 | C2: Брой регистрирани проекти от кандидати за одобрение от МИГ | E2: Брой одобрени заявления от МИГ | G2: Брой внесени заявления от МИГ за одобрение от УО/ДФЗ | I2: Брой одобрени заявления от УО/ДФЗ | K2: Брой сключени договори с кандидати | M2: Процент на одобрение | N2: Брой договори с изплатена субсидия | P2: Процент на изплащане
B3: (брой) | C3: за отч. период | D3: от скл. на спораз. | E3: за отч. период | F3: от скл. на спораз. | G3: за отч. период | H3: от скл. на спораз. | I3: за отч. период | J3: от скл. на спораз. | K3: за отч. период | L3: от скл. на спораз. | M3: колона 12 разделена на колона 2 | N3: за отч. период | O3: от скл. на спораз. | P3: колона 15 разделена на колона 2
A4: 1 | B4: 2 | C4: 3 | D4: 4 | E4: 5 | F4: 6 | G4: 7 | H4: 8 | I4: 9 | J4: 10 | K4: 11 | L4: 12 | M4: 13 | N4: 14 | O4: 15 | P4: 16
A5: Приоритет 1: Насърчаване на местния бизнес за създаване на заетост, доходи и разнообразяване на икономическите дейности | B5: 24 | C5: ='Таблица-3'!C6+'Таблица-3'!C7 -> 18 | D5: =C5 -> 18 | E5: ='Таблица-3'!E6+'Таблица-3'!E7 -> 16 | F5: ='Таблица-3'!F6+'Таблица-3'!F7 -> 16 | G5: ='Таблица-3'!G6+'Таблица-3'!G7 -> 16 | H5: ='Таблица-3'!H6+'Таблица-3'!H7 -> 16 | I5: ='Таблица-3'!I6+'Таблица-3'!I7 -> 0 | J5: ='Таблица-3'!J6+'Таблица-3'!J7 -> 0 | K5: ='Таблица-3'!K6+'Таблица-3'!K7 -> 0 | L5: ='Таблица-3'!L6+'Таблица-3'!L7 -> 0 | M5: =L5/B5 -> 0 | N5: 0 | O5: 0 | P5: =O5/B5 -> 0
A6: Приоритет 2: Развитие на благоприятна жизнена среда за социално приобщаване и общо подобряване на качеството на живот | B6: 24 | C6: ='Таблица-3'!C8+'Таблица-3'!C9+'Таблица-3'!C10 -> 5 | D6: =C6 -> 5 | E6: ='Таблица-3'!E8+'Таблица-3'!E9+'Таблица-3'!E10 -> 5 | F6: ='Таблица-3'!F8+'Таблица-3'!F9+'Таблица-3'!F10 -> 5 | G6: ='Таблица-3'!G8+'Таблица-3'!G9+'Таблица-3'!G10 -> 5 | H6: ='Таблица-3'!H8+'Таблица-3'!H9+'Таблица-3'!H10 -> 5 | I6: ='Таблица-3'!I8+'Таблица-3'!I9+'Таблица-3'!I10 -> 0 | J6: ='Таблица-3'!J8+'Таблица-3'!J9+'Таблица-3'!J10 -> 0 | K6: ='Таблица-3'!K8+'Таблица-3'!K9+'Таблица-3'!K10 -> 0 | L6: ='Таблица-3'!L8+'Таблица-3'!L9+'Таблица-3'!L10 -> 0 | M6: =L6/B6 -> 0 | N6: 0 | O6: 0 | P6: =O6/B6 -> 0
A7: Приоритет …
A8: Приоритет …
A9: ………
A10: Общо: | B10: =SUM(B5:B9) -> 48 | C10: =SUM(C5:C9) -> 23 | D10: =SUM(D5:D9) -> 23 | E10: =SUM(E5:E9) -> 21 | F10: =SUM(F5:F9) -> 21 | G10: =SUM(G5:G9) -> 21 | H10: =SUM(H5:H9) -> 21 | I10: =SUM(I5:I9) -> 0 | ... P10: =SUM(P5:P9) -> 0

Sheet Таблица-7
A1: Таблица 7: Изпълнение на СВОМР по приоритети от СВОМР в лева през отчетния период в лева
A2: ПРИОРИТЕТИ | B2: Заявен общ размер на разходите по заявления, подадени в МИГ | C2: Заявена субсидия по проекти към МИГ | D2: Интензитет на заявената помощ | E2: Одобрен общ размер на разходите по проект от МИГ | F2: Субсидия по проектите, одобрени от МИГ | G2: Заявен общ размер на разходите по проект към УО/ДФЗ | H2: Заявена субсидия към УО/ДФЗ | I2: Одобрен общ размер на разходите по проект от УО/ДФЗ | J2: Субсидия по проектите, одобрени от УО/ДФЗ | K2: Изплатена субсидия
A3: 1 | B3: 2 | C3: 3 | D3: 4 | E3: 5 | F3: 6 | G3: 7 | H3: 8 | I3: 9 | J3: 10 | K3: 11
A4: Приоритет 1: Насърчаване на местния бизнес за създаване на заетост, доходи и разнообразяване на икономическите дейности | B4: ='Таблица-5'!C6+'Таблица-5'!C7 -> 1865570.4 | C4: ='Таблица-5'!D6+'Таблица-5'!D7 -> 899717.68 | D4: =C4/B4*100 -> 48.227485 | E4: ='Таблица-5'!E6+'Таблица-5'!E7 -> 1648202.1 | F4: ='Таблица-5'!F6+'Таблица-5'!F7 -> 791033.49 | G4: =E4 -> 1648202.1 | H4: =F4 -> 791033.49 | I4: 0 | J4: 0 | K4: 0
A5: Приоритет 2: Развитие на благоприятна жизнена среда за социално приобщаване и общо подобряване на качеството на живот | B5: ='Таблица-5'!C8+'Таблица-5'!C9+'Таблица-5'!C10 -> 2003846.7 | C5: ='Таблица-5'!D8+'Таблица-5'!D9+'Таблица-5'!D10 -> 1747571.7 | D5: =C5/B5*100 -> 87.210846 | E5: ='Таблица-5'!E8+'Таблица-5'!E9+'Таблица-5'!E10 -> 1983185.1 | F5: ='Таблица-5'!F8+'Таблица-5'!F9+'Таблица-5'!F10 -> 1733108.5 | G5: =E5 -> 1983185.1 | H5: =F5 -> 1733108.5 | I5: 0 | J5: 0 | K5: 0
A6: Приоритет …
A7: Приоритет …
A8: ………
A9: Общо: | B9: =SUM(B4:B8) -> 3869417.1 | C9: =SUM(C4:C8) -> 2647289.4 | D9: =SUM(D4:D8) -> 135.43833 | E9: =SUM(E4:E8) -> 3631387.1 | F9: =SUM(F4:F8) -> 2524142 | G9: =SUM(G4:G8) -> 3631387.1 | H9: =SUM(H4:H8) -> 2524142 | I9: =SUM(I4:I8) -> 0 | ... K9: =SUM(K4:K8) -> 0

Sheet Таблица-8
A1: Таблица 8: Изпълнение на СВОМР по приоритети от СВОМР от сключване на споразумение за финансиране в лева
A2: ПРИОРИТЕТИ | B2: Одобрен бюджет на субсидията за целия период | C2: Заявен общ размер на разходите по заявления, подадени в МИГ | D2: Заявен общ размер на разходите по заявления, подадени в МИГ | E2: Одобрен общ размер на разходите по проект от МИГ | F2: Субсидия по проектите, одобрени от МИГ | G2: Заявен общ размер на разходите по проект към УО/ДФЗ | H2: Заявена субсидия към УО/ДФЗ | I2: Одобрен общ размер на разходите по проект от УО/ДФЗ | J2: Субсидия по проектите, одобрени от УО/ДФЗ | K2: Сключени договори | L2: ОСТАТЪК | M2: Процент на одобрение | N2: Изплатена субсидия
L3: колона 2 минус колона 11 | M3: колона 11 разделена на колона 2
A4: 1 | B4: 2 | C4: 3 | D4: 4 | E4: 5 | F4: 6 | G4: 7 | H4: 8 | I4: 9 | J4: 10 | K4: 11 | L4: 12 | M4: 13 | N4: 14
A5: Приоритет 1: Насърчаване на местния бизнес за създаване на заетост, доходи и разнообразяване на икономическите дейности | B5: ='Таблица-5'!B6+'Таблица-5'!B7+'Таблица-5'!B8 -> 1633000 | C5: ='Таблица-5'!C6+'Таблица-5'!C7 -> 1865570.4 | D5: ='Таблица-5'!D6+'Таблица-5'!D7 -> 899717.68 | E5: ='Таблица-5'!E6+'Таблица-5'!E7 -> 1648202.1 | F5: ='Таблица-5'!F6+'Таблица-5'!F7 -> 791033.49 | G5: ='Таблица-5'!G6+'Таблица-5'!G7 -> 1648202.1 | H5: ='Таблица-5'!H6+'Таблица-5'!H7 -> 791033.49 | I5: 0 | J5: 0 | K5: 0 | L5: =B5-K5 -> 1633000 | M5: =K5/B5 -> 0 | N5: 0
A6: Приоритет 2: Развитие на благоприятна жизнена среда за социално приобщаване и общо подобряване на качеството на живот | B6: ='Таблица-5'!B9+'Таблица-5'!B10 -> 1300000 | C6: ='Таблица-5'!C8+'Таблица-5'!C9+'Таблица-5'!C10 -> 2003846.7 | D6: ='Таблица-5'!D8+'Таблица-5'!D9+'Таблица-5'!D10 -> 1747571.7 | E6: ='Таблица-5'!E8+'Таблица-5'!E9+'Таблица-5'!E10 -> 1983185.1 | F6: ='Таблица-5'!F8+'Таблица-5'!F9+'Таблица-5'!F10 -> 1733108.5 | G6: ='Таблица-5'!G8+'Таблица-5'!G9+'Таблица-5'!G10 -> 1983185.1 | H6: ='Таблица-5'!H8+'Таблица-5'!H9+'Таблица-5'!H10 -> 1733108.5 | I6: 0 | J6: 0 | K6: 0 | L6: =B6-K6 -> 1300000 | M6: =K6/B6 -> 0 | N6: 0
A7: Приоритет…
A8: Приоритет…
A9: ……
A10: Общо: | B10: =SUM(B5:B9) -> 2933000 | C10: =SUM(C5:C9) -> 3869417.1 | D10: =SUM(D5:D9) -> 2647289.4 | E10: =SUM(E5:E9) -> 3631387.1 | F10: =SUM(F5:F9) -> 2524142 | G10: =SUM(G5:G9) -> 3631387.1 | H10: =SUM(H5:H9) -> 2524142 | I10: =SUM(I5:I9) -> 0 | ... N10: =SUM(N5:N9) -> 0

Sheet Таблица-9
A1: Таблица 9: Изпълнение на СВОМР по приоритети на съюза за развитие на селските райони
A2: Приоритетина съюза за развитие на селските райони | B2: Области с поставен акцент, за които в най-голяма степен допринасят проектите | D2: Брой одобрени заявления от МИГ | E2: Брой одобрени заявления от ДФЗ | F2: Брой изплатенизаявления отДФЗ в лв. | G2: Субсидия по проектите, одобрени от МИГ в лв. | H2: Субсидия по проектите, одобрени от ДФЗ в лв. | I2: Изплатена субсидия в лв.
A3: 1 | B3: 2 | D3: 3 | E3: 4 | F3: 5 | G3: 6 | H3: 7 | I3: 8
A4: Стимулиране на трансфера на знания и иновациите в областта на селското и горското стопанство и селските райони с акцент върху следните области: | B4: 1А | C4: Стимулиране на иновациите, сътрудничеството и развитието на базата от знания в селските райони;
B5: 1B | C5: Укрепване на връзките между селското стопанство, производството на храни, горското стопанство и научноизследователската дейност и иновациите, включително с цел подобряване на екологичното управление и екологичните показатели; | D5: 2 | E5: 0 | F5: 0 | G5: 0 | H5: 0 | I5: 0
B6: 1C | C6: Поощряване на ученето през целия живот и професионалното обучение в секторите на селското и горското стопанство;
A7: Повишаване на жизнеспособността на земеделските стопанства и конкурентоспособността на всички видове селскостопанска дейност във всички региони и насърчаване на новаторските технологии в селското стопанство и устойчивото управление на горите, с акцент върху следните области: | B7: 2A | C7: Подобряване на икономическите резултати на всички земеделски стопанства и улесняване на преструктурирането и модернизирането на стопанствата, особено с оглед на увеличаването на пазарното участие и ориентация и на разнообразяването в селското стопанство; | D7: 14 | E7: 0 | F7: 0 | G7: 0 | H7: 0 | I7: 0
B8: 2B | C8: Улесняване на навлизането на земеделски стопани с подходяща квалификация в селскостопанския сектор, и по-специално приемствеността между поколенията;
A9: насърчаване на организацията на хранителната верига, включително преработката и предлагането на пазара на селскостопански продукти,на хуманното отношение към животните и управлението на риска в селското стопанство с акцент върху следните области: | B9: 3A | C9: Подобряване на конкурентоспособността на първичните производители чрез по-доброто им интегриране в селскостопанската и хранителната верига посредством схеми за качество, които да добавят стойност към селскостопанските продукти, популяризиране на местните пазари и къси вериги на доставки, групи на производителите и организации и междубраншови организации;
B10: 3B | C10: Подпомагане на превенцията и управлението на риска на стопанствата;
A11: Възстановяване, опазване и укрепване на екосистемите, свързани със селското и горското стопанство, с акцент върху следните области: | B11: 4A | C11: Възстановяване, опазване и укрепване на биологичното разнообразие, включително в зони по „Натура 2000“ и в зони с природни или други специфични ограничения и земеделие с висока природна стойност, както и на състоянието на европейските ландшафти;
B12: 4B | C12: Подобряване управлението на водите, включително управлението на торовете и пестицидите;
B13: 4C | C13: Предотвратяване на ерозията на почвите и подобряване на управлението им;
A14: Насърчаване на ефективното използване на ресурсите и подпомагане на прехода към нисковъглеродна и устойчива на изменението на климата икономика в селското стопанство, сектора на храните и горското стопанство, с акцент върху следните области: | B14: 5A | C14: Повишаване на ефективността при потреблението на вода в селското стопанство;
B15: 5B | C15: Повишаване на ефективността при потреблението на енергия в селското стопанство и хранително-вкусовата промишленост;
B16: 5C | C16: Улесняване на доставките и използването на възобновяеми източници на енергия, на странични продукти, отпадъци и остатъци, и други нехранителни суровини за целите на биоикономиката;
B17: 5D | C17: Намаляване на емисиите на парникови газове и амоняк от селското стопанство;
B18: 5E | C18: Стимулиране на съхраняването и поглъщането на въглерода в сектора на селското и горското стопанство;
A19: Насърчаване на социалното приобщаване, намаляването на бедността и икономическото развитие в селските райони, с акцент върху следните области: | B19: 6A | C19: Улесняване на разнообразяването, създаването и развитието на малки предприятия, както и разкриването на работни места;
B20: 6B | C20: Стимулиране на местното развитие в селските райони; | D20: 21 | E20: 0 | F20: 0 | G20: 0 | H20: 0 | I20: 0
B21: 6C | C21: Подобряване на достъпа до информационни и комуникационни технологии (ИКТ), използването и качеството им в селските райони;
B22: FA | C22: Друга област | D22: 5 | E22: 0 | F22: 0 | G22: 0 | H22: 0 | I22: 0

Sheet Таблица-10
A1: Таблица 10: Приоритети на съюза за развитие на селските райони по мерки финансирани от ЕЗФРСР
A2: Мярка | B2: Приоритет | D2: Област | F2: Индикатор | G2: Брой/ | H2: Брой/
G3: Площ/ | H3: Площ/
G4: Размер за проекти, одобрени от ДФЗ за периода на доклада | H4: Размер за проекти, изплатени от ДФЗ за периода на доклада
A5: 1 | B5: 2 | C5: 3 | D5: 4 | E5: 5 | F5: 6 | G5: 7
A6: За мярката за сътрудничество (член 35 от Регламент (ЕС) № 1305/2013, където е приложимо | B6: P1 | C6: Стимулиране на трансфера на знания и иновациите в областта на селското и горското стопанство и селските райони | D6: 1B | E6: Укрепване на връзките между селското стопанство, производството на храни, горското стопанство и научноизследователската дейност и иновациите, включително с цел подобряване на екологичното управление и екологичните показатели | F6: Проекти за сътрудничество по мярката за сътрудничество (член 35 от Регламент (ЕС) № 1305/2013 | G6: 0 | H6: 0
A7: За мярка 1.1 и др. подобни, включени в стратегията за ВОМР | B7: P1 | C7: Стимулиране на трансфера на знания и иновациите в областта на селското и горското стопанство и селските райони | D7: 1C | E7: Поощряване на ученето през целия живот и професионалното обучение в секторите на селското и горското стопанство | F7: Брой на участниците в обучения | G7: 0 | H7: 0
A8: За мерки 3.1, 4.1, 5, 6, 8.1 до 8.4, 17.1 и др. подобни на тях, включени в стратегията за ВОМР | B8: P2 | C8: Подобряване на жизнеспособността на стопанствата и конкурентоспособността на всички видове земеделие във всички региони; насърчаване на новаторски селскостопански технологии и устойчивото управление на горите | D8: 2A | E8: Подобряване на икономическите резултати на всички земеделски стопанства и улесняване на преструктурирането и модернизирането на стопанствата, особено с оглед на увеличаването на пазарното участие и ориентация и на разнообразяването в селското стопанство | F8: Брой на стопанствата/ бенефициентите, получаващи подкрепа | G8: 0 | H8: 0
B9: P2 | C9: Подобряване на жизнеспособността на стопанствата и конкурентоспособността на всички видове земеделие във всички региони; насърчаване на новаторски селскостопански технологии и устойчивото управление на горите | D9: 2B | E9: Улесняване на навлизането на земеделски стопани с подходяща квалификация в селскостопанския сектор, и по-специално приемствеността между поколенията | F9: Брой на стопанствата/ бенефициентите, получаващи подкрепа | G9: 0 | H9: 0
B10: P3 | C10: Насърчаване на добро организиране на хранителната верига, в т.ч. преработката и търговията със селскостопански продукти, хуманното отношение към животните и управлението на риска в селското стопанство | D10: 3A | E10: Подобряване на конкурентоспособността на първичните производители чрез по-доброто им интегриране в селскостопанската и хранителната верига посредством схеми за качество, които да добавят стойност към селскостопанските продукти, популяризиране на местните пазари и къси вериги на доставки, групи на производителите и организации и междубраншови организации | F10: Брой на стопанствата/ бенефициентите, получаващи подкрепа | G10: 0 | H10: 0
B11: P3 | C11: Насърчаване на добро организиране на хранителната верига, в т.ч. преработката и търговията със селскостопански продукти, хуманното отношение към животните и управлението на риска в селското стопанство | D11: 3B | E11: Подпомагане на превенцията и управлението на риска на стопанствата | F11: Брой на стопанствата/ бенефициентите, получаващи подкрепа | G11: 0 | H11: 0
A12: За мерки 4, 8.1 до 8.5, 15.1 и др. подобни на тях, включени в стратегията за ВОМР | B12: P4 | C12: Възстановяване, опазване и укрепване на екосистемите, свързани със селското и горското стопанство | D12: 4A | E12: Възстановяване, опазване и укрепване на биологичното разнообразие, включително в зони по „Натура 2000“ и в зони с природни или други специфични ограничения и земеделие с висока природна стойност, както и на състоянието на европейските ландшафти (За земеделие и развитие на селските райони) | F12: Обща подпомогната площ (ха) | G12: 0 | H12: 0
B13: P4 | C13: Възстановяване, опазване и укрепване на екосистемите, свързани със селското и горското стопанство | D13: 4A | E13: Възстановяване, опазване и укрепване на биологичното разнообразие, включително в зони по „Натура 2000“ и в зони с природни или други специфични ограничения и земеделие с висока природна стойност, както и на състоянието на европейските ландшафти (За горско стопанство) | F13: Обща подпомогната площ (ха) | G13: 0 | H13: 0
B14: P4 | C14: Възстановяване, опазване и укрепване на екосистемите, свързани със селското и горското стопанство | D14: 4B | E14: Подобряване управлението на водите, включително управлението на торовете и пестицидите (За земеделие и развитие на селските райони) | F14: Обща подпомогната площ (ха) | G14: 0 | H14: 0
B15: P4 | C15: Възстановяване, опазване и укрепване на екосистемите, свързани със селското и горското стопанство | D15: 4B | E15: Подобряване управлението на водите, включително управлението на торовете и пестицидите (За горско стопанство) | F15: Обща подпомогната площ (ха) | G15: 0 | H15: 0
B16: P4 | C16: Възстановяване, опазване и укрепване на екосистемите, свързани със селското и горското стопанство | D16: 4C | E16: Предотвратяване на ерозията на почвите и подобряване на управлението им (За земеделие и развитие на селските райони) | F16: Обща подпомогната площ (ха) | G16: 0 | H16: 0
B17: P4 | C17: Възстановяване, опазване и укрепване на екосистемите, свързани със селското и горското стопанство | D17: 4C | E17: Предотвратяване на ерозията на почвите и подобряване на управлението им (За горско стопанство) | F17: Обща подпомогната площ (ха) | G17: 0 | H17: 0
B18: P5 | C18: Насърчаване на ефективното използване на ресурсите и подпомагане на прехода към нисковъглеродна и устойчива на изменението на климата икономика в селското стопанство, сектора на храните и горското стопанство | D18: 5A | E18: Повишаване на ефективността при потреблението на вода в селското стопанство | F18: Обща подпомогната площ (ха) | G18: 0 | H18: 0
F19: (Отнася се за площта, обхваната от инвестиции за напояване) | G19: 0 | H19: 0
A20: За мерки 4, 5, 6.4, 7.2 до 7.8, 8.5 и 8.6 и др. инвестиционни мерки, включени в стратегията за ВОМР | B20: P5 | C20: Насърчаване на ефективното използване на ресурсите и подпомагане на прехода към нисковъглеродна и устойчива на изменението на климата икономика в селското стопанство, сектора на храните и горското стопанство | D20: 5B | E20: Повишаване на ефективността при потреблението на енергия в селското стопанство и хранително-вкусовата промишленост | F20: Общ размер на инвестициите | G20: 0 | H20: 0
F21: (Сума от всички допустими инвестиционни разходи - публични и частни) | G21: 0 | H21: 0
B22: P5 | C22: Насърчаване на ефективното използване на ресурсите и подпомагане на прехода към нисковъглеродна и устойчива на изменението на климата икономика в селското стопанство, сектора на храните и горското стопанство | D22: 5C | E22: Улесняване на доставките и използването на възобновяеми източници на енергия, на странични продукти, отпадъци и остатъци, и други нехранителни суровини за целите на биоикономиката | F22: Общ размер на инвестициите | G22: 0 | H22: 0
F23: (Сума от всички допустими инвестиционни разходи - публични и частни) | G23: 0 | H23: 0
A24: За мерки 4, 8.1 до 8.5, 15.1 и др. подобни на тях, включени в стратегията за ВОМР | B24: P5 | C24: Насърчаване на ефективното използване на ресурсите и подпомагане на прехода към нисковъглеродна и устойчива на изменението на климата икономика в селското стопанство, сектора на храните и горското стопанство | D24: 5D | E24: Намаляване на емисиите на парникови газове и амоняк от селското стопанство | F24: Обща площ (ха) | G24: 0 | H24: 0
A25: За мярка 4 и др. подобни, включени в стратегията за ВОМР | B25: P5 | C25: Насърчаване на ефективното използване на ресурсите и подпомагане на прехода към нисковъглеродна и устойчива на изменението на климата икономика в селското стопанство, сектора на храните и горското стопанство | D25: 5D | E25: Намаляване на емисиите на парникови газове и амоняк от селското стопанство | F25: Брой на подпомаганите животински единици (ЖЕ) | G25: 0 | H25: 0
A26: За мерки 4, 8.1 до 8.5, 15.1 и др. подобни на тях, включени в стратегията за ВОМР | B26: P5 | C26: Насърчаване на ефективното използване на ресурсите и подпомагане на прехода към нисковъглеродна и устойчива на изменението на климата икономика в селското стопанство, сектора на храните и горското стопанство | D26: 5E | E26: Стимулиране на съхраняването и поглъщането на въглерода в сектора на селското и горското стопанство | F26: Обща площ (ха) | G26: 0 | H26: 0

Sheet Таблица-11
A1: Таблица 11:Брой проекти към СВОМР по типове кандидати през 2018 Г.
A2: ТИПОВЕ КАНДИДАТИ/ ПОЛУЧАТЕЛИ | B2: Цел за периода 2014 – 2020 | C2: Брой регистрирани заявления от кандидати за одобрение от МИГ | E2: Брой одобрени заявления от МИГ | G2: Брой внесени заявления от МИГ за одобрение от УО/ДФЗ | I2: Брой одобрени заявления от УО/ДФЗ | K2: Брой сключени договори с кандидати | M2: Процент на одобрение | N2: Брой договори с изплатена субсидия | P2: Процент на изплащане
B3: (брой) | C3: за отч. период | D3: от скл. на спораз. | E3: за отч. период | F3: от скл. на спораз. | G3: за отч. период | H3: от скл. на спораз. | I3: за отч. период | J3: от скл. на спораз. | K3: за отч. период | L3: от скл. на спораз. | M3: колона 12 разделена на колона 2 | N3: за отч. период | O3: от скл. на спораз. | P3: колона 15 разделена на колона 2
A4: 1 | B4: 2 | C4: 3 | D4: 4 | E4: 5 | F4: 6 | G4: 7 | H4: 8 | I4: 9 | J4: 10 | K4: 11 | L4: 12 | M4: 13 | N4: 14 | O4: 15 | P4: 16
A5: от ЕЗФРСР
A6: ПУБЛИЧНИ
A7: МИГ | B7: 0
A8: Публичен орган/община | B8: 8 | C8: 5 | D8: 5 | E8: 5 | F8: 5 | G8: 5 | H8: 5 | I8: 0 | J8: 0 | K8: 0 | L8: 0 | M8: 0 | N8: 0 | O8: 0 | P8: 0
A9: НПО | B9: 8 | C9: 0 | D9: 0 | E9: 0 | F9: 0 | G9: 0 | H9: 0 | I9: 0 | J9: 0 | K9: 0 | L9: 0 | M9: 0 | N9: 0 | O9: 0 | P9: 0
A10: други
A11: ЧАСТНИ
A12: Малко или средно предприятие
A13: Микропредприятие(Моля, отбележете и юридическата форма) | B13: 32
A14: Физическо лице | C14: 13 | D14: =C14 -> 13 | E14: 11 | F14: =E14 -> 11 | G14: =F14 -> 11 | H14: =G14 -> 11 | I14: 0 | J14: 0 | K14: 0 | L14: 0 | M14: 0 | N14: 0 | O14: 0 | P14: 0
A15: ЕТ | C15: 5 | D15: =C15 -> 5 | E15: 5 | F15: =E15 -> 5 | G15: =F15 -> 5 | H15: =G15 -> 5 | I15: 0 | J15: 0 | K15: 0 | L15: 0 | M15: 0 | N15: 0 | O15: 0 | P15: 0
A16: Лице, регистрирано по ТЗ
A17: Друго(ако е приложимо)
A18: Общо от ЕЗФРСР: | B18: =SUM(B7:B17) -> 48 | C18: =SUM(C7:C17) -> 23 | D18: =SUM(D7:D17) -> 23 | E18: =SUM(E7:E17) -> 21 | F18: =SUM(F7:F17) -> 21 | G18: =SUM(G7:G17) -> 21 | H18: =SUM(H7:H17) -> 21 | I18: =SUM(I7:I17) -> 0 | ... P18: =SUM(P7:P17) -> 0
A20: от ОПОС
A21: Добавят се редове за съответните типове кандидати/получатели
A22: Общо от ОПОС
A24: от ОПНОИР
A25: Добавят се редове за съответните типове кандидати/получатели
A26: Общо от ОПНОИР
A28: от ОПРЧР
A29: Добавят се редове за съответните типове кандидати/получатели
A30: Общо от ОПРЧР
A32: от ОПИК
A33: Добавят се редове за съответните типове кандидати/получатели
A34: Общо от ОПИК
... A38: Общо от ПМДР
A39: ОБЩО: | B39: =B18 -> 48 | C39: =C18 -> 23 | D39: =D18 -> 23 | E39: =E18 -> 21 | F39: =F18 -> 21 | G39: =G18 -> 21 | H39: =H18 -> 21 | I39: =I18 -> 0 | ... P39: =P18 -> 0

Sheet Таблица-12
A1: Таблица 12: Изпълнение на СВОМР по типове кандидати през 2018 г.
A2: ТИПОВЕ КАНДИДАТИ/ ПОЛУЧАТЕЛИ | B2: Одобрен бюджет на субсидията за целия период | C2: Заявен общ размер на разходите по заявления подадени в МИГ | D2: Заявен общ размер на разходите по заявления, подадени в МИГ | E2: Одобрен общ размер на разходите по проект от МИГ | F2: Субсидия по проектите, одобрени от МИГ | G2: Заявен общ размер на разходите по проект към УО/ДФЗ | H2: Заявена субсидия към УО/ДФЗ | I2: Одобрен общ размер на разходите по проект от УО/ДФЗ | J2: Субсидия по проектите, одобрени от УО/ДФЗ | K2: Сключени договори | L2: ОСТАТЪК | M2: Процент на одобрение | N2: Изплатена субсидия
L3: колона 2 минус колона 11 | M3: колона 11 разделена на колона 2
A4: 1 | B4: 2 | C4: 3 | D4: 4 | E4: 5 | F4: 6 | G4: 7 | H4: 8 | I4: 9 | J4: 10 | K4: 11 | L4: 12 | M4: 13 | N4: 14
A5: от ЕЗФРСР
A6: ПУБЛИЧНИ
A7: МИГ
A8: Публичен орган/община | B8: ='Таблица-5'!B9 -> 1150000 | C8: ='Таблица-5'!C9 -> 1149596.6 | D8: ='Таблица-5'!D9 -> 1149596.6 | E8: ='Таблица-5'!E9 -> 1149596.6 | F8: ='Таблица-5'!F9 -> 1149596.6 | G8: ='Таблица-5'!G9 -> 1149596.6 | H8: ='Таблица-5'!H9 -> 1149596.6 | I8: ='Таблица-5'!I9 -> 137255.26 | ... K8: ='Таблица-5'!K9 -> 1 | L8: =B8-K8 -> 1149999 | M8: =K8/B8 -> 8.6956522e-07 | N8: ='Таблица-5'!N9 -> 0
A9: НПО | B9: ='Таблица-5'!B10 -> 150000 | C9: 0 | D9: 0 | E9: 0 | F9: 0 | G9: 0 | H9: 0 | I9: 0 | J9: 0 | K9: 0 | L9: =B9-K9 -> 150000 | M9: 0 | N9: 0
A10: други
A11: ЧАСТНИ
A12: Малко или средно предприятие
A13: Микропредприятие(Моля, отбележете и юридическата форма) | B13: ='Таблица-5'!B6+'Таблица-5'!B7+'Таблица-5'!B8 -> 1633000 | L13: =B13 -> 1633000
A14: Физическо лице | C14: 1261862.2 | D14: 597863.62 | E14: 1170003.9 | F14: 551934.43 | G14: =E14 -> 1170003.9 | H14: =F14 -> 551934.43 | I14: 0 | J14: 0 | K14: 0 | M14: 0 | N14: 0
A15: ЕТ
A16: Лице, регистрирано по ТЗ | C16: 540953.15 | D16: 270476.56 | E16: 478198.15 | F16: 239099.06 | G16: =F16 -> 239099.06 | H16: =G16 -> 239099.06 | I16: 0 | J16: 0 | K16: 0 | M16: 0 | N16: 0
A17: Друго(ако е приложимо)
A18: Общо от ЕЗФРСР: | B18: =SUM(B5:B17) -> 2933000 | C18: =SUM(C5:C17) -> 2952412 | D18: =SUM(D5:D17) -> 2017936.8 | E18: =SUM(E5:E17) -> 2797798.7 | F18: =SUM(F5:F17) -> 1940630.1 | G18: =SUM(G5:G17) -> 2558699.6 | H18: =SUM(H5:H17) -> 1940630.1 | I18: =SUM(I5:I17) -> 137255.26 | ... N18: =SUM(N5:N17) -> 0
A20: от ОПОС
A21: Добавят се редове за съответните типове кандидати/получатели
A22: Общо от ОПОС
A24: от ОПНОИР
A25: Добавят се редове за съответните типове кандидати/получатели
A26: Общо от ОПНОИР
A28: от ОПРЧР
A29: Добавят се редове за съответните типове кандидати/получатели
A30: Общо от ОПРЧР
A32: от ОПИК
A33: Добавят се редове за съответните типове кандидати/получатели
A34: Общо от ОПИК
... A38: Общо от ПМДР
A39: ОБЩО: | B39: =B18 -> 2933000 | C39: =C18 -> 2952412 | D39: =D18 -> 2017936.8 | E39: =E18 -> 2797798.7 | F39: =F18 -> 1940630.1 | G39: =G18 -> 2558699.6 | H39: =H18 -> 1940630.1 | I39: =I18 -> 137255.26 | ... N39: =N18 -> 0

Sheet 06-2023
B2: РЕГИСТЪР НА ПОДАДЕНИТЕ ПРОЕКТИ В МИГ КЪМ ЮНИ 2023 Г.
B3: № | C3: Име на кандидата/ получателя | D3: Име на проекта | E3: Заявен общ размер на разходите по заявления подадени в МИГ | F3: Заявен общ размер на разходите по заявления, подадени в МИГ | G3: % на заявената помощ | H3: Одобрен общ размер на разходите по проект от МИГ | I3: Субсидия по проектите, одобрени от МИГ | J3: Отхвърлено/ оттеглено/ анулирано заявление | K3: Мотив за отхвърляне | L3: Заявен общ размер на разходите по проект към УО/ДФЗ | M3: Заявена субсидия към УО/ДФЗ | N3: Одобрен общ размер на разх. по проект от УО/ДФЗ | O3: Одобрена | P3: Изплатена субсидия
O4: субсидия от УО/ДФЗ
B5: 1 | C5: 2 | D5: 3 | E5: 4 | F5: 5 | G5: 6 | H5: 7 | I5: 8 | J5: 9 | K5: 10 | L5: 11 | M5: 12 | N5: 13 | O5: 14 | P5: 15
B6: Мерки, финансирани от ПРСР 2014 - 2020 г. (ЕЗФРСР)
B7: Подмярка 4.1. Подкрепа за инвестиции в земеделски стопанства
A8: 2 | B8: BG06RDNP001-19.76-0002 | C8: Иван Ангелов Иванов | D8: Механизиране на процесите по доене | E8: 101810 | F8: 50905 | G8: =F8/E8 -> 0.5 | H8: 101810 | I8: 50905 | J8: НП | K8: НП | L8: =H8 -> 101810 | M8: =I8 -> 50905 | N8: 0 | O8: 0 | P8: 0
A9: 3 | B9: BG06RDNP001-19.76-0003 | C9: Венцислав Манолов Вълчев | D9: „Модернизиране на процесите по доене и поддържане на пасището във фермата на земеделски стопанин Венцислав Вълчев” | E9: 155307.23 | F9: 77653.62 | G9: =F9/E9 -> 0.50000003 | H9: 155307.23 | I9: 77653.62 | J9: НП | K9: НП | L9: =H9 -> 155307.23 | M9: =I9 -> 77653.62 | N9: 0 | O9: 0 | P9: 0
A10: 4 | B10: BG06RDNP001-19.76-0004 | C10: Георги Стойчев Бохоров - земеделски стопанин | D10: Изграждане на склад за съхранение на пчелни продукти и модернизиране на процесите по добив на пчелен мед в стопанството на Георги Бохоров | E10: 65834.54 | F10: 32917.27 | G10: =F10/E10 -> 0.5 | H10: 65834.54 | I10: 32917.27 | J10: НП | K10: НП | L10: =H10 -> 65834.54 | M10: =I10 -> 32917.27 | N10: 65834.54 | O10: 24452.91 | P10: 0
A11: 5 | B11: BG06RDNP001-19.76-0005 | C11: РАДИДА ООД | D11: „Модернизиране на кравеферма, включващо подмяна на покривни материали и закупуване на ехограф“ | E11: 145794.77 | F11: 72897.37 | G11: =F11/E11 -> 0.4999999 | H11: 145794.77 | I11: 72897.37 | J11: НП | K11: НП | L11: =H11 -> 145794.77 | M11: =I11 -> 72897.37 | N11: 145794.77 | O11: 72897.37 | P11: 0
A12: 6 | B12: BG06RDNP001-19.76-0006 | C12: ЗП Иван Веселинов Иванов | D12: "Подобряване конкурентноспособността на ЗП Иван Веселинов Иванов" | E12: 105960 | F12: 42384 | G12: =F12/E12 -> 0.4 | H12: 105960 | I12: 42384 | J12: НП | K12: НП | L12: 105960 | M12: =I12 -> 42384 | N12: 0 | O12: 0 | P12: 0
A13: 7 | B13: BG06RDNP001-19.76-0007 | C13: ЗС Росица Георгиева Петрова | D13: Закупуване на машина за косене на лавандула МЕТАЛАГРО МА 301 S | E13: 33400 | F13: 16700 | G13: =F13/E13 -> 0.5 | H13: 33400 | I13: 16700 | J13: НП | K13: НП | L13: =H13 -> 33400 | M13: =I13 -> 16700 | N13: 0 | O13: 0 | P13: 0
A14: 8 | B14: BG06RDNP001-19.76-0008 | C14: ЗС Живко Димитров Петров | D14: Закупуване на прикачен комбайн за лавандула марка BONINO, модел BE 500 | E14: 81000 | F14: 40500 | G14: =F14/E14 -> 0.5 | H14: 81000 | I14: 40500 | J14: НП | K14: НП | L14: =H14 -> 81000 | M14: =I14 -> 40500 | N14: 81000 | O14: 40500 | P14: 0
A15: 9 | B15: BG06RDNP001-19.76-0009 | C15: ХРИСТО ПЛАМЕНОВ ИГНАТОВ | D15: Създаване на 33.700 дка. трайни насаждения от лавандула и закупуване на земеделска техника | E15: 46308.7 | F15: 23154.35 | G15: =F15/E15 -> 0.5 | H15: 46308.7 | I15: 23154.35 | J15: НП | K15: НП | L15: =H15 -> 46308.7 | M15: =I15 -> 23154.35 | N15: 37395.47 | O15: 18697.73 | P15: 0
A16: 11 | B16: BG06RDNP001-19.76-0011 | C16: ЗС МЕЛИХА АХМЕД ДЮКЯНДЖИ | D16: Закупуване на земеделска техника за обработка на насаждения от лавандула | E16: 159900 | F16: 79950 | G16: =F16/E16 -> 0.5 | H16: 159900 | I16: 79950 | J16: НП | K16: НП | L16: =H16 -> 159900 | M16: =I16 -> 79950 | N16: 159900 | O16: 79950 | P16: 0 | Q16: =SUM(N11:N16) -> 424090.24 | R16: =SUM(O11:O16) -> 212045.1 | T16: 1
A17: 12 | B17: BG06RDNP001-19.76-0012 | C17: Димитър Стоянов Иванов | D17: Инвестиционен проект за закупуване на земеделска техника и инвентар | E17: 129078 | F17: 64539 | G17: =F17/E17 -> 0.5 | H17: 129078 | I17: 64539 | J17: НП | K17: НП | L17: =H17 -> 129078 | M17: =I17 -> 64539 | N17: 129078 | O17: 62832.3 | P17: 0 | T17: 1
A18: 13 | B18: BG06RDNP001-19.76-0013 | C18: ЗП Константин Атанасов Георгиев | D18: Закупуване на прикачен комбайн за лавандула | E18: 81000 | F18: 27356.94 | G18: =F18/E18 -> 0.33774 | H18: 81000 | I18: 27356.94 | J18: НП | K18: НП | L18: 81000 | M18: =I18 -> 27356.94 | N18: 81000 | O18: 27356.94 | P18: 0
A19: 14 | B19: BG06RDNP001-19.76-0014 | C19: Таня Георгиева Рачева | D19: Инвестиционен проект за закупуване на земеделска техника и инвентар | E19: 77618.5 | F19: 38809.25 | G19: =F19/E19 -> 0.5 | H19: 77618.5 | I19: 38809.25 | J19: НП | K19: НП | L19: 77618.5 | M19: =I19 -> 38809.25 | N19: 77618.5 | O19: 38809.25 | P19: 0
A20: 15 | B20: BG06RDNP001-19.76-0015 | C20: ЗС ДЕЯН ДИМИТРОВ ПЕТРОВ | D20: Закупуване на земеделска техника за обработка и прибиране на лавандула | E20: 114130 | F20: 57065 | G20: =F20/E20 -> 0.5 | H20: 114130 | I20: 57065 | J20: НП | K20: НП | L20: =H20 -> 114130 | M20: =I20 -> 57065 | N20: 0 | O20: 0 | P20: 0
A21: 16 | B21: BG06RDNP001-19.76-0016 | C21: "Агро Егер" ЕООД | D21: Закупуване на оборудване за кравеферма | E21: 159203.38 | F21: 79601.69 | G21: =F21/E21 -> 0.5 | H21: 159203.38 | I21: 79601.69 | J21: НП | K21: НП | L21: =H21 -> 159203.38 | M21: =I21 -> 79601.69 | N21: 159203.38 | O21: 79601.43 | P21: 0
A22: 17 | B22: BG06RDNP001-19.76-0017 | C22: "ЕСЕНШЪЛ ОЙЛС"ЕООД | D22: Инвестиции в стопанството на „ЕСЕНШЪЛ ОЙЛС“ЕООД за покупка на прикачен инвентар за обработка и реколтиране на лавандула | E22: 90000 | F22: 45000 | G22: =F22/E22 -> 0.5 | H22: 90000 | I22: 45000 | J22: НП | K22: НП | L22: =H22 -> 90000 | M22: =I22 -> 45000 | N22: 0 | O22: 0 | P22: 0 | Q22: =SUM(E8:E22) -> 1546345.1 | R22: =SUM(F8:F22) -> 749433.49
A23: 18 | B23: BG06RDNP001-19.407-0001 | C23: Земеделски стопанин Румяна Петкова Русева | D23: Закупуване на телескопичен товарач и фуражосмесител за нуждите на животновъдна ферма в село Кочмар, община Тервел | E23: 159000 | F23: 79500 | G23: =F23/E23 -> 0.5 | H23: 159000 | I23: 79500 | J23: НП | K23: НП | L23: 159000 | M23: =I23 -> 79500 | N23: 0 | O23: 0 | P23: 0
A24: 19 | B24: BG06RDNP001-19.407-0002 | C24: ЗП НИКОЛАЙ ТОШКОВ КОЛЕВ | D24: Модернизация на животновъдното стопанство на ЗП Николай Колев | E24: 158315.54 | F24: 79157.77 | G24: =F24/E24 -> 0.5 | H24: 158315.54 | I24: 79157.77 | J24: НП | K24: НП | L24: 158315.54 | M24: =I24 -> 79157.77 | N24: 0 | O24: 0 | P24: 0
A25: 20 | B25: BG06RDNP001-19.547-0001 | C25: ЗС Славян Веселинов Славов (Булстат за свободни професии | D25: Закупуване на земеделски прикачен инвентар и оборудване | E25: 47694 | F25: 19077.6 | G25: =F25/E25 -> 0.4
A26: 21 | B26: BG06RDNP001-19.547-0002 | C26: ЗП " Вълчо Вълчев" | D26: "Модернизация в земеделското стопанство | E26: 57025.5 | F26: 28512.75 | G26: =F26/E26 -> 0.5
A27: 22 | B27: BG06RDNP001-19.598-0003 | C27: „Василев - Тервел” ЕООД | D27: Закупуване на трактор в стопанството на „Василев Тервел” ЕООД | E27: 149500 | F27: 59800 | G27: =F27/E27 -> 0.4
A28: 23 | B28: BG06RDNP001-19.598-0004 | C28: ЗС Танер Неждет Юсню | D28: Закупуване на трактор в стопанството на ЗС Танер Неждет Юсню | E28: 107570.65 | F28: 53785.32 | G28: =F28/E28 -> 0.49999995
A29: 24 | B29: BG06RDNP001-19.598-0005 | C29: ЗС Гюлбахар Хайредин Сали | D29: Закупуване на трактор в животновъдното стопанството на ЗС Гюлбахар Хайредин Сали | E29: 154000 | F29: 77000 | G29: =F29/E29 -> 0.5
A30: 25 | B30: BG06RDNP001-19.598-0006 | C30: ЗС ХРИСТО ПЛАМЕНОВ ИГНАТОВ | D30: Създаване на 33,660 дка насаждения от лавандула и орехи | E30: 35234.02 | F30: 21140.41 | G30: =F30/E30 -> 0.59999994
A31: 26 | B31: BG06RDNP001-19.598-0007 | C31: АГРО ЕГЕР ЕООД | D31: Закупуване на оборудване за кравеферма | E31: 159892.01 | F31: =E31/2-0.01 -> 79945.995 | G31: =F31/E31 -> 0.49999994
E32: =SUM(E8:E31) -> 2574576.8 | F32: =SUM(F8:F31) -> 1247353.3 | H32: =SUM(H8:H24) -> 1863660.7 | I32: =SUM(I8:I24) -> 908091.26 | L32: =SUM(L8:L24) -> 1863660.7 | M32: =SUM(M8:M24) -> 908091.26 | N32: =SUM(N8:N24) -> 936824.66 | O32: =SUM(O8:O24) -> 445097.93 | P32: =SUM(P8:P24) -> 0
B33: Подмярка 4.2 Инвестиции в преработка/маркетинг на селскостопански продукти
A34: 27 | B34: BG06RDNP001-19.012-0002 | C34: ДЖАМБО - Л ЕООД | D34: „Повишаване на конкурентноспособността на „Джамбо - Л” ЕООД, произвеждащо плодови сокове от собствена суровина” | E34: 83200 | F34: 41600 | G34: =F34/E34 -> 0.5 | H34: 83200 | I34: 41600 | J34: НП | K34: НП | L34: =H34 -> 83200 | M34: =I34 -> 41600 | N34: 83200 | O34: 41600 | P34: 0
A35: 28 | B35: BG06RDNP001-19.500-0001 | C35: А И К 2000 ООД | D35: Закупуване, доставка и монтаж на сушилна камера за плодове и зеленчуци | E35: 51300 | F35: =E35*G35 -> 25650 | G35: 0.5 | H35: 51300 | I35: =H35*J35 -> 25650 | J35: 0.5 | K35: ЛИПСА НАОБОСНОВАНОСТ И ДОКУМЕНТИ | L35: 0 | M35: 0 | N35: 0 | O35: 0 | P35: 0 | Q35: =SUM(E34:E35) -> 134500 | R35: =SUM(F34:F35) -> 67250
E36: =SUM(E34:E35) -> 134500 | F36: =SUM(F34:F35) -> 67250 | H36: =SUM(H34:H35) -> 134500 | I36: =SUM(I34:I35) -> 67250 | L36: =SUM(L34:L35) -> 83200 | M36: =SUM(M34:M35) -> 41600 | N36: =SUM(N34:N35) -> 83200 | O36: =SUM(O34:O35) -> 41600 | P36: =SUM(P34:P35) -> 0
B37: Подмярка 6.4. Инвестиции в подкрепа на неземеделски дейности
A38: 29 | B38: BG06RDNP001-19.264-0002 | C38: БРАТЯ РАЙЧЕВИ ООД | D38: Ивестиции в оборудване и обзавеждане на ресторант „Приятели” за по-добра конкуренция и улеснен достъп за населението от община Тервел | E38: 29969.16 | F38: =E38*70% -> 20978.412 | G38: =F38/E38 -> 0.7 | H38: =E38 -> 29969.16 | I38: =F38 -> 20978.412 | J38: НП | K38: НП | L38: 29969.16 | M38: 20978.412 | N38: 0 | O38: 0 | P38: 0
A39: 30 | B39: BG06RDNP001-19.264-0003 | C39: ПЕНЕВ КАР ЕООД | D39: Закупуване на оборудване за автосервиз | E39: 118183 | F39: =E39*70% -> 82728.1 | G39: =F39/E39 -> 0.7 | H39: =E39 -> 118183 | I39: =F39 -> 82728.1 | J39: НП | K39: НП | L39: 118183 | M39: 82728.1 | N39: 0 | O39: 0 | P39: 0
A40: 31 | B40: BG06RDNP001-19.264-0004 | C40: ДЖЕБЕДЖИ 60 ООД | D40: Изграждане на склад и магазин за строителни материали | E40: 380963.16 | F40: =E40*70% -> 266674.21 | G40: =F40/E40 -> 0.7 | H40: =E40 -> 380963.16 | I40: =F40 -> 266674.21 | J40: НП | K40: НП | L40: 380963.16 | M40: 266674.21 | N40: 0 | O40: 0 | P40: 0
A41: 32 | B41: BG06RDNP001-19.264-0005 | C41: "Братя Кондови 2019" ЕООД | D41: Развитие и оборудване на градински център "Братя Кондови 2019" ЕООД | E41: 35628 | F41: =E41*70% -> 24939.6 | G41: =F41/E41 -> 0.7 | H41: =E41 -> 35628 | I41: =F41 -> 24939.6 | J41: НП | K41: НП | L41: 35628 | M41: 24939.6 | N41: 0 | O41: 0 | P41: 0
A42: 33 | B42: BG06RDNP001-19.264-0006 | C42: "Крис - 93" ООД | D42: „Повишаване на конкурентоспособността на „Крис- 93 ООД чрез въвеждане на съвременни информационни и комуникационни технологии в управлението и услугите” | E42: 20661.65 | F42: =E42*70% -> 14463.155 | G42: =F42/E42 -> 0.7 | H42: 0 | I42: 0 | J42: ДА -ОТХВЪРЛЕН | K42: НЕКОРЕКТНО ПРЕДСТАВЕНИ ДОКУМЕНТИ И ЛИПСА НА УВЕРЕНОСТ ЗА ДОСТОВЕРНОСТ | L42: 0 | M42: 0 | N42: 0 | O42: 0 | P42: 0 | Q42: =SUM(E38:E42) -> 585404.97 | R42: =SUM(F38:F42) -> 409783.48
A43: 34 | B43: BG06RDNP001-19.264-0007 | C43: ЕТ Силвия Неделчева - СИДИ | D43: „Закупуване на специализирано оборудване за ОПТИКА в гр.Тервел“ | E43: 15312 | F43: 10718.4 | G43: =F43/E43 -> 0.7 | H43: 15312 | I43: 10718.4 | J43: НП | K43: НП | L43: 15312 | M43: 10718.4 | N43: 0 | O43: 0 | P43: 0
A44: 35 | B44: BG06RDNP001-19.264-0008 | C44: ДОНИДО М ООД | D44: „ Подобряване на конкурентоспособността и условията на труд в „ДОНИДО М“ ООД“ | E44: 88500 | F44: 61950 | G44: =F44/E44 -> 0.7 | H44: 88500 | I44: 61950 | J44: НП | K44: НП | L44: 88500 | M44: 61950 | N44: 0 | O44: 0 | P44: 0
A45: 36 | B45: BG06RDNP001-19.418-0001 | C45: ЕТ „Ненка-69-Николай Ненов” | D45: „Закупуване на специализирано оборудване за автосервиз в гр.Тервел“ | E45: 29916 | F45: 20941.2 | G45: =F45/E45 -> 0.7
A46: 37 | B46: BG06RDNP001-19.496-0001 | C46: Групова практика за първична медицинска помощ по дентална медицина Дент експерт ООД | D46: „Развитие и подкрепа в сферата на денталната медицина на територията на МИГ ТЕРВЕЛ – КРУШАРИ“ | E46: 189090 | F46: 132363 | G46: =F46/E46 -> 0.7
A47: 38 | B47: BG06RDNP001-19.496-0002 | C47: СТОУНС РУМО ЕООД | D47: Инвестиции в производствената дейност и конкурентноспособността на СТОУНС РУМО ЕООД | E47: 10363.6 | F47: 7254.52 | G47: =F47/E47 -> 0.7
A48: 39 | B48: BG06RDNP001-19.496-0003 | C48: АМБУЛАТОРИЯ ЗА ИНДИВИДУАЛНА ПРАКТИКА ЗА ПЪРВИЧНА ИЗВЪНБОЛНИЧНА МЕДИЦИНСКА ПОМОЩ ПО ДЕНТАЛНА МЕДИЦИНА - Д-Р ДЕНИЦА КОВАЧЕВА | D48: Закупуване на оборудване за стоматологичен кабинет в гр. Тервел | E48: 72286 | F48: 50412.26 | G48: =F48/E48 -> 0.69740005
A49: 40 | B49: BG06RDNP001-19.598-0001 | C49: МЕГА ТРАНС 2014 ЕООД | D49: Обособяване на малък цех за производство на картонени чашки в село Орляк, община Тервел | E49: 280641.15 | F49: 196448.8 | G49: =F49/E49 -> 0.69999998
A50: 41 | B50: BG06RDNP001-19.598-0002 | C50: АРТ 2020 ЕООД | D50: Оборудване и експлоатация на киносалон в град Тервел и предоставяне на мобилни услуги по кинопоказ | E50: 190690 | F50: 95345 | G50: =F50/E50 -> 0.5
A51: 42 | B51: BG06RDNP001-19.598-0003 | C51: ВЕЛИКОВ СТРОЙ ИНВЕСТ ЕООД | D51: Закупуване на минибагер и оборудване | E51: 80730 | F51: 40365 | G51: =F51/E51 -> 0.5
A52: 43 | B52: BG06RDNP001-19.598-0004 | C52: „АМБУЛАТОРИЯ ЗА ИНДИВИДУАЛНА ПРАКТИКА ЗА ПЪРВИЧНА ИЗВЪНБОЛНИЧНА МЕДИЦИНСКА ПОМОЩ ПО ДЕНТАЛНА МЕДИЦИНА - Д-Р ДЕНИЦА КОВАЧЕВА“ | D52: Закупуване на дентален микроскоп за нуждите на стоматологичен кабинет в гр. Тервел | E52: 29960 | F52: 20972 | G52: =F52/E52 -> 0.7 | H52: 29916 | I52: 20941.2 | J52: НП | K52: НП | L52: 29916 | M52: 20941.2 | N52: 0 | O52: 0 | P52: 0
A53: 44 | B53: BG06RDNP001-19.598-0005 | C53: ПЕНЕВ КАР ЕООД | D53: Подобряване на конкурентноспособността на „ПЕНЕВ КАР“ ЕООД | E53: 29991.15 | F53: 20993.8 | G53: =F53/E53 -> 0.69999983
E54: =SUM(E38:E53) -> 1602884.9 | F54: =SUM(F38:F53) -> 1067547.5 | H54: =SUM(H38:H52) -> 698471.32 | I54: =SUM(I38:I52) -> 488929.92 | L54: =SUM(L38:L52) -> 698471.32 | M54: =SUM(M38:M52) -> 488929.92 | N54: =SUM(N38:N52) -> 0 | O54: =SUM(O38:O52) -> 0 | P54: =SUM(P38:P52) -> 0
B55: Подмярка 7.2. Инвестиции в създаването, подобряването или разширяването на всички видове малка по мащаби инфраструктура
A56: 33 | B56: BG06RDNP001-19.003-0001 | C56: ОБЩИНА КРУШАРИ | D56: Рехабилитация на част от улица "Черно море" и улица "Изгрев" в с.Крушари, община Крушари, област Добрич | E56: 137255.26 | F56: 137255.26 | G56: 1 | H56: =E56 -> 137255.26 | I56: =F56 -> 137255.26 | J56: НП | K56: НП | L56: =H56 -> 137255.26 | M56: =I56 -> 137255.26 | N56: 137255.26 | O56: 137255.26 | P56: 0
A57: 34 | B57: BG06RDNP001-19.003-0002 | C57: Община Тервел | D57: "Рехабилитация на улици в гр.Тервел - Улица "Дунав" - участък от ул."Черни връх" до ул."Черно море";Улица 'Пирин" от О.К.13 до О.К.56 и Улица "Тимок" от О.К 56 до О.К.63" | E57: 282245.27 | F57: 282245.27 | G57: 1 | H57: =E57 -> 282245.27 | I57: =F57 -> 282245.27 | J57: НП | K57: НП | L57: =H57 -> 282245.27 | M57: =I57 -> 282245.27 | N57: 282245.27 | O57: 282245.27 | P57: 0
A58: 35 | B58: BG06RDNP001-19.003-0003 | C58: Община Тервел | D58: „Обновяване на площад „Старият дъб в гр.Тервел“ – зона за отдих“ | E58: 101739 | F58: 101739 | G58: 1 | H58: =E58 -> 101739 | I58: =F58 -> 101739 | J58: НП | K58: НП | L58: =H58 -> 101739 | M58: =I58 -> 101739 | N58: 101739 | O58: 101739 | P58: 0
A59: 36 | B59: BG06RDNP001-19.003-0004 | C59: Община Тервел | D59: Ремонт на открита спортна площадка в основно училище с.Нова Камена,община Тервел | E59: 172331.93 | F59: 172331.93 | G59: 1 | H59: =E59 -> 172331.93 | I59: =F59 -> 172331.93 | J59: НП | K59: НП | L59: =H59 -> 172331.93 | M59: =I59 -> 172331.93 | N59: 0 | O59: 0 | P59: 0
A60: 37 | B60: BG06RDNP001-19.003-0005 | C60: Община Тервел | D60: „Реконструкция на сграда за център за социални услуги в с.Безмер“ | E60: 273775.49 | F60: 273775.49 | G60: 1 | H60: =E60 -> 273775.49 | I60: =F60 -> 273775.49 | J60: НП | K60: НП | L60: =H60 -> 273775.49 | M60: =I60 -> 273775.49 | N60: 273775.49 | O60: 273775.49 | P60: 0
B61: BG06RDNP001-19.289-0001 | C61: ОБЩИНА КРУШАРИ | D61: Реконструкция на пешеходна зона на с. Крушари - УПИ XVІІ, кв. 60, по плана на с. Крушари | E61: 182249.66 | F61: 182249.66 | G61: 1
B62: BG06RDNP001-19.548-0001 | C62: Община Тервел | D62: Основен ремонт на участъци от улици „Втора“ и „Шеста“ в с.Безмер и „Първа“ в с.Попгруево“ | E62: 258422.92 | F62: 258422.92 | G62: 1
B63: BG06RDNP001-19.548-0002 | C63: Община Тервел | D63: Основен ремонт на улица "Четвърта" в с.Каблешково | E63: 58234.15 | F63: 58234.15 | G63: 1
B64: BG06RDNP001-19.548-0003 | C64: Община Тервел | D64: Обзавеждане на детски градини в села от Община Тервел | E64: 49783.02 | F64: 49783.02 | G64: 1
B65: BG06RDNP001-19.548-0004 | C65: ОБЩИНА КРУШАРИ | D65: „Основен ремонт на покрив на читалище – с. Телериг, находящ се в пл. №205, кв. 14 по плана на с. Телериг, община Крушари“ | E65: 264563.37 | F65: 264563.37 | G65: 1
E66: =SUM(E56:E65) -> 1780600.1 | F66: =SUM(F56:F65) -> 1780600.1 | H66: =SUM(H56:H65) -> 967346.95 | I66: =SUM(I56:I65) -> 967346.95 | L66: =SUM(L56:L65) -> 967346.95 | M66: =SUM(M56:M65) -> 967346.95 | N66: =SUM(N56:N65) -> 795015.02 | O66: =SUM(O56:O65) -> 795015.02 | P66: =SUM(P56:P65) -> 0
B67: Подмярка 19.7.6. Проучвания и инвестиции, свързани с възстановяване и подобряване на културното и природното наследство
A68: 39 | B68: BG06RDNP001-19.338-0001 | C68: ФОНДАЦИЯ КРУГА | D68: „Дивите растения като храна – опознаване, популяризиране и съхранение на местното биоразнообразие и кулинарна традиция в община Крушари“ | E68: 29298 | F68: 29298 | G68: =F68/E68 -> 1 | H68: 29298 | I68: 29298 | J68: НП | K68: НП | L68: 29298 | M68: 29298 | N68: 0 | O68: 0 | P68: 0
A69: 40 | B69: BG06RDNP001-19.338-0002 | C69: ОБЩИНА ТЕРВЕЛ | D69: ФЕСТИВАЛ НА БЯЛАТА ЖЪТВА - ЗА ЗЕМЯТА, ДОБРУДЖАНЕЦА И ХЛЯБА | E69: 26750 | F69: 26750 | G69: =F69/E69 -> 1 | H69: 26750 | I69: 26750 | J69: НП | K69: НП | L69: 26750 | M69: 26750 | N69: 0 | O69: 0 | P69: 0
A70: 41 | B70: BG06RDNP001-19.338-0003 | C70: ОБЩИНА КРУШАРИ | D70: „ПРАЗНИК НА ГЪРНЕТАТА – КУЛИНАРНАТА АКАДЕМИЯ ДА ДОБРУДЖА“ | E70: 29400 | F70: 29400 | G70: =F70/E70 -> 1 | H70: 29400 | I70: 29400 | J70: НП | K70: НП | L70: 29400 | M70: 29400 | N70: 0 | O70: 0 | P70: 0
A71: 42 | B71: BG06RDNP001-19.338-0004 | C71: ОБЩИНА КРУШАРИ | D71: ФЕСТИВАЛ „ПРОЛЕТНИЦИ ЗА СИТА ЗИМА“ | E71: 27140 | F71: 27140 | G71: =F71/E71 -> 1 | H71: 27140 | I71: 27140 | J71: НП | K71: НП | L71: 27140 | M71: 27140 | N71: 0 | O71: 0 | P71: 0
A72: 43 | B72: BG06RDNP001-19.338-0005 | C72: ОБЩИНА КРУШАРИ | D72: Подобряване на материално-техническата база на седемте читалища от Община Крушари чрез закупуване на обзавеждане и оборудване | E72: 25621.49 | F72: 25621.49 | G72: =F72/E72 -> 1 | H72: 25621.49 | I72: 25621.49 | J72: НП | K72: НП | L72: 25621.49 | M72: 25621.49 | N72: 0 | O72: 0 | P72: 0
A73: 44 | B73: BG06RDNP001-19.338-0006 | C73: ОБЩИНА КРУШАРИ | D73: „НЕВИДИМИТЕ СЪКРОВИЩА НА ДОБРУДЖА“ | E73: 9375 | F73: 9375 | G73: =F73/E73 -> 1 | H73: 9375 | I73: 9375 | J73: НП | K73: НП | L73: 9375 | M73: 9375 | N73: 0 | O73: 0 | P73: 0
E74: =SUM(E68:E73) -> 147584.49 | F74: =SUM(F68:F73) -> 147584.49 | H74: =SUM(H68:H73) -> 147584.49 | I74: =SUM(I68:I73) -> 147584.49 | L74: =SUM(L68:L73) -> 147584.49 | M74: =SUM(M68:M73) -> 147584.49 | N74: =SUM(N68:N73) -> 0 | O74: =SUM(O68:O73) -> 0 | P74: =SUM(P68:P73) -> 0
B75: Мерки, които не са част от ПРСР 2014 - 2020 г. , но са включени в Регламент (EC) № 1305/2013 (финансирани от ЕЗФРСР)
B76: ………
B77: Мерки, извън обхвата на мерките от Регламент (EC) № 1305/2013, но съответстващи на целите на регламента (финансирани от ЕЗФРСР)
B78: ………
B79: Мерки, финансирани от ОПОС (ЕФРР)
B80: ………
B81: Мерки, финансирани от ОПНОИР (ЕСФ)
B82: ………
B83: Мерки, финансирани от ОПРЧР (ЕСФ)
B84: ………
B85: Мерки, финансирани от ОПИК (ЕФРР)
B86: ………
B87: Мерки, финансирани от ПМДР (ЕФМДР)
B89: Общо: | E89: =E32+E36+E54+E66+E74 -> 6240146.3 | F89: =F32+F36+F54+F66+F74 -> 4310335.4 | H89: =H32+H36+H54+H66+H74 -> 3811563.4 | I89: =I32+I36+I54+I66+I74 -> 2579202.6 | J89: =J32+J36+J54+J66+J74 -> 0 | K89: =K32+K36+K54+K66+K74 -> 0 | L89: =L32+L36+L54+L66+L74 -> 3760263.4 | M89: =M32+M36+M54+M66+M74 -> 2553552.6 | N89: =N32+N36+N54+N66+N74 -> 1815039.7 | O89: =O32+O36+O54+O66+O74 -> 1281712.9 | P89: =P32+P36+P54+P66+P74 -> 0

Sheet Лист4
B2: Приоритет и специфични цели | C2: Общо за периода на стратегията | E2: Общо за отчетния период
C3: лева | D3: % | E3: лева | F3: %
A4: Приоритет 1: Насърчаване на местния бизнес за създаване на заетост, доходи и разнообразяване на икономическите дейности | C4: 1633000 | D4: 55.7 | E4: =SUM(E5:E8) -> 791033.49 | F4: =SUM(F5:F8) -> 26.970116
A5: Специфична цел 1.1: | B5: Повишаване на конкурентноспособността на местното земеделие и добавяне на стойност при местните селскостопански продукти | C5: 950000 | D5: 32.4 | E5: 791033.49 | F5: =E5/C14*100 -> 26.970116
B6: Мярка 4.1. и Мярка 4.2.
A7: Специфична цел 1.2: | B7: Подкрепа на предприемачеството за разнообразяване на бизнеса на територията | C7: 683000 | D7: 23.3 | E7: 0 | F7: 0
B8: Мярка 6.4.
A9: Приоритет 2: Развитие на благоприятна жизнена среда за социално приобщаване и общо подобряване на качеството на живот | C9: 1 300 000 | D9: 44.3 | E9: =SUM(E10:E13) -> 967346.95 | F9: =SUM(F10:F13) -> 32.981485
A10: Специфична цел 2.1: | B10: Подобряване на средата на живот и достъпа до услуги за населението в населените места | C10: 1150000 | D10: 39.2 | E10: 967346.95 | F10: =E10/C14*100 -> 32.981485
B11: Мярка 7.2.
A12: Специфична цел 2.2: | B12: Оползотворяване на местните традиции и наследство за постигане на устойчиви общности | C12: 150000 | D12: 5.1 | E12: 0 | F12: 0
B13: Мярка 19.7.6.
B14: ОБЩО ЗА ЦЯЛАТА СТРАТЕГИЯ | C14: 2933000 | D14: 100 | E14: =E4+E9 -> 1758380.4 | F14: =F4+F9 -> 59.9516
