Workbook
Name _ftn1: Лист2!$A$16
Name _ftnref1: Лист2!$G$1

Sheet Таблица-1
A1: Таблица 1 Брой работни места, разкрити в резултат от подпомагане на проектите-2024 МИГ ТЕРВЕЛ - КРУШАРИ
A2: Индикатор | B2: Цел за периода 2014 – 2020 според СВОМР | C2: Планирани съгласно заявления за подпомагане, одобрени от МИГ за периода на доклада | E2: Планирани съгласно заявления за подпомагане, одобрени от МИГ за периода от подписване на СВОМР | G2: Постигнато за периода на годишния доклад (за изплатени проекти) | I2: Постигнато за периода от подписване на СВОМР (за изплатени проекти)
C3: Мъже | D3: Жени | E3: Мъже | F3: Жени | G3: Мъже | H3: Жени | I3: Мъже | J3: Жени
A4: Работни места, разкрити в резултат от подпомагане на проектите, финансираниот: | B4: 41 | C4: 4 | D4: 5 | E4: 14 | F4: 5 | G4: 4 | H4: 5 | I4: 14 | J4: 5
A5: ЕЗФРСР | B5: 41 | C5: =SUM(C4) -> 4 | D5: =SUM(D4) -> 5 | E5: =SUM(E4) -> 14 | F5: =SUM(F4) -> 5 | G5: =SUM(G4) -> 4 | H5: =SUM(H4) -> 5 | I5: =SUM(I4) -> 14 | J5: =SUM(J4) -> 5
A6: ОПОС
A7: ОПРЧР
A8: ОПИК
A9: ОПНОИР
A10: ПМДР

Sheet Таблица 2
A1: Таблица 2: Брой жители, които ще се ползват от подобрени услуги/ инфраструктура, в резултат от изпълнението на проектите, финансирани от ЕЗФРСР.-2024
A2: Индикатор | B2: Брой съгласно СВОМР | C2: Планиран брой съгласно заявления за подпомагане, одобрени от МИГ за периода на доклада | D2: Планиран брой съгласно заявления за подпомагане, одобрени от МИГ за периода от подписване на СВОМР | E2: Брой съгласно изплатени проекти за периода на доклада | F2: Брой съгласно изплатени проекти за периода от подписване на СВОМР
A3: 1 | B3: 2 | C3: 3 | D3: 4 | E3: 5 | F3: 6
A4: Жители, които ще се ползват от подобрени ИТ услуги/инфраструктура; | B4: 0 | C4: 0 | D4: 0 | E4: 0 | F4: 0
A5: Жители, които ще се ползват от подобрени услуги/инфраструктура, различни от тези, свързани с ИТ. | B5: 10000 | C5: 10000 | D5: 10000 | E5: 10000 | F5: 10000
G7: 1242
G8: 5781
G9: 105
G10: 1244
G11: =SUM(G7:G10) -> 8372

Sheet Таблица-3
A1: Таблица 3: Брой проекти към СВОМР по мерки и по фондове за отчетния период и от сключване на споразумение за изпълнение на СВОМР-2024
A2: МЕРКИ ПО ФОНДОВЕ | B2: Цел за периода 2014 – 2020 | C2: Брой регистрирани заявления от кандидати за одобрение от МИГ | E2: Брой одобрени заявления от МИГ | G2: Брой внесени заявления от МИГ за одобрение от УО/ДФЗ | I2: Брой отказани проикти | J2: Оставащ Брой внесени заявления от МИГ за одобрение от УО/ДФЗ | K2: Брой одобрени заявления от УО/ДФЗ | M2: Брой сключени договори с кандидати | O2: Брой отказани договори от кандидати | P2: Оставащ Брой сключени договори с кандидати | Q2: Процент на одобрение | R2: Брой договори с изплатена субсидия | T2: Процент на изплащане
B3: (брой) | C3: за отч. период | D3: от скл. на спораз. | E3: за отч. период | F3: от скл. на спораз. | G3: за отч. период | H3: от скл. на спораз. | I3: от скл. на спораз. | J3: от скл. на спораз. | K3: за отч. период | L3: от скл. на спораз. | M3: за отч. период | N3: от скл. на спораз. | O3: за отч. период | P3: от скл. на спораз. | Q3: колона 12 разделена на колона 2 | R3: за отч. период | S3: от скл. на спораз. | T3: колона 15 разделена на колона 2
A4: 1 | B4: 2 | C4: 3 | D4: 4 | E4: 5 | F4: 6 | G4: 7 | H4: 8 | I4: 8/1 | J4: 8/2 | K4: 9 | L4: 10 | M4: 11 | N4: 12 | O4: 12/1 | P4: 12/2 | Q4: 13 | R4: 14 | S4: 15 | T4: 16
A5: Мерки, финансирани от ПРСР 2014 - 2020 г. (ЕЗФРСР)
A6: Подмярка 4.1. Подкрепа за инвестиции в земеделски стопанства | B6: 21 | C6: 4 | D6: =24+C6 -> 28 | E6: 4 | F6: =24+E6 -> 28 | G6: 4 | H6: =24+G6 -> 28 | I6: 0 | J6: =H6 -> 28 | K6: 2 | L6: =24+K6 -> 26 | M6: 2 | N6: =24+M6 -> 26 | O6: 4 | P6: =N6-O6 -> 22 | Q6: =N6/B6%/100 -> 1.2380952 | R6: 5 | S6: =16+R6 -> 21 | T6: =S6/B6*100 -> 100
A7: Подмярка 4.2 Инвестиции в преработка/маркетинг на селскостопански продукти | B7: 1 | C7: 0 | D7: =5 -> 5 | E7: 0 | F7: =2 -> 2 | G7: 0 | H7: =2 -> 2 | I7: 0 | J7: 2 | K7: 0 | L7: =2 -> 2 | M7: 0 | N7: 2 | O7: 1 | P7: 1 | Q7: =N7/B7%/100 -> 2 | R7: 1 | S7: =R7 -> 1 | T7: =S7/B7 -> 1
A8: Подмярка 6.4. Инвестиции в подкрепа на неземеделски дейности | B8: 14 | C8: 1 | D8: =18+C8 -> 19 | E8: 1 | F8: =17+E8 -> 18 | G8: 1 | H8: =17+G8 -> 18 | I8: 2 | J8: =H8-I8 -> 16 | K8: 4 | L8: =12+K8 -> 16 | M8: 4 | N8: =11+M8 -> 15 | O8: 0 | P8: =N8-O8 -> 15 | Q8: =N8/B8%/100 -> 1.0714286 | R8: 5 | S8: =7+R8 -> 12 | T8: =S8/B8*100 -> 85.714286
A9: Подмярка 7.2. Инвестиции в създаването, подобряването или разширяването на всички видове малка по мащаби инфраструктура | B9: 10 | C9: 3 | D9: =11+C9 -> 14 | E9: 2 | F9: =11+E9 -> 13 | G9: 2 | H9: =11+G9 -> 13 | I9: 0 | J9: =H9 -> 13 | K9: 2 | L9: =10+K9 -> 12 | M9: 1 | N9: =10+M9 -> 11 | O9: 0 | P9: =N9 -> 11 | Q9: =N9/B9%/100 -> 1.1 | R9: 4 | S9: =6+R9 -> 10 | T9: =S9/B9*100 -> 100
A10: Подмярка 19.7.6. Проучвания и инвестиции, свързани с възстановяване и подобряване на културното и природното наследство | B10: 8 | C10: 0 | D10: =8 -> 8 | E10: 0 | F10: =8 -> 8 | G10: 0 | H10: =8 -> 8 | I10: 0 | J10: 8 | K10: 1 | L10: =7+K10 -> 8 | M10: 1 | N10: =7+M10 -> 8 | O10: 0 | P10: 5 | Q10: =N10/B10%/100 -> 1 | R10: 3 | S10: =2+R10 -> 5 | T10: =S10/B10*100 -> 62.5
A12: Мерки, които не са част от ПРСР 2014 - 2020 г. , но са включени в Регламент (EC) № 1305/2013 (финансирани от ЕЗФРСР)
A13: ………
A14: Мерки, извън обхвата на мерките от Регламент (EC) № 1305/2013, но съответстващи на целите на регламента (финансирани от ЕЗФРСР)
A15: ………
A16: Мерки, финансирани от ОПОС (ЕФРР)
A17: ………
A18: Мерки, финансирани от ОПНОИР (ЕСФ)
A19: ………
A20: Мерки, финансирани от ОПРЧР (ЕСФ)
A21: ………
A22: Мерки, финансирани от ОПИК (ЕФРР)
A23: ………
... A25: ………
A26: Общо: | B26: =SUM(B6:B25) -> 54 | C26: =SUM(C6:C25) -> 8 | D26: =SUM(D6:D25) -> 74 | E26: =SUM(E6:E25) -> 7 | F26: =SUM(F6:F25) -> 69 | G26: =SUM(G6:G25) -> 7 | H26: =SUM(H6:H25) -> 69 | I26: =SUM(I6:I25) -> 2 | ... P26: =SUM(P6:P25) -> 54 | R26: =SUM(R6:R25) -> 18 | S26: =SUM(S6:S25) -> 49 | T26: =S26/B26*100 -> 90.740741

Sheet Лист2
B1: Приоритет и специфични цели | C1: Общо за периода на стратегията | E1: Одобрени от МИГ към 31/12/2021 | G1: Одобрени от ДФЗ към 31/12/2021
C2: лева | D2: % | E2: лева | F2: % | I2: %
A3: Приоритет 1: Насърчаване на местния бизнес за създаване на заетост, доходи и разнообразяване на икономическите дейности | C3: 1845500 | D3: 49 | E3: 1565725.5 | F3: 42 | G3: 1413179.8 | I3: 38
A4: Специфична цел 1.1: | B4: Повишаване на конкурентоспособността на местното земеделие и добавяне на стойност при местните селскостопански продукти | C4: 1060000 | D4: 28 | E4: ='Таблица-8'!F5 -> 2540009.4 | F4: 25 | G4: 787861.4 | I4: 21
B5: Мярка 4.1. и Мярка 4.2.
A6: Специфична цел 1.2: | B6: Подкрепа на предприемачеството за разнообразяване на бизнеса на територията | C6: 785500 | D6: 21 | E6: 632584.21 | F6: 17 | G6: 625318.35 | I6: 17
B7: Мярка 6.4.
A8: Приоритет 2: Развитие на благоприятна жизнена среда за социално приобщаване и общо подобряване на качеството на живот | C8: 1886500 | D8: 51 | E8: 1297181.1 | F8: 35 | G8: 1297181.1 | I8: 35
A9: Специфична цел 2.1: | B9: Подобряване на средата на живот и достъпа до услуги за населението в населените места | C9: 1736500 | D9: 47 | E9: 1149596.6 | F9: 31 | G9: 1149596.6 | I9: 31
B10: Мярка 7.2.
A11: Специфична цел 2.2: | B11: Оползотворяване на местните традиции и наследство за постигане на устойчиви общности | C11: 150000 | D11: 4 | E11: 147584.49 | F11: 4 | G11: 147584.49 | I11: 4
B12: Мярка 19.7.6.
B13: ОБЩО ЗА ЦЯЛАТА СТРАТЕГИЯ | C13: 3732000 | D13: 100 | E13: 2862907 | F13: 77 | G13: 2710361 | I13: 73
A16: [1] В стойностите са включени сключените ДБФП и издадените Заповеди за одобрение от ДФЗ.

Sheet Таблица-4
A1: Таблица 4: Изпълнение на СВОМР по мерки и по фондове през отчетния период в лева-2024 г.
A2: МЕРКИ ПО ФОНДОВЕ | B2: Заявен общ размер на разходите по заявления, подадени в МИГ | C2: Заявена субсидия по заявления, подадени в МИГ | D2: Интензитет на заявената помощ, % | E2: Одобрен общ размер на разходите по проект от МИГ | F2: Субсидия по проектите, одобрени от МИГ | G2: Заявен общ размер на разходите по проект към УО/ДФЗ | H2: Заявена субсидия към УО/ДФЗ | I2: Одобрен общ размер на разходите по проект от УО/ДФЗ | J2: Субсидия по проектите, одобрени от УО/ДФЗ | K2: Изплатена субсидия
A3: 1 | B3: 2 | C3: 3 | D3: 4 | E3: 5 | F3: 6 | G3: 7 | H3: 8 | I3: 9 | J3: 10 | K3: 11
A4: Мерки, финансирани от ПРСР 2014 - 2020 г. (ЕЗФРСР)
A5: Подмярка 4.1. Подкрепа за инвестиции в земеделски стопанства | B5: ='Таблица-13'!D33+'Таблица-13'!D34+'Таблица-13'!D35+'Таблица-13'!D36 -> 251458.34 | C5: ='Таблица-13'!E33+'Таблица-13'!E34+'Таблица-13'!E35+'Таблица-13'!E36 -> 122767.17 | D5: =C5/B5*100 -> 48.822071 | E5: ='Таблица-13'!G33+'Таблица-13'!G34+'Таблица-13'!G35+'Таблица-13'!G36 -> 251458.34 | F5: ='Таблица-13'!H33+'Таблица-13'!H34+'Таблица-13'!H35+'Таблица-13'!H36 -> 122767.17 | G5: ='Таблица-13'!K34+'Таблица-13'!K35 -> 43800 | H5: ='Таблица-13'!L34+'Таблица-13'!L35 -> 21900 | I5: ='Таблица-13'!M34+'Таблица-13'!M35 -> 43800 | J5: ='Таблица-13'!N34+'Таблица-13'!N35 -> 21900 | K5: ='Таблица-13'!O10+'Таблица-13'!O26+'Таблица-13'!O28+'Таблица-13'!O29+'Таблица-13'!O32 -> 235981.16
A6: Подмярка 4.2 Инвестиции в преработка/маркетинг на селскостопански продукти | B6: 0 | C6: 0 | D6: 0 | E6: 0 | F6: 0 | G6: 0 | H6: 0 | I6: 0 | J6: 0 | K6: ='Таблица-13'!O43 -> 25650
A7: Подмярка 6.4. Инвестиции в подкрепа на неземеделски дейности | B7: ='Таблица-13'!D64 -> 42290 | C7: ='Таблица-13'!E64 -> 29603 | D7: =C7/B7*100 -> 70 | E7: ='Таблица-13'!G64 -> 42290 | F7: ='Таблица-13'!H64 -> 29603 | G7: ='Таблица-13'!K64 -> 42290 | H7: =F7 -> 29603 | I7: ='Таблица-13'!M62+'Таблица-13'!M63+'Таблица-13'!M64+'Таблица-13'!M58 -> 375478.3 | J7: ='Таблица-13'!N58+'Таблица-13'!N62+'Таблица-13'!N63+'Таблица-13'!N64 -> 264667.1 | K7: ='Таблица-13'!O55+'Таблица-13'!O57+'Таблица-13'!O59+'Таблица-13'!O61+'Таблица-13'!O62 -> 284741.66
A8: Подмярка 7.2. Инвестиции в създаването, подобряването или разширяването на всички видове малка по мащаби инфраструктура | B8: ='Таблица-13'!D78+'Таблица-13'!D80+'Таблица-13'!D79 -> 180280.34 | C8: ='Таблица-13'!E78+'Таблица-13'!E80+'Таблица-13'!E79 -> 180280.34 | D8: 100 | E8: ='Таблица-13'!G80+'Таблица-13'!G79 -> 120369.58 | F8: =E8 -> 120369.58 | G8: =F8 -> 120369.58 | H8: =G8 -> 120369.58 | I8: ='Таблица-13'!K80 -> 26410 | J8: ='Таблица-13'!L80 -> 26410 | K8: ='Таблица-13'!O73+'Таблица-13'!O74+'Таблица-13'!O75+'Таблица-13'!O76 -> 581251.1
A9: Подмярка 19.7.6. Проучвания и инвестиции, свързани с възстановяване и подобряване на културното и природното наследство | B9: 0 | C9: 0 | D9: 0 | E9: =B9 -> 0 | F9: =C9 -> 0 | G9: =E9 -> 0 | H9: =F9 -> 0 | I9: ='Таблица-13'!M90 -> 30000 | J9: ='Таблица-13'!N90 -> 29760 | K9: ='Таблица-13'!O89+'Таблица-13'!O90 -> 59745
A10: Мерки, които не са част от ПРСР 2014 - 2020 г. , но са включени в Регламент (EC) № 1305/2013 (финансирани от ЕЗФРСР)
A11: ………
A12: Мерки, извън обхвата на мерките от Регламент (EC) № 1305/2013, но съответстващи на целите на регламента (финансирани от ЕЗФРСР)
A13: ………
A14: Мерки, финансирани от ОПОС (ЕФРР)
A15: ………
A16: Мерки, финансирани от ОПНОИР (ЕСФ)
A17: ………
A18: Мерки, финансирани от ОПРЧР (ЕСФ)
A19: ………
A20: Мерки, финансирани от ОПИК (ЕФРР)
A21: ………
... A23: ………
A24: Общо: | B24: =SUM(B4:B23) -> 474028.68 | C24: =SUM(C4:C23) -> 332650.51 | E24: =SUM(E4:E23) -> 414117.92 | F24: =SUM(F4:F23) -> 272739.75 | G24: =SUM(G4:G23) -> 206459.58 | H24: =SUM(H4:H23) -> 171872.58 | I24: =SUM(I4:I23) -> 475688.3 | J24: =SUM(J4:J23) -> 342737.1 | K24: =SUM(K4:K23) -> 1187368.9

Sheet Таблица-5
A1: Таблица 5: Изпълнение на СВОМР по мерки и по фондове от сключване на споразумение за финансиране в лева-2024г.
A2: МЕРКИ ПО ФОНДОВЕ | B2: Одобрен бюджет на субсидията за целия период | C2: Заявен общ размер на разходите по заявления, подадени в МИГ | D2: Заявен общ размер на субсидията по заявления, подадени в МИГ | E2: Одобрен общ размер на разходите по проект от МИГ | F2: Субсидия по проектите, одобрени от МИГ | G2: Заявен общ размер на разходите по проект към УО/ДФЗ | H2: Заявена субсидия към УО/ДФЗ | I2: Одобрен общ размер на разходите по проект от УО/ДФЗ | J2: Субсидия по проектите, одобрени от УО/ДФЗ | K2: Сключени договори | L2: Прекратени | M2: Оставащи сключени договори | N2: ОСТАТЪК | P2: Процент на одобрение | Q2: Изплатена субсидия
N3: колона 2 минус колона 10 | P3: колона 10 разделена на колона 2
A4: 1 | B4: 2 | C4: 3 | D4: 4 | E4: 5 | F4: 6 | G4: 7 | H4: 8 | I4: 9 | J4: 10 | K4: 11 | N4: 12 | P4: 13 | Q4: 14
A5: Мерки, финансирани от ПРСР 2014 - 2020 г. (ЕЗФРСР)
A6: Подмярка 4.1. Подкрепа за инвестиции в земеделски стопанства | B6: ='Таблица-13'!C5 -> 996900 | C6: ='Таблица-13'!D6 -> 2822621.8 | D6: ='Таблица-13'!E6 -> 1368413.8 | E6: ='Таблица-13'!G6 -> 2822621.8 | F6: ='Таблица-13'!H6 -> 1368413.8 | G6: ='Таблица-13'!K6 -> 2614963.5 | H6: ='Таблица-13'!L6 -> 1267546.6 | I6: ='Таблица-13'!M6 -> 2613985.5 | J6: ='Таблица-13'!N6 -> 1267057.7 | K6: ='Таблица-3'!N6 -> 26 | L6: 4 | M6: =K6-L6 -> 22 | N6: 77547.87 | P6: =J6/B6*100 -> 127.09978 | Q6: ='Таблица-13'!O6 -> 996460.41
A7: Подмярка 4.2 Инвестиции в преработка/маркетинг на селскостопански продукти | B7: 25650 | C7: ='Таблица-13'!D37 -> 351868.32 | D7: ='Таблица-13'!E37 -> 175934.19 | E7: ='Таблица-13'!G37 -> 134500 | F7: ='Таблица-13'!H37 -> 67250 | G7: ='Таблица-13'!K37 -> 134500 | H7: ='Таблица-13'!L37 -> 67250 | I7: ='Таблица-13'!M37 -> 134500 | J7: ='Таблица-13'!L37 -> 67250 | K7: ='Таблица-3'!N7 -> 2 | L7: 1 | M7: =K7-L7 -> 1 | N7: 0 | P7: 100 | Q7: ='Таблица-13'!O37 -> 25650
A8: Подмярка 6.4. Инвестиции в подкрепа на неземеделски дейности | B8: ='Таблица-13'!C45 -> 766150 | C8: ='Таблица-13'!D44 -> 1949263 | D8: ='Таблица-13'!E44 -> 1305125.3 | E8: ='Таблица-13'!G44 -> 1687417.9 | F8: ='Таблица-13'!H44 -> 1104345.6 | G8: ='Таблица-13'!K44 -> 1687417.9 | H8: ='Таблица-13'!L44 -> 1104345.6 | I8: ='Таблица-13'!M44 -> 1643705.6 | J8: ='Таблица-13'!N44 -> 1093042.9 | K8: 15 | L8: 1 | M8: =K8-L8 -> 14 | N8: 25712.053 | P8: =J8/B8*100 -> 142.66696 | Q8: ='Таблица-13'!O44 -> 552014.44
A9: Подмярка 7.2. Инвестиции в създаването, подобряването или разширяването на всички видове малка по мащаби инфраструктура | B9: ='Таблица-13'!C66 -> 1801500 | C9: ='Таблица-13'!D65 -> 1991772.1 | D9: ='Таблица-13'!E65 -> 1991772.1 | E9: ='Таблица-13'!G65 -> 1931861.3 | F9: ='Таблица-13'!H65 -> 1931861.3 | G9: ='Таблица-13'!K65 -> 1931861.3 | H9: ='Таблица-13'!L65 -> 1931861.3 | I9: ='Таблица-13'!M65 -> 1882753.8 | J9: ='Таблица-13'!N65 -> 1813506.3 | K9: ='Таблица-3'!N9 -> 11 | L9: 0 | M9: =K9-L9 -> 11 | N9: 62121.76 | P9: =J9/B9*100 -> 100.66646 | Q9: ='Таблица-13'!O65 -> 1675644.9
A10: Подмярка 19.7.6. Проучвания и инвестиции, свързани с възстановяване и подобряване на културното и природното наследство | B10: ='Таблица-13'!C82 -> 141800 | C10: ='Таблица-13'!D81 -> 223356.15 | D10: ='Таблица-13'!E81 -> 223356.15 | E10: ='Таблица-13'!G81 -> 207569.49 | F10: ='Таблица-13'!H81 -> 207569.49 | G10: =E10 -> 207569.49 | H10: =F10 -> 207569.49 | I10: ='Таблица-13'!M81 -> 207569.49 | J10: ='Таблица-13'!N81 -> 207329.49 | K10: ='Таблица-3'!N10 -> 8 | L10: 3 | M10: =K10-L10 -> 5 | N10: 7427 | P10: =J10/B10*100 -> 146.21262 | Q10: ='Таблица-13'!O81 -> 142287
A11: Мерки, които не са част от ПРСР 2014 - 2020 г. , но са включени в Регламент (EC) № 1305/2013 (финансирани от ЕЗФРСР)
A12: ………
A13: Мерки, извън обхвата на мерките от Регламент (EC) № 1305/2013, но съответстващи на целите на регламента (финансирани от ЕЗФРСР)
A14: ………
A15: Мерки, финансирани от ОПОС (ЕФРР)
A16: ………
A17: Мерки, финансирани от ОПНОИР (ЕСФ)
A18: ………
A19: Мерки, финансирани от ОПРЧР (ЕСФ)
A20: ………
A21: Мерки, финансирани от ОПИК (ЕФРР)
A22: ………
... A24: ………
A25: Общо: | B25: =SUM(B6:B24) -> 3732000 | C25: =C6+C7+C8+C9+C10 -> 7338881.3 | D25: =SUM(D6:D24) -> 5064601.5 | E25: =SUM(E6:E24) -> 6783970.5 | F25: =SUM(F6:F24) -> 4679440.2 | G25: =SUM(G6:G24) -> 6576312.1 | H25: =SUM(H6:H24)+0.01 -> 4578573 | I25: =SUM(I6:I24) -> 6482514.4 | J25: =SUM(J6:J24) -> 4448186.4 | K25: =SUM(K6:K24) -> 62 | L25: =SUM(L6:L24) -> 9 | M25: =SUM(M6:M10) -> 53 | N25: =SUM(N6:N24) -> 172808.68 | Q25: =SUM(Q6:Q24) -> 3392056.7

Sheet Таблица-6
A1: Таблица 6: Брой заявления към СВОМР по приоритети от СВОМР-2024г.
A2: ПРИОРИТЕТИ | B2: Цел за периода 2014 – 2020 | C2: Брой регистрирани проекти от кандидати за одобрение от МИГ | E2: Брой одобрени заявления от МИГ | G2: Брой внесени заявления от МИГ за одобрение от УО/ДФЗ | I2: Брой одобрени заявления от УО/ДФЗ | K2: Брой сключени договори с кандидати | M2: Процент на одобрение | N2: Брой договори с изплатена субсидия | P2: Процент на изплащане
B3: (брой) | C3: за отч. период | D3: от скл. на спораз. | E3: за отч. период | F3: от скл. на спораз. | G3: за отч. период | H3: от скл. на спораз. | I3: за отч. период | J3: от скл. на спораз. | K3: за отч. период | L3: от скл. на спораз. | M3: колона 12 разделена на колона 2 | N3: за отч. период | O3: от скл. на спораз. | P3: колона 15 разделена на колона 2
A4: 1 | B4: 2 | C4: 3 | D4: 4 | E4: 5 | F4: 6 | G4: 7 | H4: 8 | I4: 9 | J4: 10 | K4: 11 | L4: 12 | M4: 13 | N4: 14 | O4: 15 | P4: 16
A5: Приоритет 1: Насърчаване на местния бизнес за създаване на заетост, доходи и разнообразяване на икономическите дейности | B5: ='Таблица-3'!B6+'Таблица-3'!B7+'Таблица-3'!B8 -> 36 | C5: ='Таблица-3'!C6+'Таблица-3'!C7+'Таблица-3'!C8 -> 5 | D5: ='Таблица-3'!D6+'Таблица-3'!D7+'Таблица-3'!D8 -> 52 | E5: ='Таблица-3'!E6+'Таблица-3'!E7+'Таблица-3'!E8 -> 5 | F5: ='Таблица-3'!F6+'Таблица-3'!F7+'Таблица-3'!F8 -> 48 | G5: ='Таблица-3'!G6+'Таблица-3'!G7+'Таблица-3'!G8 -> 5 | H5: ='Таблица-3'!H6+'Таблица-3'!H7+'Таблица-3'!H8 -> 48 | I5: ='Таблица-3'!K6+'Таблица-3'!K7+'Таблица-3'!K8 -> 6 | J5: ='Таблица-3'!L6+'Таблица-3'!L7+'Таблица-3'!L8 -> 44 | K5: ='Таблица-3'!M6+'Таблица-3'!M8 -> 6 | L5: 43 | M5: =L5/B5% -> 119.44444 | N5: ='Таблица-3'!R6+'Таблица-3'!R8 -> 10 | O5: ='Таблица-3'!S6+'Таблица-3'!S7+'Таблица-3'!S8 -> 34 | P5: =O5/B5*100 -> 94.444444
A6: Приоритет 2: Развитие на благоприятна жизнена среда за социално приобщаване и общо подобряване на качеството на живот | B6: ='Таблица-3'!B9+'Таблица-3'!B10 -> 18 | C6: ='Таблица-3'!C9+'Таблица-3'!C10 -> 3 | D6: ='Таблица-3'!D9+'Таблица-3'!D10 -> 22 | E6: ='Таблица-3'!E9+'Таблица-3'!E10 -> 2 | F6: ='Таблица-3'!F9+'Таблица-3'!F10 -> 21 | G6: ='Таблица-3'!G9+'Таблица-3'!G10 -> 2 | H6: ='Таблица-3'!H9+'Таблица-3'!H10 -> 21 | I6: ='Таблица-3'!K9+'Таблица-3'!K10 -> 3 | J6: ='Таблица-3'!L9+'Таблица-3'!L10 -> 20 | K6: 2 | L6: ='Таблица-5'!K9+'Таблица-5'!K10 -> 19 | M6: =L6/B6% -> 105.55556 | N6: ='Таблица-3'!R9+'Таблица-3'!R10 -> 7 | O6: ='Таблица-3'!S9+'Таблица-3'!S10 -> 15 | P6: =O6/B6*100 -> 83.333333
A7: Приоритет …
A8: Приоритет …
A9: ………
A10: Общо: | B10: =SUM(B5:B9) -> 54 | C10: =SUM(C5:C9) -> 8 | D10: =SUM(D5:D9) -> 74 | E10: =SUM(E5:E9) -> 7 | F10: =SUM(F5:F9) -> 69 | G10: =SUM(G5:G9) -> 7 | H10: =SUM(H5:H9) -> 69 | I10: =SUM(I5:I9) -> 9 | ... L10: =SUM(L5:L9) -> 62 | M10: =L10/B10% -> 114.81481 | N10: =SUM(N5:N6) -> 17 | O10: =SUM(O5:O9) -> 49 | P10: =O10/B10*100 -> 90.740741

Sheet Таблица-7
A1: Таблица 7: Изпълнение на СВОМР по приоритети от СВОМР в лева през отчетния период в лева-2024г.
A2: ПРИОРИТЕТИ | B2: Заявен общ размер на разходите по заявления, подадени в МИГ | C2: Заявена субсидия по проекти към МИГ | D2: Интензитет на заявената помощ | E2: Одобрен общ размер на разходите по проект от МИГ | F2: Субсидия по проектите, одобрени от МИГ | G2: Заявен общ размер на разходите по проект към УО/ДФЗ | H2: Заявена субсидия към УО/ДФЗ | I2: Одобрен общ размер на разходите по проект от УО/ДФЗ | J2: Субсидия по проектите, одобрени от УО/ДФЗ | K2: Изплатена субсидия
A3: 1 | B3: 2 | C3: 3 | D3: 4 | E3: 5 | F3: 6 | G3: 7 | H3: 8 | I3: 9 | J3: 10 | K3: 11
A4: Приоритет 1: Насърчаване на местния бизнес за създаване на заетост, доходи и разнообразяване на икономическите дейности | B4: ='Таблица-4'!B5+'Таблица-4'!B6+'Таблица-4'!B7 -> 293748.34 | C4: ='Таблица-4'!C5+'Таблица-4'!C6+'Таблица-4'!C7 -> 152370.17 | D4: =C4/B4*100 -> 51.870989 | E4: ='Таблица-4'!E5+'Таблица-4'!E6+'Таблица-4'!E7 -> 293748.34 | F4: ='Таблица-4'!F5+'Таблица-4'!F6+'Таблица-4'!F7 -> 152370.17 | G4: ='Таблица-4'!G5+'Таблица-4'!G6+'Таблица-4'!G7 -> 86090 | H4: ='Таблица-4'!H5+'Таблица-4'!H6+'Таблица-4'!H7 -> 51503 | I4: ='Таблица-4'!I5+'Таблица-4'!I6+'Таблица-4'!I7 -> 419278.3 | J4: ='Таблица-4'!J5+'Таблица-4'!J6+'Таблица-4'!J7 -> 286567.1 | K4: ='Таблица-4'!K5+'Таблица-4'!K6+'Таблица-4'!K7 -> 546372.82
A5: Приоритет 2: Развитие на благоприятна жизнена среда за социално приобщаване и общо подобряване на качеството на живот | B5: ='Таблица-4'!B8+'Таблица-4'!B9 -> 180280.34 | C5: ='Таблица-4'!C8+'Таблица-4'!C9 -> 180280.34 | D5: =C5/B5*100 -> 100 | E5: ='Таблица-4'!E8+'Таблица-4'!E9 -> 120369.58 | F5: ='Таблица-4'!F8+'Таблица-4'!F9 -> 120369.58 | G5: ='Таблица-4'!G8+'Таблица-4'!G9 -> 120369.58 | H5: ='Таблица-4'!H8+'Таблица-4'!H9 -> 120369.58 | I5: ='Таблица-4'!I8+'Таблица-4'!I9 -> 56410 | J5: ='Таблица-4'!J8+'Таблица-4'!J9 -> 56170 | K5: ='Таблица-4'!K8+'Таблица-4'!K9 -> 640996.1
A6: Приоритет …
A7: Приоритет …
A8: ………
A9: Общо: | B9: =SUM(B4:B8) -> 474028.68 | C9: =SUM(C4:C8) -> 332650.51 | D9: =C9/B9*100 -> 70.175186 | E9: =SUM(E4:E8) -> 414117.92 | F9: =SUM(F4:F8) -> 272739.75 | G9: =SUM(G4:G8) -> 206459.58 | H9: =SUM(H4:H8) -> 171872.58 | I9: =SUM(I4:I8) -> 475688.3 | J9: =SUM(J4:J8) -> 342737.1 | K9: =SUM(K4:K8) -> 1187368.9

Sheet Таблица-8
A1: Таблица 8: Изпълнение на СВОМР по приоритети от СВОМР от сключване на споразумение за финансиране в лева-2024 г.
A2: ПРИОРИТЕТИ | B2: Одобрен бюджет на субсидията за целия период | C2: Заявен общ размер на разходите по заявления, подадени в МИГ | D2: Заявен общ размер на разходите по заявления, подадени в МИГ | E2: Одобрен общ размер на разходите по проект от МИГ | F2: Субсидия по проектите, одобрени от МИГ | G2: Заявен общ размер на разходите по проект към УО/ДФЗ | H2: Заявена субсидия към УО/ДФЗ | I2: Одобрен общ размер на разходите по проект от УО/ДФЗ | J2: Субсидия по проектите, одобрени от УО/ДФЗ | K2: Сключени договори | L2: ОСТАТЪК | M2: Процент на одобрение | N2: Изплатена субсидия
L3: колона 2 минус колона 10 | M3: колона 10 разделена на колона 2
A4: 1 | B4: 2 | C4: 3 | D4: 4 | E4: 5 | F4: 6 | G4: 7 | H4: 8 | I4: 9 | J4: 10 | K4: 11 | L4: 12 | M4: 13 | N4: 14
A5: Приоритет 1: Насърчаване на местния бизнес за създаване на заетост, доходи и разнообразяване на икономическите дейности | B5: ='Таблица-5'!B6+'Таблица-5'!B7+'Таблица-5'!B8 -> 1788700 | C5: ='Таблица-5'!C6+'Таблица-5'!C7+'Таблица-5'!C8 -> 5123753.1 | D5: ='Таблица-5'!D6+'Таблица-5'!D7+'Таблица-5'!D8 -> 2849473.3 | E5: ='Таблица-5'!E6+'Таблица-5'!E7+'Таблица-5'!E8 -> 4644539.7 | F5: ='Таблица-5'!F6+'Таблица-5'!F7+'Таблица-5'!F8 -> 2540009.4 | G5: ='Таблица-5'!G6+'Таблица-5'!G7+'Таблица-5'!G8 -> 4436881.3 | H5: ='Таблица-5'!H6+'Таблица-5'!H7+'Таблица-5'!H8+0.01 -> 2439142.2 | I5: ='Таблица-5'!I6+'Таблица-5'!I7+'Таблица-5'!I8 -> 4392191.2 | J5: ='Таблица-5'!J6+'Таблица-5'!J7+'Таблица-5'!J8 -> 2427350.6 | K5: ='Таблица-5'!K6+'Таблица-5'!K7+'Таблица-5'!K8 -> 43 | L5: ='Таблица-5'!N6+'Таблица-5'!N8 -> 103259.92 | M5: =J5/B5*100 -> 135.70474 | N5: ='Таблица-5'!Q6+'Таблица-5'!Q7+'Таблица-5'!Q8 -> 1574124.8
A6: Приоритет 2: Развитие на благоприятна жизнена среда за социално приобщаване и общо подобряване на качеството на живот | B6: ='Таблица-5'!B9+'Таблица-5'!B10 -> 1943300 | C6: ='Таблица-5'!C9+'Таблица-5'!C10 -> 2215128.2 | D6: ='Таблица-5'!D9+'Таблица-5'!D10 -> 2215128.2 | E6: ='Таблица-5'!E9+'Таблица-5'!E10 -> 2139430.8 | F6: ='Таблица-5'!F9+'Таблица-5'!F10 -> 2139430.8 | G6: ='Таблица-5'!G9+'Таблица-5'!G10 -> 2139430.8 | H6: ='Таблица-5'!H9+'Таблица-5'!H10 -> 2139430.8 | I6: ='Таблица-5'!I9+'Таблица-5'!I10 -> 2090323.3 | ... K6: ='Таблица-5'!K9+'Таблица-5'!K10 -> 19 | L6: ='Таблица-5'!N9+'Таблица-5'!N10 -> 69548.76 | M6: =J6/B6*100 -> 103.9899 | N6: ='Таблица-5'!Q9+'Таблица-5'!Q10 -> 1817931.9
A7: Приоритет…
A8: Приоритет…
A9: ……
A10: Общо: | B10: =SUM(B5:B9) -> 3732000 | C10: =SUM(C5:C9) -> 7338881.3 | D10: =SUM(D5:D9) -> 5064601.5 | E10: =SUM(E5:E9) -> 6783970.5 | F10: =SUM(F5:F9) -> 4679440.2 | G10: =SUM(G5:G9) -> 6576312.1 | H10: =SUM(H5:H9) -> 4578573 | I10: =SUM(I5:I9) -> 6482514.4 | ... L10: =SUM(L5:L9) -> 172808.68 | M10: =J10/B10*100 -> 119.19042 | N10: =SUM(N5:N9) -> 3392056.7

Sheet Таблица-9
A1: Таблица 9: Изпълнение на СВОМР по приоритети на съюза за развитие на селските райони
A2: Приоритетина съюза за развитие на селските райони | B2: Области с поставен акцент, за които в най-голяма степен допринасят проектите | D2: Брой одобрени заявления от МИГ | E2: Брой одобрени заявления от ДФЗ | F2: Брой изплатениз аявления отДФЗ | G2: Субсидия по проектите, одобрени от МИГ в лв. | H2: Субсидия по проектите, одобрени от ДФЗ в лв. | I2: Изплатена субсидия в лв.
A3: 1 | B3: 2 | D3: 3 | E3: 4 | F3: 5 | G3: 6 | H3: 7 | I3: 8
A4: Стимулиране на трансфера на знания и иновациите в областта на селското и горското стопанство и селските райони с акцент върху следните области: | B4: 1А | C4: Стимулиране на иновациите, сътрудничеството и развитието на базата от знания в селските райони;
B5: 1B | C5: Укрепване на връзките между селското стопанство, производството на храни, горското стопанство и научноизследователската дейност и иновациите, включително с цел подобряване на екологичното управление и екологичните показатели;
B6: 1C | C6: Поощряване на ученето през целия живот и професионалното обучение в секторите на селското и горското стопанство;
A7: Повишаване на жизнеспособността на земеделските стопанства и конкурентоспособността на всички видове селскостопанска дейност във всички региони и насърчаване на новаторските технологии в селското стопанство и устойчивото управление на горите, с акцент върху следните области: | B7: 2A | C7: Подобряване на икономическите резултати на всички земеделски стопанства и улесняване на преструктурирането и модернизирането на стопанствата, особено с оглед на увеличаването на пазарното участие и ориентация и на разнообразяването в селското стопанство; | D7: ='Таблица-6'!F5 -> 48 | E7: ='Таблица-6'!L5 -> 43 | F7: ='Таблица-6'!O5 -> 34 | G7: ='Таблица-5'!F6+'Таблица-5'!F7+'Таблица-5'!F8 -> 2540009.4 | H7: ='Таблица-5'!J6+'Таблица-5'!J7+'Таблица-5'!J8 -> 2427350.6 | I7: ='Таблица-5'!Q6+'Таблица-5'!Q7+'Таблица-5'!Q8 -> 1574124.8
B8: 2B | C8: Улесняване на навлизането на земеделски стопани с подходяща квалификация в селскостопанския сектор, и по-специално приемствеността между поколенията;
A9: насърчаване на организацията на хранителната верига, включително преработката и предлагането на пазара на селскостопански продукти,на хуманното отношение към животните и управлението на риска в селското стопанство с акцент върху следните области: | B9: 3A | C9: Подобряване на конкурентоспособността на първичните производители чрез по-доброто им интегриране в селскостопанската и хранителната верига посредством схеми за качество, които да добавят стойност към селскостопанските продукти, популяризиране на местните пазари и къси вериги на доставки, групи на производителите и организации и междубраншови организации;
B10: 3B | C10: Подпомагане на превенцията и управлението на риска на стопанствата;
A11: Възстановяване, опазване и укрепване на екосистемите, свързани със селското и горското стопанство, с акцент върху следните области: | B11: 4A | C11: Възстановяване, опазване и укрепване на биологичното разнообразие, включително в зони по „Натура 2000“ и в зони с природни или други специфични ограничения и земеделие с висока природна стойност, както и на състоянието на европейските ландшафти;
B12: 4B | C12: Подобряване управлението на водите, включително управлението на торовете и пестицидите;
B13: 4C | C13: Предотвратяване на ерозията на почвите и подобряване на управлението им;
A14: Насърчаване на ефективното използване на ресурсите и подпомагане на прехода към нисковъглеродна и устойчива на изменението на климата икономика в селското стопанство, сектора на храните и горското стопанство, с акцент върху следните области: | B14: 5A | C14: Повишаване на ефективността при потреблението на вода в селското стопанство;
B15: 5B | C15: Повишаване на ефективността при потреблението на енергия в селското стопанство и хранително-вкусовата промишленост;
B16: 5C | C16: Улесняване на доставките и използването на възобновяеми източници на енергия, на странични продукти, отпадъци и остатъци, и други нехранителни суровини за целите на биоикономиката;
B17: 5D | C17: Намаляване на емисиите на парникови газове и амоняк от селското стопанство;
B18: 5E | C18: Стимулиране на съхраняването и поглъщането на въглерода в сектора на селското и горското стопанство;
A19: Насърчаване на социалното приобщаване, намаляването на бедността и икономическото развитие в селските райони, с акцент върху следните области: | B19: 6A | C19: Улесняване на разнообразяването, създаването и развитието на малки предприятия, както и разкриването на работни места;
B20: 6B | C20: Стимулиране на местното развитие в селските райони; | D20: ='Таблица-3'!F9+'Таблица-3'!F10 -> 21 | E20: ='Таблица-3'!L9+'Таблица-3'!L10 -> 20 | F20: ='Таблица-3'!S9+'Таблица-3'!S10 -> 15 | G20: ='Таблица-5'!F9+'Таблица-5'!F10 -> 2139430.8 | H20: ='Таблица-5'!I9+'Таблица-5'!I10 -> 2090323.3 | I20: ='Таблица-5'!Q9+'Таблица-5'!Q10 -> 1817931.9
B21: 6C | C21: Подобряване на достъпа до информационни и комуникационни технологии (ИКТ), използването и качеството им в селските райони;
B22: FA | C22: Друга област
D23: =SUM(D4:D22) -> 69 | E23: =SUM(E4:E22) -> 63 | F23: =SUM(F4:F22) -> 49 | G23: =SUM(G4:G22) -> 4679440.2 | H23: =SUM(H4:H22) -> 4517673.9 | I23: =SUM(I4:I22) -> 3392056.7

Sheet Таблица-10
A1: Таблица 10: Приоритети на съюза за развитие на селските райони по мерки финансирани от ЕЗФРСР
A2: Мярка | B2: Приоритет | D2: Област | F2: Индикатор | G2: Брой/ | H2: Брой/
G3: Площ/ | H3: Площ/
G4: Размер за проекти, одобрени от ДФЗ за периода на доклада | H4: Размер за проекти, изплатени от ДФЗ за периода на доклада
A5: 1 | B5: 2 | C5: 3 | D5: 4 | E5: 5 | F5: 6 | G5: 7
A6: За мярката за сътрудничество (член 35 от Регламент (ЕС) № 1305/2013, където е приложимо | B6: P1 | C6: Стимулиране на трансфера на знания и иновациите в областта на селското и горското стопанство и селските райони | D6: 1B | E6: Укрепване на връзките между селското стопанство, производството на храни, горското стопанство и научноизследователската дейност и иновациите, включително с цел подобряване на екологичното управление и екологичните показатели | F6: Проекти за сътрудничество по мярката за сътрудничество (член 35 от Регламент (ЕС) № 1305/2013 | G6: 0 | H6: 0
A7: За мярка 1.1 и др. подобни, включени в стратегията за ВОМР | B7: P1 | C7: Стимулиране на трансфера на знания и иновациите в областта на селското и горското стопанство и селските райони | D7: 1C | E7: Поощряване на ученето през целия живот и професионалното обучение в секторите на селското и горското стопанство | F7: Брой на участниците в обучения | G7: 0 | H7: 0
A8: За мерки 3.1, 4.1, 5, 6, 8.1 до 8.4, 17.1 и др. подобни на тях, включени в стратегията за ВОМР | B8: P2 | C8: Подобряване на жизнеспособността на стопанствата и конкурентоспособността на всички видове земеделие във всички региони; насърчаване на новаторски селскостопански технологии и устойчивото управление на горите | D8: 2A | E8: Подобряване на икономическите резултати на всички земеделски стопанства и улесняване на преструктурирането и модернизирането на стопанствата, особено с оглед на увеличаването на пазарното участие и ориентация и на разнообразяването в селското стопанство | F8: Брой на стопанствата/ бенефициентите, получаващи подкрепа | G8: ='Таблица-3'!N26 -> 62 | H8: ='Таблица-3'!S26 -> 49
B9: P2 | C9: Подобряване на жизнеспособността на стопанствата и конкурентоспособността на всички видове земеделие във всички региони; насърчаване на новаторски селскостопански технологии и устойчивото управление на горите | D9: 2B | E9: Улесняване на навлизането на земеделски стопани с подходяща квалификация в селскостопанския сектор, и по-специално приемствеността между поколенията | F9: Брой на стопанствата/ бенефициентите, получаващи подкрепа | G9: 0 | H9: 0
B10: P3 | C10: Насърчаване на добро организиране на хранителната верига, в т.ч. преработката и търговията със селскостопански продукти, хуманното отношение към животните и управлението на риска в селското стопанство | D10: 3A | E10: Подобряване на конкурентоспособността на първичните производители чрез по-доброто им интегриране в селскостопанската и хранителната верига посредством схеми за качество, които да добавят стойност към селскостопанските продукти, популяризиране на местните пазари и къси вериги на доставки, групи на производителите и организации и междубраншови организации | F10: Брой на стопанствата/ бенефициентите, получаващи подкрепа | G10: 0 | H10: 0
B11: P3 | C11: Насърчаване на добро организиране на хранителната верига, в т.ч. преработката и търговията със селскостопански продукти, хуманното отношение към животните и управлението на риска в селското стопанство | D11: 3B | E11: Подпомагане на превенцията и управлението на риска на стопанствата | F11: Брой на стопанствата/ бенефициентите, получаващи подкрепа | G11: 0 | H11: 0
A12: За мерки 4, 8.1 до 8.5, 15.1 и др. подобни на тях, включени в стратегията за ВОМР | B12: P4 | C12: Възстановяване, опазване и укрепване на екосистемите, свързани със селското и горското стопанство | D12: 4A | E12: Възстановяване, опазване и укрепване на биологичното разнообразие, включително в зони по „Натура 2000“ и в зони с природни или други специфични ограничения и земеделие с висока природна стойност, както и на състоянието на европейските ландшафти (За земеделие и развитие на селските райони) | F12: Обща подпомогната площ (ха) | G12: 0 | H12: 0
B13: P4 | C13: Възстановяване, опазване и укрепване на екосистемите, свързани със селското и горското стопанство | D13: 4A | E13: Възстановяване, опазване и укрепване на биологичното разнообразие, включително в зони по „Натура 2000“ и в зони с природни или други специфични ограничения и земеделие с висока природна стойност, както и на състоянието на европейските ландшафти (За горско стопанство) | F13: Обща подпомогната площ (ха) | G13: 0 | H13: 0
B14: P4 | C14: Възстановяване, опазване и укрепване на екосистемите, свързани със селското и горското стопанство | D14: 4B | E14: Подобряване управлението на водите, включително управлението на торовете и пестицидите (За земеделие и развитие на селските райони) | F14: Обща подпомогната площ (ха) | G14: 0 | H14: 0
B15: P4 | C15: Възстановяване, опазване и укрепване на екосистемите, свързани със селското и горското стопанство | D15: 4B | E15: Подобряване управлението на водите, включително управлението на торовете и пестицидите (За горско стопанство) | F15: Обща подпомогната площ (ха) | G15: 0 | H15: 0
B16: P4 | C16: Възстановяване, опазване и укрепване на екосистемите, свързани със селското и горското стопанство | D16: 4C | E16: Предотвратяване на ерозията на почвите и подобряване на управлението им (За земеделие и развитие на селските райони) | F16: Обща подпомогната площ (ха) | G16: 0 | H16: 0
B17: P4 | C17: Възстановяване, опазване и укрепване на екосистемите, свързани със селското и горското стопанство | D17: 4C | E17: Предотвратяване на ерозията на почвите и подобряване на управлението им (За горско стопанство) | F17: Обща подпомогната площ (ха) | G17: 0 | H17: 0
B18: P5 | C18: Насърчаване на ефективното използване на ресурсите и подпомагане на прехода към нисковъглеродна и устойчива на изменението на климата икономика в селското стопанство, сектора на храните и горското стопанство | D18: 5A | E18: Повишаване на ефективността при потреблението на вода в селското стопанство | F18: Обща подпомогната площ (ха) | G18: 0 | H18: 0
F19: (Отнася се за площта, обхваната от инвестиции за напояване) | G19: 0 | H19: 0
A20: За мерки 4, 5, 6.4, 7.2 до 7.8, 8.5 и 8.6 и др. инвестиционни мерки, включени в стратегията за ВОМР | B20: P5 | C20: Насърчаване на ефективното използване на ресурсите и подпомагане на прехода към нисковъглеродна и устойчива на изменението на климата икономика в селското стопанство, сектора на храните и горското стопанство | D20: 5B | E20: Повишаване на ефективността при потреблението на енергия в селското стопанство и хранително-вкусовата промишленост | F20: Общ размер на инвестициите | G20: 0 | H20: 0
F21: (Сума от всички допустими инвестиционни разходи - публични и частни) | G21: 0 | H21: 0
B22: P5 | C22: Насърчаване на ефективното използване на ресурсите и подпомагане на прехода към нисковъглеродна и устойчива на изменението на климата икономика в селското стопанство, сектора на храните и горското стопанство | D22: 5C | E22: Улесняване на доставките и използването на възобновяеми източници на енергия, на странични продукти, отпадъци и остатъци, и други нехранителни суровини за целите на биоикономиката | F22: Общ размер на инвестициите | G22: 0 | H22: 0
F23: (Сума от всички допустими инвестиционни разходи - публични и частни) | G23: 0 | H23: 0
A24: За мерки 4, 8.1 до 8.5, 15.1 и др. подобни на тях, включени в стратегията за ВОМР | B24: P5 | C24: Насърчаване на ефективното използване на ресурсите и подпомагане на прехода към нисковъглеродна и устойчива на изменението на климата икономика в селското стопанство, сектора на храните и горското стопанство | D24: 5D | E24: Намаляване на емисиите на парникови газове и амоняк от селското стопанство | F24: Обща площ (ха) | G24: 0 | H24: 0
A25: За мярка 4 и др. подобни, включени в стратегията за ВОМР | B25: P5 | C25: Насърчаване на ефективното използване на ресурсите и подпомагане на прехода към нисковъглеродна и устойчива на изменението на климата икономика в селското стопанство, сектора на храните и горското стопанство | D25: 5D | E25: Намаляване на емисиите на парникови газове и амоняк от селското стопанство | F25: Брой на подпомаганите животински единици (ЖЕ) | G25: 0 | H25: 0
A26: За мерки 4, 8.1 до 8.5, 15.1 и др. подобни на тях, включени в стратегията за ВОМР | B26: P5 | C26: Насърчаване на ефективното използване на ресурсите и подпомагане на прехода към нисковъглеродна и устойчива на изменението на климата икономика в селското стопанство, сектора на храните и горското стопанство | D26: 5E | E26: Стимулиране на съхраняването и поглъщането на въглерода в сектора на селското и горското стопанство | F26: Обща площ (ха) | G26: 0 | H26: 0

Sheet Таблица-11
A1: Таблица 11:Брой проекти към СВОМР по типове кандидати/получатели и по фондове-2024
A2: ТИПОВЕ КАНДИДАТИ/ ПОЛУЧАТЕЛИ | B2: Цел за периода 2014 – 2020 | C2: Брой регистрирани заявления от кандидати за одобрение от МИГ | E2: Брой одобрени заявления от МИГ | G2: Брой внесени заявления от МИГ за одобрение от УО/ДФЗ | I2: Брой одобрени заявления от УО/ДФЗ | K2: Брой сключени договори с кандидати | M2: Процент на одобрение | N2: Брой договори с изплатена субсидия | P2: Процент на изплащане
B3: (брой) | C3: за отч. период | D3: от скл. на спораз. | E3: за отч. период | F3: от скл. на спораз. | G3: за отч. период | H3: от скл. на спораз. | I3: за отч. период | J3: от скл. на спораз. | K3: за отч. период | L3: от скл. на спораз. | M3: колона 12 разделена на колона 2 | N3: за отч. период | O3: от скл. на спораз. | P3: колона 15 разделена на колона 2
A4: 1 | B4: 2 | C4: 3 | D4: 4 | E4: 5 | F4: 6 | G4: 7 | H4: 8 | I4: 9 | J4: 10 | K4: 11 | L4: 12 | M4: 13 | N4: 14 | O4: 15 | P4: 16
A5: от ЕЗФРСР
A6: ПУБЛИЧНИ
A7: МИГ | B7: 0
A8: Публичен орган/община | B8: 18 | C8: 3 | D8: =18+C8 -> 21 | E8: 2 | F8: 20 | G8: 2 | H8: 20 | I8: 2 | J8: 19 | K8: 1 | L8: 18 | M8: =L8/B8% -> 100 | N8: 6 | O8: 14 | P8: =O8/B8*100 -> 77.777778
A9: НПО | C9: 0 | D9: 1 | E9: 0 | F9: 1 | G9: 0 | H9: 1 | I9: 0 | J9: 1 | K9: 0 | L9: 1 | N9: 1 | O9: 1
A10: други | G10: =E10 -> 0
A11: ЧАСТНИ | G11: =E11 -> 0
A12: Малко или средно предприятие
A13: Микропредприятие(Моля, отбележете и юридическата форма) | B13: 36 | M13: =(L14+L15+L17+L18)/B13*100 -> 119.44444 | P13: =(O14+O15+O18)/B13*100 -> 83.333333
A14: Физическо лице-ЗП | C14: 3 | D14: 24 | E14: 3 | F14: 24 | G14: 3 | H14: 24 | I14: 3 | J14: 23 | K14: 2 | L14: 23 | N14: 5 | O14: 22 | P14: 0
A15: ЕТ | C15: 0 | D15: 2 | E15: 0 | F15: 2 | G15: =E15 -> 0 | H15: 2 | I15: 0 | J15: 2 | K15: 0 | L15: 2 | N15: 1 | O15: 2
A16: Лице, регистрирано по ТЗ | G16: =E16 -> 0
A17: ООД | C17: 0 | D17: 10 | E17: 0 | F17: 7 | G17: 0 | H17: 7 | I17: 0 | J17: 7 | K17: 2 | L17: 6 | M17: 0 | N17: 1 | O17: 4
A18: ЕООД | C18: 2 | D18: 16 | E18: 2 | F18: 15 | G18: 2 | H18: 15 | I18: 4 | J18: 12 | K18: 3 | L18: 12 | M18: 0 | N18: 4 | O18: 6
A19: Друго(ако е приложимо) | G19: =E19 -> 0
A20: Общо от ЕЗФРСР: | B20: =SUM(B7:B19) -> 54 | C20: =SUM(C7:C19) -> 8 | D20: =SUM(D7:D19) -> 74 | E20: =SUM(E7:E19) -> 7 | F20: =SUM(F7:F19) -> 69 | G20: =SUM(G7:G19) -> 7 | H20: =SUM(H7:H19) -> 69 | I20: =SUM(I7:I19) -> 9 | ... L20: =SUM(L7:L19) -> 62 | M20: =L20/B20% -> 114.81481 | N20: =SUM(N7:N19) -> 18 | O20: =SUM(O7:O19) -> 49 | P20: =O20/B20*100 -> 90.740741
A22: от ОПОС
A23: Добавят се редове за съответните типове кандидати/получатели
A24: Общо от ОПОС
A26: от ОПНОИР
A27: Добавят се редове за съответните типове кандидати/получатели
A28: Общо от ОПНОИР
A30: от ОПРЧР
A31: Добавят се редове за съответните типове кандидати/получатели
A32: Общо от ОПРЧР
A34: от ОПИК
A35: Добавят се редове за съответните типове кандидати/получатели
A36: Общо от ОПИК
... A40: Общо от ПМДР
A41: ОБЩО: | B41: =B20 -> 54 | C41: =C20 -> 8 | D41: =D20 -> 74 | E41: =E20 -> 7 | F41: =F20 -> 69 | G41: =G20 -> 7 | H41: =H20 -> 69 | I41: =I20 -> 9 | ... P41: =P20 -> 90.740741

Sheet Таблица-12
A1: Таблица 12: Изпълнение на СВОМР по типове кандидати/ получателии по фондове от сключване на споразумение за финансиране в лева
A2: ТИПОВЕ КАНДИДАТИ/ ПОЛУЧАТЕЛИ | B2: Одобрен бюджет на субсидията за целия период | C2: Заявен общ размер на разходите по заявления подадени в МИГ | D2: Заявен общ размер на субсидиите по заявления, подадени в МИГ | F2: Одобрен общ размер на разходите по проект от МИГ | G2: Субсидия по проектите, одобрени от МИГ | J2: Заявен общ размер на разходите по проект към УО/ДФЗ | K2: Заявена субсидия към УО/ДФЗ | L2: Одобрен общ размер на разходите по проект от УО/ДФЗ | M2: Субсидия по проектите, одобрени от УО/ДФЗ | O2: Сключени договори | P2: ОСТАТЪК | Q2: Процент на одобрение | R2: Изплатена субсидия
P3: колона 2 минус колона 10 | Q3: колона 10 разделена на колона 2
A4: 1 | B4: 2 | C4: 3 | D4: 4 | F4: 5 | G4: 6 | J4: 7 | K4: 8 | L4: 9 | M4: 10 | O4: 11 | P4: 12 | Q4: 13 | R4: 14
A5: от ЕЗФРСР
A6: ПУБЛИЧНИ | B6: ='Таблица-13'!C66+'Таблица-13'!C82 -> 1943300 | C6: =SUM(C8:C9) -> 2215128.2 | D6: =SUM(D8:D9) -> 2215128.2 | F6: =SUM(F8:F9) -> 2139430.8 | G6: =SUM(G8:G9) -> 2139430.8 | J6: =SUM(J8:J9) -> 2139430.8 | K6: =SUM(K8:K9) -> 2139430.8 | L6: =SUM(L8:L9) -> 2090323.3 | M6: =SUM(M8:M9) -> 2020835.8 | N6: =SUM(N8:N9) -> 1817931.9 | O6: =SUM(O8:O9) -> 18 | P6: ='Таблица-5'!N9+'Таблица-5'!N10 -> 69548.76 | Q6: =M6/B6% -> 103.9899 | R6: =SUM(R8:R9) -> 1817931.9
A7: МИГ
A8: Публичен орган/община | C8: ='Таблица-13'!D65+'Таблица-13'!D84+'Таблица-13'!D85+'Таблица-13'!D86+'Таблица-13'!D87+'Таблица-13'!D88+'Таблица-13'!D89+'Таблица-13'!D90 -> 2185830.2 | D8: ='Таблица-13'!E65+'Таблица-13'!E84+'Таблица-13'!E85+'Таблица-13'!E86+'Таблица-13'!E87+'Таблица-13'!E88+'Таблица-13'!E89+'Таблица-13'!E90 -> 2185830.2 | E8: ='Таблица-13'!F65+'Таблица-13'!F84+'Таблица-13'!F85+'Таблица-13'!F86+'Таблица-13'!F87+'Таблица-13'!F88+'Таблица-13'!F89+'Таблица-13'!F90 -> 21 | F8: ='Таблица-13'!G65+'Таблица-13'!G84+'Таблица-13'!G85+'Таблица-13'!G86+'Таблица-13'!G87+'Таблица-13'!G88+'Таблица-13'!G89+'Таблица-13'!G90 -> 2110132.8 | G8: ='Таблица-13'!H65+'Таблица-13'!H84+'Таблица-13'!H85+'Таблица-13'!H86+'Таблица-13'!H87+'Таблица-13'!H88+'Таблица-13'!H89+'Таблица-13'!H90 -> 2110132.8 | J8: ='Таблица-13'!K65+'Таблица-13'!K84+'Таблица-13'!K85+'Таблица-13'!K86+'Таблица-13'!K87+'Таблица-13'!K88+'Таблица-13'!K89+'Таблица-13'!K90 -> 2110132.8 | K8: ='Таблица-13'!L65+'Таблица-13'!L84+'Таблица-13'!L85+'Таблица-13'!L86+'Таблица-13'!L87+'Таблица-13'!L88+'Таблица-13'!L89+'Таблица-13'!L90 -> 2110132.8 | L8: ='Таблица-13'!M65+'Таблица-13'!M84+'Таблица-13'!M85+'Таблица-13'!M86+'Таблица-13'!M87+'Таблица-13'!M88+'Таблица-13'!M89+'Таблица-13'!M90 -> 2061025.3 | M8: ='Таблица-13'!N65+'Таблица-13'!N84+'Таблица-13'!N85+'Таблица-13'!N86+'Таблица-13'!N87+'Таблица-13'!N88+'Таблица-13'!N89+'Таблица-13'!N90 -> 1991537.8 | N8: ='Таблица-13'!O65+'Таблица-13'!O84+'Таблица-13'!O85+'Таблица-13'!O86+'Таблица-13'!O87+'Таблица-13'!O88+'Таблица-13'!O89+'Таблица-13'!O90 -> 1788633.9 | O8: 17 | R8: =N8 -> 1788633.9
A9: НПО | C9: ='Таблица-13'!D83 -> 29298 | D9: ='Таблица-13'!E83 -> 29298 | E9: ='Таблица-13'!F83 -> 1 | F9: ='Таблица-13'!G83 -> 29298 | G9: ='Таблица-13'!H83 -> 29298 | J9: ='Таблица-13'!K83 -> 29298 | K9: ='Таблица-13'!L83 -> 29298 | L9: ='Таблица-13'!M83 -> 29298 | M9: ='Таблица-13'!N83 -> 29298 | N9: ='Таблица-13'!O83 -> 29298 | O9: 1 | R9: =N9 -> 29298
A10: други
A11: ЧАСТНИ
A12: Малко или средно предприятие
A13: Микропредприятие(Моля, отбележете и юридическата форма) | B13: ='Таблица-13'!C5+'Таблица-13'!C38+'Таблица-13'!C45 -> 1788700 | C13: =C14+C15+C16+C17 -> 5123753.1 | D13: =D14+D15+D16+D17 -> 2849473.3 | F13: =F14+F15+F16+F17 -> 4644539.7 | G13: =G14+G15+G16+G17 -> 2540009.4 | J13: =J14+J15+J16+J17 -> 4436881.3 | K13: =K14+K15+K16+K17 -> 2439142.2 | L13: =L14+L15+L16+L17 -> 4392191.2 | M13: =M14+M15+M16+M17 -> 2427350.6 | N13: =N14+N15+N16+N17 -> 1574124.8 | O13: =O14+O15+O16+O17 -> 44 | P13: ='Таблица-5'!N6+'Таблица-5'!N8 -> 103259.92 | Q13: =M13/B13*100 -> 135.70474 | R13: =R14+R15+R16+R17 -> 1574124.8
A14: Физическо лице | C14: ='Таблица-13'!D8+'Таблица-13'!D9+'Таблица-13'!D10+'Таблица-13'!D12+'Таблица-13'!D13+'Таблица-13'!D14+'Таблица-13'!D15+'Таблица-13'!D17+'Таблица-13'!D18+'Таблица-13'!D19+'Таблица-13'!D20+'Таблица-13'!D21+'Таблица-13'!D24+'Таблица-13'!D25+'Таблица-13'!D27+'Таблица-13'!D28+'Таблица-13'!D29+'Таблица-13'!D30+'Таблица-13'!D31+'Таблица-13'!D33+'Таблица-13'!D34+'Таблица-13'!D35++'Таблица-13'!D39 -> 2050166 | D14: ='Таблица-13'!E8+'Таблица-13'!E9+'Таблица-13'!E10+'Таблица-13'!E12+'Таблица-13'!E13+'Таблица-13'!E14+'Таблица-13'!E15+'Таблица-13'!E17+'Таблица-13'!E18+'Таблица-13'!E19+'Таблица-13'!E20+'Таблица-13'!E21+'Таблица-13'!E24+'Таблица-13'!E25+'Таблица-13'!E27+'Таблица-13'!E28+'Таблица-13'!E29+'Таблица-13'!E30+'Таблица-13'!E31+'Таблица-13'!E33+'Таблица-13'!E34+'Таблица-13'!E35++'Таблица-13'!E39 -> 1000097.9 | E14: ='Таблица-13'!F8+'Таблица-13'!F9+'Таблица-13'!F10+'Таблица-13'!F12+'Таблица-13'!F13+'Таблица-13'!F14+'Таблица-13'!F15+'Таблица-13'!F17+'Таблица-13'!F18+'Таблица-13'!F19+'Таблица-13'!F20+'Таблица-13'!F21+'Таблица-13'!F24+'Таблица-13'!F25+'Таблица-13'!F27+'Таблица-13'!F28+'Таблица-13'!F29+'Таблица-13'!F30+'Таблица-13'!F31+'Таблица-13'!F33+'Таблица-13'!F34+'Таблица-13'!F35++'Таблица-13'!F39 -> 11.23774 | F14: ='Таблица-13'!G8+'Таблица-13'!G9+'Таблица-13'!G10+'Таблица-13'!G12+'Таблица-13'!G13+'Таблица-13'!G14+'Таблица-13'!G15+'Таблица-13'!G17+'Таблица-13'!G18+'Таблица-13'!G19+'Таблица-13'!G20+'Таблица-13'!G21+'Таблица-13'!G24+'Таблица-13'!G25+'Таблица-13'!G27+'Таблица-13'!G28+'Таблица-13'!G29+'Таблица-13'!G30+'Таблица-13'!G31+'Таблица-13'!G33+'Таблица-13'!G34+'Таблица-13'!G35++'Таблица-13'!G39 -> 1958307.6 | G14: ='Таблица-13'!H8+'Таблица-13'!H9+'Таблица-13'!H10+'Таблица-13'!H12+'Таблица-13'!H13+'Таблица-13'!H14+'Таблица-13'!H15+'Таблица-13'!H17+'Таблица-13'!H18+'Таблица-13'!H19+'Таблица-13'!H20+'Таблица-13'!H21+'Таблица-13'!H24+'Таблица-13'!H25+'Таблица-13'!H27+'Таблица-13'!H28+'Таблица-13'!H29+'Таблица-13'!H30+'Таблица-13'!H31+'Таблица-13'!H33+'Таблица-13'!H34+'Таблица-13'!H35++'Таблица-13'!H39 -> 954168.75 | J14: ='Таблица-13'!K8+'Таблица-13'!K9+'Таблица-13'!K10+'Таблица-13'!K12+'Таблица-13'!K13+'Таблица-13'!K14+'Таблица-13'!K15+'Таблица-13'!K17+'Таблица-13'!K18+'Таблица-13'!K19+'Таблица-13'!K20+'Таблица-13'!K21+'Таблица-13'!K24+'Таблица-13'!K25+'Таблица-13'!K27+'Таблица-13'!K28+'Таблица-13'!K29+'Таблица-13'!K30+'Таблица-13'!K31+'Таблица-13'!K33+'Таблица-13'!K34+'Таблица-13'!K35++'Таблица-13'!K39 -> 1910573.3 | K14: ='Таблица-13'!L8+'Таблица-13'!L9+'Таблица-13'!L10+'Таблица-13'!L12+'Таблица-13'!L13+'Таблица-13'!L14+'Таблица-13'!L15+'Таблица-13'!L17+'Таблица-13'!L18+'Таблица-13'!L19+'Таблица-13'!L20+'Таблица-13'!L21+'Таблица-13'!L24+'Таблица-13'!L25+'Таблица-13'!L27+'Таблица-13'!L28+'Таблица-13'!L29+'Таблица-13'!L30+'Таблица-13'!L31+'Таблица-13'!L33+'Таблица-13'!L34+'Таблица-13'!L35++'Таблица-13'!L39 -> 930301.58 | L14: ='Таблица-13'!M8+'Таблица-13'!M9+'Таблица-13'!M10+'Таблица-13'!M12+'Таблица-13'!M13+'Таблица-13'!M14+'Таблица-13'!M15+'Таблица-13'!M17+'Таблица-13'!M18+'Таблица-13'!M19+'Таблица-13'!M20+'Таблица-13'!M21+'Таблица-13'!M24+'Таблица-13'!M25+'Таблица-13'!M27+'Таблица-13'!M28+'Таблица-13'!M29+'Таблица-13'!M30+'Таблица-13'!M31+'Таблица-13'!M33+'Таблица-13'!M34+'Таблица-13'!M35++'Таблица-13'!M39 -> 1909595.4 | M14: ='Таблица-13'!N8+'Таблица-13'!N9+'Таблица-13'!N10+'Таблица-13'!N12+'Таблица-13'!N13+'Таблица-13'!N14+'Таблица-13'!N15+'Таблица-13'!N17+'Таблица-13'!N18+'Таблица-13'!N19+'Таблица-13'!N20+'Таблица-13'!N21+'Таблица-13'!N24+'Таблица-13'!N25+'Таблица-13'!N27+'Таблица-13'!N28+'Таблица-13'!N29+'Таблица-13'!N30+'Таблица-13'!N31+'Таблица-13'!N33+'Таблица-13'!N34+'Таблица-13'!N35++'Таблица-13'!N39 -> 929812.62 | N14: ='Таблица-13'!O8+'Таблица-13'!O9+'Таблица-13'!O10+'Таблица-13'!O12+'Таблица-13'!O13+'Таблица-13'!O14+'Таблица-13'!O15+'Таблица-13'!O17+'Таблица-13'!O18+'Таблица-13'!O19+'Таблица-13'!O20+'Таблица-13'!O21+'Таблица-13'!O24+'Таблица-13'!O25+'Таблица-13'!O27+'Таблица-13'!O28+'Таблица-13'!O29+'Таблица-13'!O30+'Таблица-13'!O31+'Таблица-13'!O33+'Таблица-13'!O34+'Таблица-13'!O35++'Таблица-13'!O39 -> 659560.18 | O14: =20+4 -> 24 | R14: =N14 -> 659560.18
A15: ЕТ | C15: ='Таблица-13'!D52+'Таблица-13'!D54 -> 45228 | D15: ='Таблица-13'!E52+'Таблица-13'!E54 -> 31659.6 | E15: ='Таблица-13'!F52+'Таблица-13'!F54 -> 1.4 | F15: ='Таблица-13'!G52+'Таблица-13'!G54 -> 45228 | G15: ='Таблица-13'!H52+'Таблица-13'!H54 -> 31659.6 | J15: ='Таблица-13'!K52+'Таблица-13'!K54 -> 45228 | K15: ='Таблица-13'!L52+'Таблица-13'!L54 -> 31659.6 | L15: ='Таблица-13'!M52+'Таблица-13'!M54 -> 45228 | M15: ='Таблица-13'!N52+'Таблица-13'!N54 -> 31648.26 | N15: ='Таблица-13'!O52+'Таблица-13'!O54 -> 31648.26 | O15: 2 | R15: =N15 -> 31648.26
A16: Лице, регистрирано по ТЗ-ООД | C16: ='Таблица-13'!D11+'Таблица-13'!D41+'Таблица-13'!D42+'Таблица-13'!D43+'Таблица-13'!D46+'Таблица-13'!D47+'Таблица-13'!D49+'Таблица-13'!D51+'Таблица-13'!D53+'Таблица-13'!D55 -> 1300633.9 | D16: ='Таблица-13'!E11+'Таблица-13'!E41+'Таблица-13'!E42+'Таблица-13'!E43+'Таблица-13'!E46+'Таблица-13'!E47+'Таблица-13'!E49+'Таблица-13'!E51+'Таблица-13'!E53+'Таблица-13'!E55 -> 848084.47 | E16: ='Таблица-13'!F11+'Таблица-13'!F41+'Таблица-13'!F42+'Таблица-13'!F43+'Таблица-13'!F46+'Таблица-13'!F47+'Таблица-13'!F49+'Таблица-13'!F51+'Таблица-13'!F53+'Таблица-13'!F55 -> 6.3046249 | F16: ='Таблица-13'!G11+'Таблица-13'!G41+'Таблица-13'!G42+'Таблица-13'!G43+'Таблица-13'!G46+'Таблица-13'!G47+'Таблица-13'!G49+'Таблица-13'!G51+'Таблица-13'!G53+'Таблица-13'!G55 -> 906278.74 | G16: ='Таблица-13'!H11+'Таблица-13'!H41+'Таблица-13'!H42+'Таблица-13'!H43+'Таблица-13'!H46+'Таблица-13'!H47+'Таблица-13'!H49+'Таблица-13'!H51+'Таблица-13'!H53+'Таблица-13'!H55 -> 584549.76 | J16: ='Таблица-13'!K11+'Таблица-13'!K41+'Таблица-13'!K42+'Таблица-13'!K43+'Таблица-13'!K46+'Таблица-13'!K47+'Таблица-13'!K49+'Таблица-13'!K51+'Таблица-13'!K53+'Таблица-13'!K55 -> 906278.74 | K16: ='Таблица-13'!L11+'Таблица-13'!L41+'Таблица-13'!L42+'Таблица-13'!L43+'Таблица-13'!L46+'Таблица-13'!L47+'Таблица-13'!L49+'Таблица-13'!L51+'Таблица-13'!L53+'Таблица-13'!L55 -> 584549.76 | L16: ='Таблица-13'!M11+'Таблица-13'!M41+'Таблица-13'!M42+'Таблица-13'!M43+'Таблица-13'!M46+'Таблица-13'!M47+'Таблица-13'!M49+'Таблица-13'!M51+'Таблица-13'!M53+'Таблица-13'!M55 -> 885617.09 | M16: ='Таблица-13'!N11+'Таблица-13'!N41+'Таблица-13'!N42+'Таблица-13'!N43+'Таблица-13'!N46+'Таблица-13'!N47+'Таблица-13'!N49+'Таблица-13'!N51+'Таблица-13'!N53+'Таблица-13'!N55 -> 580512.99 | N16: ='Таблица-13'!O11+'Таблица-13'!O41+'Таблица-13'!O42+'Таблица-13'!O43+'Таблица-13'!O46+'Таблица-13'!O47+'Таблица-13'!O49+'Таблица-13'!O51+'Таблица-13'!O53+'Таблица-13'!O55 -> 278494.38 | O16: =10 -> 10 | R16: =N16 -> 278494.38
A17: Лице, регистрирано по ТЗ-ЕООД | C17: ='Таблица-13'!D22+'Таблица-13'!D23+'Таблица-13'!D26+'Таблица-13'!D32+'Таблица-13'!D36+'Таблица-13'!D40+'Таблица-13'!D48+'Таблица-13'!D50+'Таблица-13'!D56+'Таблица-13'!D57+'Таблица-13'!D58+'Таблица-13'!D59+'Таблица-13'!D60+'Таблица-13'!D61+'Таблица-13'!D62+'Таблица-13'!D63+'Таблица-13'!D64 -> 1727725.3 | D17: ='Таблица-13'!E22+'Таблица-13'!E23+'Таблица-13'!E26+'Таблица-13'!E32+'Таблица-13'!E36+'Таблица-13'!E40+'Таблица-13'!E48+'Таблица-13'!E50+'Таблица-13'!E56+'Таблица-13'!E57+'Таблица-13'!E58+'Таблица-13'!E59+'Таблица-13'!E60+'Таблица-13'!E61+'Таблица-13'!E62+'Таблица-13'!E63+'Таблица-13'!E64 -> 969631.27 | E17: ='Таблица-13'!F22+'Таблица-13'!F23+'Таблица-13'!F26+'Таблица-13'!F32+'Таблица-13'!F36+'Таблица-13'!F40+'Таблица-13'!F48+'Таблица-13'!F50+'Таблица-13'!F56+'Таблица-13'!F57+'Таблица-13'!F58+'Таблица-13'!F59+'Таблица-13'!F60+'Таблица-13'!F61+'Таблица-13'!F62+'Таблица-13'!F63+'Таблица-13'!F64 -> 9.9788787 | F17: ='Таблица-13'!G22+'Таблица-13'!G23+'Таблица-13'!G26+'Таблица-13'!G32+'Таблица-13'!G36+'Таблица-13'!G40+'Таблица-13'!G48+'Таблица-13'!G50+'Таблица-13'!G56+'Таблица-13'!G57+'Таблица-13'!G58+'Таблица-13'!G59+'Таблица-13'!G60+'Таблица-13'!G61+'Таблица-13'!G62+'Таблица-13'!G63+'Таблица-13'!G64 -> 1734725.3 | G17: ='Таблица-13'!H22+'Таблица-13'!H23+'Таблица-13'!H26+'Таблица-13'!H32+'Таблица-13'!H36+'Таблица-13'!H40+'Таблица-13'!H48+'Таблица-13'!H50+'Таблица-13'!H56+'Таблица-13'!H57+'Таблица-13'!H58+'Таблица-13'!H59+'Таблица-13'!H60+'Таблица-13'!H61+'Таблица-13'!H62+'Таблица-13'!H63+'Таблица-13'!H64 -> 969631.26 | J17: ='Таблица-13'!K22+'Таблица-13'!K23+'Таблица-13'!K26+'Таблица-13'!K32+'Таблица-13'!K36+'Таблица-13'!K40+'Таблица-13'!K48+'Таблица-13'!K50+'Таблица-13'!K56+'Таблица-13'!K57+'Таблица-13'!K58+'Таблица-13'!K59+'Таблица-13'!K60+'Таблица-13'!K61+'Таблица-13'!K62+'Таблица-13'!K63+'Таблица-13'!K64 -> 1574801.3 | K17: ='Таблица-13'!L22+'Таблица-13'!L23+'Таблица-13'!L26+'Таблица-13'!L32+'Таблица-13'!L36+'Таблица-13'!L40+'Таблица-13'!L48+'Таблица-13'!L50+'Таблица-13'!L56+'Таблица-13'!L57+'Таблица-13'!L58+'Таблица-13'!L59+'Таблица-13'!L60+'Таблица-13'!L61+'Таблица-13'!L62+'Таблица-13'!L63+'Таблица-13'!L64 -> 892631.27 | L17: ='Таблица-13'!M22+'Таблица-13'!M23+'Таблица-13'!M26+'Таблица-13'!M32+'Таблица-13'!M36+'Таблица-13'!M40+'Таблица-13'!M48+'Таблица-13'!M50+'Таблица-13'!M56+'Таблица-13'!M57+'Таблица-13'!M58+'Таблица-13'!M59+'Таблица-13'!M60+'Таблица-13'!M61+'Таблица-13'!M62+'Таблица-13'!M63+'Таблица-13'!M64 -> 1551750.7 | M17: ='Таблица-13'!N22+'Таблица-13'!N23+'Таблица-13'!N26+'Таблица-13'!N32+'Таблица-13'!N36+'Таблица-13'!N40+'Таблица-13'!N48+'Таблица-13'!N50+'Таблица-13'!N56+'Таблица-13'!N57+'Таблица-13'!N58+'Таблица-13'!N59+'Таблица-13'!N60+'Таблица-13'!N61+'Таблица-13'!N62+'Таблица-13'!N63+'Таблица-13'!N64 -> 885376.75 | N17: ='Таблица-13'!O22+'Таблица-13'!O23+'Таблица-13'!O26+'Таблица-13'!O32+'Таблица-13'!O36+'Таблица-13'!O40+'Таблица-13'!O48+'Таблица-13'!O50+'Таблица-13'!O56+'Таблица-13'!O57+'Таблица-13'!O58+'Таблица-13'!O59+'Таблица-13'!O60+'Таблица-13'!O61+'Таблица-13'!O62+'Таблица-13'!O63+'Таблица-13'!O64 -> 604422.03 | O17: =4+4 -> 8 | R17: =N17 -> 604422.03
A18: Друго(ако е приложимо)
A19: Общо от ЕЗФРСР: | B19: =B13+B6 -> 3732000 | C19: =C13+C6 -> 7338881.3 | D19: =D13+D6 -> 5064601.5 | E19: =E13+E6 -> 0 | F19: =F13+F6 -> 6783970.5 | G19: =G13+G6 -> 4679440.2 | H19: =H13+H6 -> 0 | I19: =I13+I6 -> 0 | ... P19: =P13+P6 -> 172808.68 | R19: =R13+R6 -> 3392056.7
A21: от ОПОС
A22: Добавят се редове за съответните типове кандидати/получатели
A23: Общо от ОПОС
A25: от ОПНОИР
A26: Добавят се редове за съответните типове кандидати/получатели
A27: Общо от ОПНОИР
A29: от ОПРЧР
A30: Добавят се редове за съответните типове кандидати/получатели
A31: Общо от ОПРЧР
A33: от ОПИК
A34: Добавят се редове за съответните типове кандидати/получатели
A35: Общо от ОПИК
... A39: Общо от ПМДР
A40: ОБЩО: | B40: =B19 -> 3732000 | C40: =C19 -> 7338881.3 | D40: =D19 -> 5064601.5 | F40: =F19 -> 6783970.5 | G40: =G19 -> 4679440.2 | J40: =J19 -> 6576312.1 | K40: =K19 -> 4578573 | L40: =L19 -> 6482514.4 | M40: =M19 -> 4448186.4 | N40: =N19 -> 3392056.7 | O40: =O19 -> 62 | P40: =P19 -> 172808.68 | R40: =R19 -> 3392056.7
L43: 5050244.8 | M43: 3931928.1 | R43: 2219422.9
L44: =L40-L43 -> 1432269.7 | M44: =M40-M43 -> 516258.29 | R44: =R40-R43 -> 1172633.9

Sheet Таблица-13
A1: Таблица 13: Изпълнение на СВОМР по кандидати/ получатели през отчетния период в лева - 2024г.
A2: МЕРКИ ПО ФОНДОВЕ | B2: Име на кандидата/ получателя | C2: Име на проекта | D2: Заявен общ размер на разходите по заявления подадени в МИГ | E2: Заявен общ размер наБФП по заявления, подадени в МИГ | F2: % на заявената помощ | G2: Одобрен общ размер на разходите по проект от МИГ | H2: Субсидия по проектите, одобрени от МИГ | I2: Договор № | J2: дата | K2: Заявен общ размер на разходите по проект към УО/ДФЗ | L2: Заявена субсидия към УО/ДФЗ | M2: Одобрен общ размер на разх. по проект от УО/ДФЗ | N2: Одобрена | O2: Изплатена субсидия
N3: субсидия от УО/ДФЗ
A4: 1 | B4: 2 | C4: 3 | D4: 4 | E4: 5 | F4: 6 | G4: 7 | H4: 8 | I4: 9 | J4: 10 | K4: 11 | L4: 12 | M4: 13 | N4: 14 | O4: 15
A5: Мерки, финансирани от ПРСР 2014 - 2020 г. (ЕЗФРСР) | C5: 996900
A6: Подмярка 4.1. Подкрепа за инвестиции в земеделски стопанства | D6: =SUM(D7:D36) -> 2822621.8 | E6: =SUM(E7:E36) -> 1368413.8 | G6: =SUM(G7:G36) -> 2822621.8 | H6: =SUM(H7:H36) -> 1368413.8 | K6: =SUM(K7:K36) -> 2614963.5 | L6: =SUM(L7:L36) -> 1267546.6 | M6: =SUM(M7:M36) -> 2613985.5 | N6: =SUM(N7:N36) -> 1267057.7 | O6: =SUM(O7:O36) -> 996460.41
B7: РАДИДА ООД | C7: „Модернизиране на кравеферма, включващо подмяна на покривни материали и закупуване на ехограф“ | I7: ОТТЕГЛЕН | J7: ДОПУСНАТА ТЕХНИЧЕСКА ГРЕШКА | K7: 0 | L7: 0 | M7: 0 | N7: 0 | O7: 0
A8: 1 | B8: Иван Иванов - земеделски стопанин физическо лице | C8: Механизиране на процесите по доене | D8: 101810 | E8: 50905 | F8: =E8/D8 -> 0.5 | G8: 101810 | H8: 50905 | I8: BG06RDNP001-19.076-0002 | J8: 30.9.2020 Отказан за изпълнение договор от Бенефициента | K8: =G8 -> 101810 | L8: =H8 -> 50905 | M8: 101810 | N8: 50905 | O8: 0 | P8: Отказан за изпълнение и финансиране
A9: 2 | B9: Венцислав Вълчев | C9: „Модернизиране на процесите по доене и поддържане на пасището във фермата на земеделски стопанин Венцислав Вълчев” | D9: 155307.23 | E9: 77653.62 | F9: =E9/D9 -> 0.50000003 | G9: 155307.23 | H9: 77653.62 | I9: BG06RDNP001-19.076-0003 | J9: 30.9.2020 Отказан за изпълнение договор от Бенефициента | K9: =G9 -> 155307.23 | L9: =H9 -> 77653.62 | M9: 155307.23 | N9: 77653.62 | O9: 0 | P9: Отказан за изпълнение и финансиране
A10: 3 | B10: Георги Стойчев Бохоров - земеделски стопанин | C10: Изграждане на склад за съхранение на пчелни продукти и модернизиране на процесите по добив на пчелен мед в стопанството на Георги Бохоров | D10: 65834.54 | E10: 32917.27 | F10: =E10/D10 -> 0.5 | G10: 65834.54 | H10: 32917.27 | I10: BG06RDNP001-19.076-0004 | J10: 44046 | K10: =G10 -> 65834.54 | L10: =H10 -> 32917.27 | M10: 65834.54 | N10: 32917.27 | O10: 24206.58
A11: 4 | B11: РАДИДА ООД | C11: „Модернизиране на кравеферма, включващо подмяна на покривни материали и закупуване на ехограф“ | D11: 145794.77 | E11: 72897.37 | F11: =E11/D11 -> 0.4999999 | G11: 145794.77 | H11: 72897.37 | I11: BG06RDNP001-19.076-0005 | J11: 43759 | K11: =G11 -> 145794.77 | L11: =H11 -> 72897.37 | M11: 145794.77 | N11: 72897.37 | O11: 72897.37
