Workbook
Name _ftn1: Лист2!$A$16
Name _ftnref1: Лист2!$G$1

Sheet Таблица-1
A1: Таблица 1 Брой работни места, разкрити в резултат от подпомагане на проектите-2024 МИГ ТЕРВЕЛ - КРУШАРИ
A2: Индикатор | B2: Цел за периода 2014 – 2020 според СВОМР | C2: Планирани съгласно заявления за подпомагане, одобрени от МИГ за периода на доклада | E2: Планирани съгласно заявления за подпомагане, одобрени от МИГ за периода от подписване на СВОМР | G2: Постигнато за периода на годишния доклад (за изплатени проекти) | I2: Постигнато за периода от подписване на СВОМР (за изплатени проекти)
C3: Мъже | D3: Жени | E3: Мъже | F3: Жени | G3: Мъже | H3: Жени | I3: Мъже | J3: Жени
A4: Работни места, разкрити в резултат от подпомагане на проектите, финансираниот: | B4: 41 | C4: 4 | D4: 5 | E4: 14 | F4: 5 | G4: 4 | H4: 5 | I4: 14 | J4: 5
A5: ЕЗФРСР | B5: 41 | C5: =SUM(C4) -> 4 | D5: =SUM(D4) -> 5 | E5: =SUM(E4) -> 14 | F5: =SUM(F4) -> 5 | G5: =SUM(G4) -> 4 | H5: =SUM(H4) -> 5 | I5: =SUM(I4) -> 14 | J5: =SUM(J4) -> 5
A6: ОПОС
A7: ОПРЧР
A8: ОПИК
A9: ОПНОИР
A10: ПМДР

Sheet Таблица 2
A1: Таблица 2: Брой жители, които ще се ползват от подобрени услуги/ инфраструктура, в резултат от изпълнението на проектите, финансирани от ЕЗФРСР.-2024
A2: Индикатор | B2: Брой съгласно СВОМР | C2: Планиран брой съгласно заявления за подпомагане, одобрени от МИГ за периода на доклада | D2: Планиран брой съгласно заявления за подпомагане, одобрени от МИГ за периода от подписване на СВОМР | E2: Брой съгласно изплатени проекти за периода на доклада | F2: Брой съгласно изплатени проекти за периода от подписване на СВОМР
A3: 1 | B3: 2 | C3: 3 | D3: 4 | E3: 5 | F3: 6
A4: Жители, които ще се ползват от подобрени ИТ услуги/инфраструктура; | B4: 0 | C4: 0 | D4: 0 | E4: 0 | F4: 0
A5: Жители, които ще се ползват от подобрени услуги/инфраструктура, различни от тези, свързани с ИТ. | B5: 10000 | C5: 10000 | D5: 10000 | E5: 10000 | F5: 10000
G7: 1242
G8: 5781
G9: 105
G10: 1244
G11: =SUM(G7:G10) -> 8372

Sheet Таблица-3
A1: Таблица 3: Брой проекти към СВОМР по мерки и по фондове за отчетния период и от сключване на споразумение за изпълнение на СВОМР-2024
A2: МЕРКИ ПО ФОНДОВЕ | B2: Цел за периода 2014 – 2020 | C2: Брой регистрирани заявления от кандидати за одобрение от МИГ | E2: Брой одобрени заявления от МИГ | G2: Брой внесени заявления от МИГ за одобрение от УО/ДФЗ | I2: Брой отказани проикти | J2: Оставащ Брой внесени заявления от МИГ за одобрение от УО/ДФЗ | K2: Брой одобрени заявления от УО/ДФЗ | M2: Брой сключени договори с кандидати | O2: Брой отказани договори от кандидати | P2: Оставащ Брой сключени договори с кандидати | Q2: Процент на одобрение | R2: Брой договори с изплатена субсидия | T2: Процент на изплащане
B3: (брой) | C3: за отч. период | D3: от скл. на спораз. | E3: за отч. период | F3: от скл. на спораз. | G3: за отч. период | H3: от скл. на спораз. | I3: от скл. на спораз. | J3: от скл. на спораз. | K3: за отч. период | L3: от скл. на спораз. | M3: за отч. период | N3: от скл. на спораз. | O3: за отч. период | P3: от скл. на спораз. | Q3: колона 12 разделена на колона 2 | R3: за отч. период | S3: от скл. на спораз. | T3: колона 15 разделена на колона 2
A4: 1 | B4: 2 | C4: 3 | D4: 4 | E4: 5 | F4: 6 | G4: 7 | H4: 8 | I4: 8/1 | J4: 8/2 | K4: 9 | L4: 10 | M4: 11 | N4: 12 | O4: 12/1 | P4: 12/2 | Q4: 13 | R4: 14 | S4: 15 | T4: 16
A5: Мерки, финансирани от ПРСР 2014 - 2020 г. (ЕЗФРСР)
A6: Подмярка 4.1. Подкрепа за инвестиции в земеделски стопанства | B6: 21 | C6: 4 | D6: =24+C6 -> 28 | E6: 4 | F6: =24+E6 -> 28 | G6: 4 | H6: =24+G6 -> 28 | I6: 0 | J6: =H6 -> 28 | K6: 2 | L6: =24+K6 -> 26 | M6: 2 | N6: =24+M6 -> 26 | O6: 4 | P6: =N6-O6 -> 22 | Q6: =N6/B6%/100 -> 1.2380952 | R6: 5 | S6: =16+R6 -> 21 | T6: =S6/B6*100 -> 100
A7: Подмярка 4.2 Инвестиции в преработка/маркетинг на селскостопански продукти | B7: 1 | C7: 0 | D7: =5 -> 5 | E7: 0 | F7: =2 -> 2 | G7: 0 | H7: =2 -> 2 | I7: 0 | J7: 2 | K7: 0 | L7: =2 -> 2 | M7: 0 | N7: 2 | O7: 1 | P7: 1 | Q7: =N7/B7%/100 -> 2 | R7: 1 | S7: =R7 -> 1 | T7: =S7/B7 -> 1
A8: Подмярка 6.4. Инвестиции в подкрепа на неземеделски дейности | B8: 14 | C8: 1 | D8: =18+C8 -> 19 | E8: 1 | F8: =17+E8 -> 18 | G8: 1 | H8: =17+G8 -> 18 | I8: 2 | J8: =H8-I8 -> 16 | K8: 4 | L8: =12+K8 -> 16 | M8: 4 | N8: =11+M8 -> 15 | O8: 0 | P8: =N8-O8 -> 15 | Q8: =N8/B8%/100 -> 1.0714286 | R8: 5 | S8: =7+R8 -> 12 | T8: =S8/B8*100 -> 85.714286
A9: Подмярка 7.2. Инвестиции в създаването, подобряването или разширяването на всички видове малка по мащаби инфраструктура | B9: 10 | C9: 3 | D9: =11+C9 -> 14 | E9: 2 | F9: =11+E9 -> 13 | G9: 2 | H9: =11+G9 -> 13 | I9: 0 | J9: =H9 -> 13 | K9: 2 | L9: =10+K9 -> 12 | M9: 1 | N9: =10+M9 -> 11 | O9: 0 | P9: =N9 -> 11 | Q9: =N9/B9%/100 -> 1.1 | R9: 4 | S9: =6+R9 -> 10 | T9: =S9/B9*100 -> 100
A10: Подмярка 19.7.6. Проучвания и инвестиции, свързани с възстановяване и подобряване на културното и природното наследство | B10: 8 | C10: 0 | D10: =8 -> 8 | E10: 0 | F10: =8 -> 8 | G10: 0 | H10: =8 -> 8 | I10: 0 | J10: 8 | K10: 1 | L10: =7+K10 -> 8 | M10: 1 | N10: =7+M10 -> 8 | O10: 0 | P10: 5 | Q10: =N10/B10%/100 -> 1 | R10: 3 | S10: =2+R10 -> 5 | T10: =S10/B10*100 -> 62.5
A12: Мерки, които не са част от ПРСР 2014 - 2020 г. , но са включени в Регламент (EC) № 1305/2013 (финансирани от ЕЗФРСР)
A13: ………
A14: Мерки, извън обхвата на мерките от Регламент (EC) № 1305/2013, но съответстващи на целите на регламента (финансирани от ЕЗФРСР)
A15: ………
A16: Мерки, финансирани от ОПОС (ЕФРР)
A17: ………
A18: Мерки, финансирани от ОПНОИР (ЕСФ)
A19: ………
A20: Мерки, финансирани от ОПРЧР (ЕСФ)
A21: ………
A22: Мерки, финансирани от ОПИК (ЕФРР)
A23: ………
... A25: ………
A26: Общо: | B26: =SUM(B6:B25) -> 54 | C26: =SUM(C6:C25) -> 8 | D26: =SUM(D6:D25) -> 74 | E26: =SUM(E6:E25) -> 7 | F26: =SUM(F6:F25) -> 69 | G26: =SUM(G6:G25) -> 7 | H26: =SUM(H6:H25) -> 69 | I26: =SUM(I6:I25) -> 2 | ... P26: =SUM(P6:P25) -> 54 | R26: =SUM(R6:R25) -> 18 | S26: =SUM(S6:S25) -> 49 | T26: =S26/B26*100 -> 90.740741

Sheet Лист2
B1: Приоритет и специфични цели | C1: Общо за периода на стратегията | E1: Одобрени от МИГ към 31/12/2021 | G1: Одобрени от ДФЗ към 31/12/2021
C2: лева | D2: % | E2: лева | F2: % | I2: %
A3: Приоритет 1: Насърчаване на местния бизнес за създаване на заетост, доходи и разнообразяване на икономическите дейности | C3: 1845500 | D3: 49 | E3: 1565725.5 | F3: 42 | G3: 1413179.8 | I3: 38
A4: Специфична цел 1.1: | B4: Повишаване на конкурентоспособността на местното земеделие и добавяне на стойност при местните селскостопански продукти | C4: 1060000 | D4: 28 | E4: ='Таблица-8'!F5 -> 2540009.4 | F4: 25 | G4: 787861.4 | I4: 21
B5: Мярка 4.1. и Мярка 4.2.
A6: Специфична цел 1.2: | B6: Подкрепа на предприемачеството за разнообразяване на бизнеса на територията | C6: 785500 | D6: 21 | E6: 632584.21 | F6: 17 | G6: 625318.35 | I6: 17
B7: Мярка 6.4.
A8: Приоритет 2: Развитие на благоприятна жизнена среда за социално приобщаване и общо подобряване на качеството на живот | C8: 1886500 | D8: 51 | E8: 1297181.1 | F8: 35 | G8: 1297181.1 | I8: 35
A9: Специфична цел 2.1: | B9: Подобряване на средата на живот и достъпа до услуги за населението в населените места | C9: 1736500 | D9: 47 | E9: 1149596.6 | F9: 31 | G9: 1149596.6 | I9: 31
B10: Мярка 7.2.
A11: Специфична цел 2.2: | B11: Оползотворяване на местните традиции и наследство за постигане на устойчиви общности | C11: 150000 | D11: 4 | E11: 147584.49 | F11: 4 | G11: 147584.49 | I11: 4
B12: Мярка 19.7.6.
B13: ОБЩО ЗА ЦЯЛАТА СТРАТЕГИЯ | C13: 3732000 | D13: 100 | E13: 2862907 | F13: 77 | G13: 2710361 | I13: 73
A16: [1] В стойностите са включени сключените ДБФП и издадените Заповеди за одобрение от ДФЗ.

Sheet Таблица-4
A1: Таблица 4: Изпълнение на СВОМР по мерки и по фондове през отчетния период в лева-2024 г.
A2: МЕРКИ ПО ФОНДОВЕ | B2: Заявен общ размер на разходите по заявления, подадени в МИГ | C2: Заявена субсидия по заявления, подадени в МИГ | D2: Интензитет на заявената помощ, % | E2: Одобрен общ размер на разходите по проект от МИГ | F2: Субсидия по проектите, одобрени от МИГ | G2: Заявен общ размер на разходите по проект към УО/ДФЗ | H2: Заявена субсидия към УО/ДФЗ | I2: Одобрен общ размер на разходите по проект от УО/ДФЗ | J2: Субсидия по проектите, одобрени от УО/ДФЗ | K2: Изплатена субсидия
A3: 1 | B3: 2 | C3: 3 | D3: 4 | E3: 5 | F3: 6 | G3: 7 | H3: 8 | I3: 9 | J3: 10 | K3: 11
A4: Мерки, финансирани от ПРСР 2014 - 2020 г. (ЕЗФРСР)
A5: Подмярка 4.1. Подкрепа за инвестиции в земеделски стопанства | B5: ='Таблица-13'!D33+'Таблица-13'!D34+'Таблица-13'!D35+'Таблица-13'!D36 -> 251458.34 | C5: ='Таблица-13'!E33+'Таблица-13'!E34+'Таблица-13'!E35+'Таблица-13'!E36 -> 122767.17 | D5: =C5/B5*100 -> 48.822071 | E5: ='Таблица-13'!G33+'Таблица-13'!G34+'Таблица-13'!G35+'Таблица-13'!G36 -> 251458.34 | F5: ='Таблица-13'!H33+'Таблица-13'!H34+'Таблица-13'!H35+'Таблица-13'!H36 -> 122767.17 | G5: ='Таблица-13'!K34+'Таблица-13'!K35 -> 43800 | H5: ='Таблица-13'!L34+'Таблица-13'!L35 -> 21900 | I5: ='Таблица-13'!M34+'Таблица-13'!M35 -> 43800 | J5: ='Таблица-13'!N34+'Таблица-13'!N35 -> 21900 | K5: ='Таблица-13'!O10+'Таблица-13'!O26+'Таблица-13'!O28+'Таблица-13'!O29+'Таблица-13'!O32 -> 235981.16
A6: Подмярка 4.2 Инвестиции в преработка/маркетинг на селскостопански продукти | B6: 0 | C6: 0 | D6: 0 | E6: 0 | F6: 0 | G6: 0 | H6: 0 | I6: 0 | J6: 0 | K6: ='Таблица-13'!O43 -> 25650
A7: Подмярка 6.4. Инвестиции в подкрепа на неземеделски дейности | B7: ='Таблица-13'!D64 -> 42290 | C7: ='Таблица-13'!E64 -> 29603 | D7: =C7/B7*100 -> 70 | E7: ='Таблица-13'!G64 -> 42290 | F7: ='Таблица-13'!H64 -> 29603 | G7: ='Таблица-13'!K64 -> 42290 | H7: =F7 -> 29603 | I7: ='Таблица-13'!M62+'Таблица-13'!M63+'Таблица-13'!M64+'Таблица-13'!M58 -> 375478.3 | J7: ='Таблица-13'!N58+'Таблица-13'!N62+'Таблица-13'!N63+'Таблица-13'!N64 -> 264667.1 | K7: ='Таблица-13'!O55+'Таблица-13'!O57+'Таблица-13'!O59+'Таблица-13'!O61+'Таблица-13'!O62 -> 284741.66
A8: Подмярка 7.2. Инвестиции в създаването, подобряването или разширяването на всички видове малка по мащаби инфраструктура | B8: ='Таблица-13'!D78+'Таблица-13'!D80+'Таблица-13'!D79 -> 180280.34 | C8: ='Таблица-13'!E78+'Таблица-13'!E80+'Таблица-13'!E79 -> 180280.34 | D8: 100 | E8: ='Таблица-13'!G80+'Таблица-13'!G79 -> 120369.58 | F8: =E8 -> 120369.58 | G8: =F8 -> 120369.58 | H8: =G8 -> 120369.58 | I8: ='Таблица-13'!K80 -> 26410 | J8: ='Таблица-13'!L80 -> 26410 | K8: ='Таблица-13'!O73+'Таблица-13'!O74+'Таблица-13'!O75+'Таблица-13'!O76 -> 581251.1
A9: Подмярка 19.7.6. Проучвания и инвестиции, свързани с възстановяване и подобряване на културното и природното наследство | B9: 0 | C9: 0 | D9: 0 | E9: =B9 -> 0 | F9: =C9 -> 0 | G9: =E9 -> 0 | H9: =F9 -> 0 | I9: ='Таблица-13'!M90 -> 30000 | J9: ='Таблица-13'!N90 -> 29760 | K9: ='Таблица-13'!O89+'Таблица-13'!O90 -> 59745
A10: Мерки, които не са част от ПРСР 2014 - 2020 г. , но са включени в Регламент (EC) № 1305/2013 (финансирани от ЕЗФРСР)
A11: ………
A12: Мерки, извън обхвата на мерките от Регламент (EC) № 1305/2013, но съответстващи на целите на регламента (финансирани от ЕЗФРСР)
A13: ………
A14: Мерки, финансирани от ОПОС (ЕФРР)
A15: ………
A16: Мерки, финансирани от ОПНОИР (ЕСФ)
A17: ………
A18: Мерки, финансирани от ОПРЧР (ЕСФ)
A19: ………
A20: Мерки, финансирани от ОПИК (ЕФРР)
A21: ………
... A23: ………
A24: Общо: | B24: =SUM(B4:B23) -> 474028.68 | C24: =SUM(C4:C23) -> 332650.51 | E24: =SUM(E4:E23) -> 414117.92 | F24: =SUM(F4:F23) -> 272739.75 | G24: =SUM(G4:G23) -> 206459.58 | H24: =SUM(H4:H23) -> 171872.58 | I24: =SUM(I4:I23) -> 475688.3 | J24: =SUM(J4:J23) -> 342737.1 | K24: =SUM(K4:K23) -> 1187368.9

Sheet Таблица-5
A1: Таблица 5: Изпълнение на СВОМР по мерки и по фондове от сключване на споразумение за финансиране в лева-2024г.
A2: МЕРКИ ПО ФОНДОВЕ | B2: Одобрен бюджет на субсидията за целия период | C2: Заявен общ размер на разходите по заявления, подадени в МИГ | D2: Заявен общ размер на субсидията по заявления, подадени в МИГ | E2: Одобрен общ размер на разходите по проект от МИГ | F2: Субсидия по проектите, одобрени от МИГ | G2: Заявен общ размер на разходите по проект към УО/ДФЗ | H2: Заявена субсидия към УО/ДФЗ | I2: Одобрен общ размер на разходите по проект от УО/ДФЗ | J2: Субсидия по проектите, одобрени от УО/ДФЗ | K2: Сключени договори | L2: Прекратени | M2: Оставащи сключени договори | N2: ОСТАТЪК | P2: Процент на одобрение | Q2: Изплатена субсидия
N3: колона 2 минус колона 10 | P3: колона 10 разделена на колона 2
A4: 1 | B4: 2 | C4: 3 | D4: 4 | E4: 5 | F4: 6 | G4: 7 | H4: 8 | I4: 9 | J4: 10 | K4: 11 | N4: 12 | P4: 13 | Q4: 14
A5: Мерки, финансирани от ПРСР 2014 - 2020 г. (ЕЗФРСР)
A6: Подмярка 4.1. Подкрепа за инвестиции в земеделски стопанства | B6: ='Таблица-13'!C5 -> 996900 | C6: ='Таблица-13'!D6 -> 2822621.8 | D6: ='Таблица-13'!E6 -> 1368413.8 | E6: ='Таблица-13'!G6 -> 2822621.8 | F6: ='Таблица-13'!H6 -> 1368413.8 | G6: ='Таблица-13'!K6 -> 2614963.5 | H6: ='Таблица-13'!L6 -> 1267546.6 | I6: ='Таблица-13'!M6 -> 2613985.5 | J6: ='Таблица-13'!N6 -> 1267057.7 | K6: ='Таблица-3'!N6 -> 26 | L6: 4 | M6: =K6-L6 -> 22 | N6: 77547.87 | P6: =J6/B6*100 -> 127.09978 | Q6: ='Таблица-13'!O6 -> 996460.41
A7: Подмярка 4.2 Инвестиции в преработка/маркетинг на селскостопански продукти | B7: 25650 | C7: ='Таблица-13'!D37 -> 351868.32 | D7: ='Таблица-13'!E37 -> 175934.19 | E7: ='Таблица-13'!G37 -> 134500 | F7: ='Таблица-13'!H37 -> 67250 | G7: ='Таблица-13'!K37 -> 134500 | H7: ='Таблица-13'!L37 -> 67250 | I7: ='Таблица-13'!M37 -> 134500 | J7: ='Таблица-13'!L37 -> 67250 | K7: ='Таблица-3'!N7 -> 2 | L7: 1 | M7: =K7-L7 -> 1 | N7: 0 | P7: 100 | Q7: ='Таблица-13'!O37 -> 25650
A8: Подмярка 6.4. Инвестиции в подкрепа на неземеделски дейности | B8: ='Таблица-13'!C45 -> 766150 | C8: ='Таблица-13'!D44 -> 1949263 | D8: ='Таблица-13'!E44 -> 1305125.3 | E8: ='Таблица-13'!G44 -> 1687417.9 | F8: ='Таблица-13'!H44 -> 1104345.6 | G8: ='Таблица-13'!K44 -> 1687417.9 | H8: ='Таблица-13'!L44 -> 1104345.6 | I8: ='Таблица-13'!M44 -> 1643705.6 | J8: ='Таблица-13'!N44 -> 1093042.9 | K8: 15 | L8: 1 | M8: =K8-L8 -> 14 | N8: 25712.053 | P8: =J8/B8*100 -> 142.66696 | Q8: ='Таблица-13'!O44 -> 552014.44
A9: Подмярка 7.2. Инвестиции в създаването, подобряването или разширяването на всички видове малка по мащаби инфраструктура | B9: ='Таблица-13'!C66 -> 1801500 | C9: ='Таблица-13'!D65 -> 1991772.1 | D9: ='Таблица-13'!E65 -> 1991772.1 | E9: ='Таблица-13'!G65 -> 1931861.3 | F9: ='Таблица-13'!H65 -> 1931861.3 | G9: ='Таблица-13'!K65 -> 1931861.3 | H9: ='Таблица-13'!L65 -> 1931861.3 | I9: ='Таблица-13'!M65 -> 1882753.8 | J9: ='Таблица-13'!N65 -> 1813506.3 | K9: ='Таблица-3'!N9 -> 11 | L9: 0 | M9: =K9-L9 -> 11 | N9: 62121.76 | P9: =J9/B9*100 -> 100.66646 | Q9: ='Таблица-13'!O65 -> 1675644.9
A10: Подмярка 19.7.6. Проучвания и инвестиции, свързани с възстановяване и подобряване на културното и природното наследство | B10: ='Таблица-13'!C82 -> 141800 | C10: ='Таблица-13'!D81 -> 223356.15 | D10: ='Таблица-13'!E81 -> 223356.15 | E10: ='Таблица-13'!G81 -> 207569.49 | F10: ='Таблица-13'!H81 -> 207569.49 | G10: =E10 -> 207569.49 | H10: =F10 -> 207569.49 | I10: ='Таблица-13'!M81 -> 207569.49 | J10: ='Таблица-13'!N81 -> 207329.49 | K10: ='Таблица-3'!N10 -> 8 | L10: 3 | M10: =K10-L10 -> 5 | N10: 7427 | P10: =J10/B10*100 -> 146.21262 | Q10: ='Таблица-13'!O81 -> 142287
A11: Мерки, които не са част от ПРСР 2014 - 2020 г. , но са включени в Регламент (EC) № 1305/2013 (финансирани от ЕЗФРСР)
A12: ………
A13: Мерки, извън обхвата на мерките от Регламент (EC) № 1305/2013, но съответстващи на целите на регламента (финансирани от ЕЗФРСР)
A14: ………
A15: Мерки, финансирани от ОПОС (ЕФРР)
A16: ………
A17: Мерки, финансирани от ОПНОИР (ЕСФ)
A18: ………
A19: Мерки, финансирани от ОПРЧР (ЕСФ)
A20: ………
A21: Мерки, финансирани от ОПИК (ЕФРР)
A22: ………
... A24: ………
A25: Общо: | B25: =SUM(B6:B24) -> 3732000 | C25: =C6+C7+C8+C9+C10 -> 7338881.3 | D25: =SUM(D6:D24) -> 5064601.5 | E25: =SUM(E6:E24) -> 6783970.5 | F25: =SUM(F6:F24) -> 4679440.2 | G25: =SUM(G6:G24) -> 6576312.1 | H25: =SUM(H6:H24)+0.01 -> 4578573 | I25: =SUM(I6:I24) -> 6482514.4 | J25: =SUM(J6:J24) -> 4448186.4 | K25: =SUM(K6:K24) -> 62 | L25: =SUM(L6:L24) -> 9 | M25: =SUM(M6:M10) -> 53 | N25: =SUM(N6:N24) -> 172808.68 | Q25: =SUM(Q6:Q24) -> 3392056.7

Sheet Таблица-6
A1: Таблица 6: Брой заявления към СВОМР по приоритети от СВОМР-2024г.
A2: ПРИОРИТЕТИ | B2: Цел за периода 2014 – 2020 | C2: Брой регистрирани проекти от кандидати за одобрение от МИГ | E2: Брой одобрени заявления от МИГ | G2: Брой внесени заявления от МИГ за одобрение от УО/ДФЗ | I2: Брой одобрени заявления от УО/ДФЗ | K2: Брой сключени договори с кандидати | M2: Процент на одобрение | N2: Брой договори с изплатена субсидия | P2: Процент на изплащане
B3: (брой) | C3: за отч. период | D3: от скл. на спораз. | E3: за отч. период | F3: от скл. на спораз. | G3: за отч. период | H3: от скл. на спораз. | I3: за отч. период | J3: от скл. на спораз. | K3: за отч. период | L3: от скл. на спораз. | M3: колона 12 разделена на колона 2 | N3: за отч. период | O3: от скл. на спораз. | P3: колона 15 разделена на колона 2
A4: 1 | B4: 2 | C4: 3 | D4: 4 | E4: 5 | F4: 6 | G4: 7 | H4: 8 | I4: 9 | J4: 10 | K4: 11 | L4: 12 | M4: 13 | N4: 14 | O4: 15 | P4: 16
A5: Приоритет 1: Насърчаване на местния бизнес за създаване на заетост, доходи и разнообразяване на икономическите дейности | B5: ='Таблица-3'!B6+'Таблица-3'!B7+'Таблица-3'!B8 -> 36 | C5: ='Таблица-3'!C6+'Таблица-3'!C7+'Таблица-3'!C8 -> 5 | D5: ='Таблица-3'!D6+'Таблица-3'!D7+'Таблица-3'!D8 -> 52 | E5: ='Таблица-3'!E6+'Таблица-3'!E7+'Таблица-3'!E8 -> 5 | F5: ='Таблица-3'!F6+'Таблица-3'!F7+'Таблица-3'!F8 -> 48 | G5: ='Таблица-3'!G6+'Таблица-3'!G7+'Таблица-3'!G8 -> 5 | H5: ='Таблица-3'!H6+'Таблица-3'!H7+'Таблица-3'!H8 -> 48 | I5: ='Таблица-3'!K6+'Таблица-3'!K7+'Таблица-3'!K8 -> 6 | J5: ='Таблица-3'!L6+'Таблица-3'!L7+'Таблица-3'!L8 -> 44 | K5: ='Таблица-3'!M6+'Таблица-3'!M8 -> 6 | L5: 43 | M5: =L5/B5% -> 119.44444 | N5: ='Таблица-3'!R6+'Таблица-3'!R8 -> 10 | O5: ='Таблица-3'!S6+'Таблица-3'!S7+'Таблица-3'!S8 -> 34 | P5: =O5/B5*100 -> 94.444444
A6: Приоритет 2: Развитие на благоприятна жизнена среда за социално приобщаване и общо подобряване на качеството на живот | B6: ='Таблица-3'!B9+'Таблица-3'!B10 -> 18 | C6: ='Таблица-3'!C9+'Таблица-3'!C10 -> 3 | D6: ='Таблица-3'!D9+'Таблица-3'!D10 -> 22 | E6: ='Таблица-3'!E9+'Таблица-3'!E10 -> 2 | F6: ='Таблица-3'!F9+'Таблица-3'!F10 -> 21 | G6: ='Таблица-3'!G9+'Таблица-3'!G10 -> 2 | H6: ='Таблица-3'!H9+'Таблица-3'!H10 -> 21 | I6: ='Таблица-3'!K9+'Таблица-3'!K10 -> 3 | J6: ='Таблица-3'!L9+'Таблица-3'!L10 -> 20 | K6: 2 | L6: ='Таблица-5'!K9+'Таблица-5'!K10 -> 19 | M6: =L6/B6% -> 105.55556 | N6: ='Таблица-3'!R9+'Таблица-3'!R10 -> 7 | O6: ='Таблица-3'!S9+'Таблица-3'!S10 -> 15 | P6: =O6/B6*100 -> 83.333333
A7: Приоритет …
A8: Приоритет …
A9: ………
A10: Общо: | B10: =SUM(B5:B9) -> 54 | C10: =SUM(C5:C9) -> 8 | D10: =SUM(D5:D9) -> 74 | E10: =SUM(E5:E9) -> 7 | F10: =SUM(F5:F9) -> 69 | G10: =SUM(G5:G9) -> 7 | H10: =SUM(H5:H9) -> 69 | I10: =SUM(I5:I9) -> 9 | ... L10: =SUM(L5:L9) -> 62 | M10: =L10/B10% -> 114.81481 | N10: =SUM(N5:N6) -> 17 | O10: =SUM(O5:O9) -> 49 | P10: =O10/B10*100 -> 90.740741

Sheet Таблица-7
A1: Таблица 7: Изпълнение на СВОМР по приоритети от СВОМР в лева през отчетния период в лева-2024г.
A2: ПРИОРИТЕТИ | B2: Заявен общ размер на разходите по заявления, подадени в МИГ | C2: Заявена субсидия по проекти към МИГ | D2: Интензитет на заявената помощ | E2: Одобрен общ размер на разходите по проект от МИГ | F2: Субсидия по проектите, одобрени от МИГ | G2: Заявен общ размер на разходите по проект към УО/ДФЗ | H2: Заявена субсидия към УО/ДФЗ | I2: Одобрен общ размер на разходите по проект от УО/ДФЗ | J2: Субсидия по проектите, одобрени от УО/ДФЗ | K2: Изплатена субсидия
A3: 1 | B3: 2 | C3: 3 | D3: 4 | E3: 5 | F3: 6 | G3: 7 | H3: 8 | I3: 9 | J3: 10 | K3: 11
A4: Приоритет 1: Насърчаване на местния бизнес за създаване на заетост, доходи и разнообразяване на икономическите дейности | B4: ='Таблица-4'!B5+'Таблица-4'!B6+'Таблица-4'!B7 -> 293748.34 | C4: ='Таблица-4'!C5+'Таблица-4'!C6+'Таблица-4'!C7 -> 152370.17 | D4: =C4/B4*100 -> 51.870989 | E4: ='Таблица-4'!E5+'Таблица-4'!E6+'Таблица-4'!E7 -> 293748.34 | F4: ='Таблица-4'!F5+'Таблица-4'!F6+'Таблица-4'!F7 -> 152370.17 | G4: ='Таблица-4'!G5+'Таблица-4'!G6+'Таблица-4'!G7 -> 86090 | H4: ='Таблица-4'!H5+'Таблица-4'!H6+'Таблица-4'!H7 -> 51503 | I4: ='Таблица-4'!I5+'Таблица-4'!I6+'Таблица-4'!I7 -> 419278.3 | J4: ='Таблица-4'!J5+'Таблица-4'!J6+'Таблица-4'!J7 -> 286567.1 | K4: ='Таблица-4'!K5+'Таблица-4'!K6+'Таблица-4'!K7 -> 546372.82
A5: Приоритет 2: Развитие на благоприятна жизнена среда за социално приобщаване и общо подобряване на качеството на живот | B5: ='Таблица-4'!B8+'Таблица-4'!B9 -> 180280.34 | C5: ='Таблица-4'!C8+'Таблица-4'!C9 -> 180280.34 | D5: =C5/B5*100 -> 100 | E5: ='Таблица-4'!E8+'Таблица-4'!E9 -> 120369.58 | F5: ='Таблица-4'!F8+'Таблица-4'!F9 -> 120369.58 | G5: ='Таблица-4'!G8+'Таблица-4'!G9 -> 120369.58 | H5: ='Таблица-4'!H8+'Таблица-4'!H9 -> 120369.58 | I5: ='Таблица-4'!I8+'Таблица-4'!I9 -> 56410 | J5: ='Таблица-4'!J8+'Таблица-4'!J9 -> 56170 | K5: ='Таблица-4'!K8+'Таблица-4'!K9 -> 640996.1
A6: Приоритет …
A7: Приоритет …
A8: ………
A9: Общо: | B9: =SUM(B4:B8) -> 474028.68 | C9: =SUM(C4:C8) -> 332650.51 | D9: =C9/B9*100 -> 70.175186 | E9: =SUM(E4:E8) -> 414117.92 | F9: =SUM(F4:F8) -> 272739.75 | G9: =SUM(G4:G8) -> 206459.58 | H9: =SUM(H4:H8) -> 171872.58 | I9: =SUM(I4:I8) -> 475688.3 | J9: =SUM(J4:J8) -> 342737.1 | K9: =SUM(K4:K8) -> 1187368.9

Sheet Таблица-8
A1: Таблица 8: Изпълнение на СВОМР по приоритети от СВОМР от сключване на споразумение за финансиране в лева-2024 г.
A2: ПРИОРИТЕТИ | B2: Одобрен бюджет на субсидията за целия период | C2: Заявен общ размер на разходите по заявления, подадени в МИГ | D2: Заявен общ размер на разходите по заявления, подадени в МИГ | E2: Одобрен общ размер на разходите по проект от МИГ | F2: Субсидия по проектите, одобрени от МИГ | G2: Заявен общ размер на разходите по проект към УО/ДФЗ | H2: Заявена субсидия към УО/ДФЗ | I2: Одобрен общ размер на разходите по проект от УО/ДФЗ | J2: Субсидия по проектите, одобрени от УО/ДФЗ | K2: Сключени договори | L2: ОСТАТЪК | M2: Процент на одобрение | N2: Изплатена субсидия
L3: колона 2 минус колона 10 | M3: колона 10 разделена на колона 2
A4: 1 | B4: 2 | C4: 3 | D4: 4 | E4: 5 | F4: 6 | G4: 7 | H4: 8 | I4: 9 | J4: 10 | K4: 11 | L4: 12 | M4: 13 | N4: 14
A5: Приоритет 1: Насърчаване на местния бизнес за създаване на заетост, доходи и разнообразяване на икономическите дейности | B5: ='Таблица-5'!B6+'Таблица-5'!B7+'Таблица-5'!B8 -> 1788700 | C5: ='Таблица-5'!C6+'Таблица-5'!C7+'Таблица-5'!C8 -> 5123753.1 | D5: ='Таблица-5'!D6+'Таблица-5'!D7+'Таблица-5'!D8 -> 2849473.3 | E5: ='Таблица-5'!E6+'Таблица-5'!E7+'Таблица-5'!E8 -> 4644539.7 | F5: ='Таблица-5'!F6+'Таблица-5'!F7+'Таблица-5'!F8 -> 2540009.4 | G5: ='Таблица-5'!G6+'Таблица-5'!G7+'Таблица-5'!G8 -> 4436881.3 | H5: ='Таблица-5'!H6+'Таблица-5'!H7+'Таблица-5'!H8+0.01 -> 2439142.2 | I5: ='Таблица-5'!I6+'Таблица-5'!I7+'Таблица-5'!I8 -> 4392191.2 | J5: ='Таблица-5'!J6+'Таблица-5'!J7+'Таблица-5'!J8 -> 2427350.6 | K5: ='Таблица-5'!K6+'Таблица-5'!K7+'Таблица-5'!K8 -> 43 | L5: ='Таблица-5'!N6+'Таблица-5'!N8 -> 103259.92 | M5: =J5/B5*100 -> 135.70474 | N5: ='Таблица-5'!Q6+'Таблица-5'!Q7+'Таблица-5'!Q8 -> 1574124.8
A6: Приоритет 2: Развитие на благоприятна жизнена среда за социално приобщаване и общо подобряване на качеството на живот | B6: ='Таблица-5'!B9+'Таблица-5'!B10 -> 1943300 | C6: ='Таблица-5'!C9+'Таблица-5'!C10 -> 2215128.2 | D6: ='Таблица-5'!D9+'Таблица-5'!D10 -> 2215128.2 | E6: ='Таблица-5'!E9+'Таблица-5'!E10 -> 2139430.8 | F6: ='Таблица-5'!F9+'Таблица-5'!F10 -> 2139430.8 | G6: ='Таблица-5'!G9+'Таблица-5'!G10 -> 2139430.8 | H6: ='Таблица-5'!H9+'Таблица-5'!H10 -> 2139430.8 | I6: ='Таблица-5'!I9+'Таблица-5'!I10 -> 2090323.3 | ... K6: ='Таблица-5'!K9+'Таблица-5'!K10 -> 19 | L6: ='Таблица-5'!N9+'Таблица-5'!N10 -> 69548.76 | M6: =J6/B6*100 -> 103.9899 | N6: ='Таблица-5'!Q9+'Таблица-5'!Q10 -> 1817931.9
A7: Приоритет…
A8: Приоритет…
A9: ……
A10: Общо: | B10: =SUM(B5:B9) -> 3732000 | C10: =SUM(C5:C9) -> 7338881.3 | D10: =SUM(D5:D9) -> 5064601.5 | E10: =SUM(E5:E9) -> 6783970.5 | F10: =SUM(F5:F9) -> 4679440.2 | G10: =SUM(G5:G9) -> 6576312.1 | H10: =SUM(H5:H9) -> 4578573 | I10: =SUM(I5:I9) -> 6482514.4 | ... L10: =SUM(L5:L9) -> 172808.68 | M10: =J10/B10*100 -> 119.19042 | N10: =SUM(N5:N9) -> 3392056.7

Sheet Таблица-9
A1: Таблица 9: Изпълнение на СВОМР по приоритети на съюза за развитие на селските райони
A2: Приоритетина съюза за развитие на селските райони | B2: Области с поставен акцент, за които в най-голяма степен допринасят проектите | D2: Брой одобрени заявления от МИГ | E2: Брой одобрени заявления от ДФЗ | F2: Брой изплатениз аявления отДФЗ | G2: Субсидия по проектите, одобрени от МИГ в лв. | H2: Субсидия по проектите, одобрени от ДФЗ в лв. | I2: Изплатена субсидия в лв.
A3: 1 | B3: 2 | D3: 3 | E3: 4 | F3: 5 | G3: 6 | H3: 7 | I3: 8
A4: Стимулиране на трансфера на знания и иновациите в областта на селското и горското стопанство и селските райони с акцент върху следните области: | B4: 1А | C4: Стимулиране на иновациите, сътрудничеството и развитието на базата от знания в селските райони;
B5: 1B | C5: Укрепване на връзките между селското стопанство, производството на храни, горското стопанство и научноизследователската дейност и иновациите, включително с цел подобряване на екологичното управление и екологичните показатели;
B6: 1C | C6: Поощряване на ученето през целия живот и професионалното обучение в секторите на селското и горското стопанство;
A7: Повишаване на жизнеспособността на земеделските стопанства и конкурентоспособността на всички видове селскостопанска дейност във всички региони и насърчаване на новаторските технологии в селското стопанство и устойчивото управление на горите, с акцент върху следните области: | B7: 2A | C7: Подобряване на икономическите резултати на всички земеделски стопанства и улесняване на преструктурирането и модернизирането на стопанствата, особено с оглед на увеличаването на пазарното участие и ориентация и на разнообразяването в селското стопанство; | D7: ='Таблица-6'!F5 -> 48 | E7: ='Таблица-6'!L5 -> 43 | F7: ='Таблица-6'!O5 -> 34 | G7: ='Таблица-5'!F6+'Таблица-5'!F7+'Таблица-5'!F8 -> 2540009.4 | H7: ='Таблица-5'!J6+'Таблица-5'!J7+'Таблица-5'!J8 -> 2427350.6 | I7: ='Таблица-5'!Q6+'Таблица-5'!Q7+'Таблица-5'!Q8 -> 1574124.8
B8: 2B | C8: Улесняване на навлизането на земеделски стопани с подходяща квалификация в селскостопанския сектор, и по-специално приемствеността между поколенията;
A9: насърчаване на организацията на хранителната верига, включително преработката и предлагането на пазара на селскостопански продукти,на хуманното отношение към животните и управлението на риска в селското стопанство с акцент върху следните области: | B9: 3A | C9: Подобряване на конкурентоспособността на първичните производители чрез по-доброто им интегриране в селскостопанската и хранителната верига посредством схеми за качество, които да добавят стойност към селскостопанските продукти, популяризиране на местните пазари и къси вериги на доставки, групи на производителите и организации и междубраншови организации;
B10: 3B | C10: Подпомагане на превенцията и управлението на риска на стопанствата;
A11: Възстановяване, опазване и укрепване на екосистемите, свързани със селското и горското стопанство, с акцент върху следните области: | B11: 4A | C11: Възстановяване, опазване и укрепване на биологичното разнообразие, включително в зони по „Натура 2000“ и в зони с природни или други специфични ограничения и земеделие с висока природна стойност, както и на състоянието на европейските ландшафти;
B12: 4B | C12: Подобряване управлението на водите, включително управлението на торовете и пестицидите;
B13: 4C | C13: Предотвратяване на ерозията на почвите и подобряване на управлението им;
A14: Насърчаване на ефективното използване на ресурсите и подпомагане на прехода към нисковъглеродна и устойчива на изменението на климата икономика в селското стопанство, сектора на храните и горското стопанство, с акцент върху следните области: | B14: 5A | C14: Повишаване на ефективността при потреблението на вода в селското стопанство;
B15: 5B | C15: Повишаване на ефективността при потреблението на енергия в селското стопанство и хранително-вкусовата промишленост;
B16: 5C | C16: Улесняване на доставките и използването на възобновяеми източници на енергия, на странични продукти, отпадъци и остатъци, и други нехранителни суровини за целите на биоикономиката;
B17: 5D | C17: Намаляване на емисиите на парникови газове и амоняк от селското стопанство;
B18: 5E | C18: Стимулиране на съхраняването и поглъщането на въглерода в сектора на селското и горското стопанство;
A19: Насърчаване на социалното приобщаване, намаляването на бедността и икономическото развитие в селските райони, с акцент върху следните области: | B19: 6A | C19: Улесняване на разнообразяването, създаването и развитието на малки предприятия, както и разкриването на работни места;
B20: 6B | C20: Стимулиране на местното развитие в селските райони; | D20: ='Таблица-3'!F9+'Таблица-3'!F10 -> 21 | E20: ='Таблица-3'!L9+'Таблица-3'!L10 -> 20 | F20: ='Таблица-3'!S9+'Таблица-3'!S10 -> 15 | G20: ='Таблица-5'!F9+'Таблица-5'!F10 -> 2139430.8 | H20: ='Таблица-5'!I9+'Таблица-5'!I10 -> 2090323.3 | I20: ='Таблица-5'!Q9+'Таблица-5'!Q10 -> 1817931.9
B21: 6C | C21: Подобряване на достъпа до информационни и комуникационни технологии (ИКТ), използването и качеството им в селските райони;
B22: FA | C22: Друга област
D23: =SUM(D4:D22) -> 69 | E23: =SUM(E4:E22) -> 63 | F23: =SUM(F4:F22) -> 49 | G23: =SUM(G4:G22) -> 4679440.2 | H23: =SUM(H4:H22) -> 4517673.9 | I23: =SUM(I4:I22) -> 3392056.7

Sheet Таблица-10
A1: Таблица 10: Приоритети на съюза за развитие на селските райони по мерки финансирани от ЕЗФРСР
A2: Мярка | B2: Приоритет | D2: Област | F2: Индикатор | G2: Брой/ | H2: Брой/
G3: Площ/ | H3: Площ/
G4: Размер за проекти, одобрени от ДФЗ за периода на доклада | H4: Размер за проекти, изплатени от ДФЗ за периода на доклада
A5: 1 | B5: 2 | C5: 3 | D5: 4 | E5: 5 | F5: 6 | G5: 7
A6: За мярката за сътрудничество (член 35 от Регламент (ЕС) № 1305/2013, където е приложимо | B6: P1 | C6: Стимулиране на трансфера на знания и иновациите в областта на селското и горското стопанство и селските райони | D6: 1B | E6: Укрепване на връзките между селското стопанство, производството на храни, горското стопанство и научноизследователската дейност и иновациите, включително с цел подобряване на екологичното управление и екологичните показатели | F6: Проекти за сътрудничество по мярката за сътрудничество (член 35 от Регламент (ЕС) № 1305/2013 | G6: 0 | H6: 0
A7: За мярка 1.1 и др. подобни, включени в стратегията за ВОМР | B7: P1 | C7: Стимулиране на трансфера на знания и иновациите в областта на селското и горското стопанство и селските райони | D7: 1C | E7: Поощряване на ученето през целия живот и професионалното обучение в секторите на селското и горското стопанство | F7: Брой на участниците в обучения | G7: 0 | H7: 0
A8: За мерки 3.1, 4.1, 5, 6, 8.1 до 8.4, 17.1 и др. подобни на тях, включени в стратегията за ВОМР | B8: P2 | C8: Подобряване на жизнеспособността на стопанствата и конкурентоспособността на всички видове земеделие във всички региони; насърчаване на новаторски селскостопански технологии и устойчивото управление на горите | D8: 2A | E8: Подобряване на икономическите резултати на всички земеделски стопанства и улесняване на преструктурирането и модернизирането на стопанствата, особено с оглед на увеличаването на пазарното участие и ориентация и на разнообразяването в селското стопанство | F8: Брой на стопанствата/ бенефициентите, получаващи подкрепа | G8: ='Таблица-3'!N26 -> 62 | H8: ='Таблица-3'!S26 -> 49
B9: P2 | C9: Подобряване на жизнеспособността на стопанствата и конкурентоспособността на всички видове земеделие във всички региони; насърчаване на новаторски селскостопански технологии и устойчивото управление на горите | D9: 2B | E9: Улесняване на навлизането на земеделски стопани с подходяща квалификация в селскостопанския сектор, и по-специално приемствеността между поколенията | F9: Брой на стопанствата/ бенефициентите, получаващи подкрепа | G9: 0 | H9: 0
B10: P3 | C10: Насърчаване на добро организиране на хранителната верига, в т.ч. преработката и търговията със селскостопански продукти, хуманното отношение към животните и управлението на риска в селското стопанство | D10: 3A | E10: Подобряване на конкурентоспособността на първичните производители чрез по-доброто им интегриране в селскостопанската и хранителната верига посредством схеми за качество, които да добавят стойност към селскостопанските продукти, популяризиране на местните пазари и къси вериги на доставки, групи на производителите и организации и междубраншови организации | F10: Брой на стопанствата/ бенефициентите, получаващи подкрепа | G10: 0 | H10: 0
B11: P3 | C11: Насърчаване на добро организиране на хранителната верига, в т.ч. преработката и търговията със селскостопански продукти, хуманното отношение към животните и управлението на риска в селското стопанство | D11: 3B | E11: Подпомагане на превенцията и управлението на риска на стопанствата | F11: Брой на стопанствата/ бенефициентите, получаващи подкрепа | G11: 0 | H11: 0
A12: За мерки 4, 8.1 до 8.5, 15.1 и др. подобни на тях, включени в стратегията за ВОМР | B12: P4 | C12: Възстановяване, опазване и укрепване на екосистемите, свързани със селското и горското стопанство | D12: 4A | E12: Възстановяване, опазване и укрепване на биологичното разнообразие, включително в зони по „Натура 2000“ и в зони с природни или други специфични ограничения и земеделие с висока природна стойност, както и на състоянието на европейските ландшафти (За земеделие и развитие на селските райони) | F12: Обща подпомогната площ (ха) | G12: 0 | H12: 0
B13: P4 | C13: Възстановяване, опазване и укрепване на екосистемите, свързани със селското и горското стопанство | D13: 4A | E13: Възстановяване, опазване и укрепване на биологичното разнообразие, включително в зони по „Натура 2000“ и в зони с природни или други специфични ограничения и земеделие с висока природна стойност, както и на състоянието на европейските ландшафти (За горско стопанство) | F13: Обща подпомогната площ (ха) | G13: 0 | H13: 0
B14: P4 | C14: Възстановяване, опазване и укрепване на екосистемите, свързани със селското и горското стопанство | D14: 4B | E14: Подобряване управлението на водите, включително управлението на торовете и пестицидите (За земеделие и развитие на селските райони) | F14: Обща подпомогната площ (ха) | G14: 0 | H14: 0
B15: P4 | C15: Възстановяване, опазване и укрепване на екосистемите, свързани със селското и горското стопанство | D15: 4B | E15: Подобряване управлението на водите, включително управлението на торовете и пестицидите (За горско стопанство) | F15: Обща подпомогната площ (ха) | G15: 0 | H15: 0
B16: P4 | C16: Възстановяване, опазване и укрепване на екосистемите, свързани със селското и горското стопанство | D16: 4C | E16: Предотвратяване на ерозията на почвите и подобряване на управлението им (За земеделие и развитие на селските райони) | F16: Обща подпомогната площ (ха) | G16: 0 | H16: 0
B17: P4 | C17: Възстановяване, опазване и укрепване на екосистемите, свързани със селското и горското стопанство | D17: 4C | E17: Предотвратяване на ерозията на почвите и подобряване на управлението им (За горско стопанство) | F17: Обща подпомогната площ (ха) | G17: 0 | H17: 0
B18: P5 | C18: Насърчаване на ефективното използване на ресурсите и подпомагане на прехода към нисковъглеродна и устойчива на изменението на климата икономика в селското стопанство, сектора на храните и горското стопанство | D18: 5A | E18: Повишаване на ефективността при потреблението на вода в селското стопанство | F18: Обща подпомогната площ (ха) | G18: 0 | H18: 0
F19: (Отнася се за площта, обхваната от инвестиции за напояване) | G19: 0 | H19: 0
A20: За мерки 4, 5, 6.4, 7.2 до 7.8, 8.5 и 8.6 и др. инвестиционни мерки, включени в стратегията за ВОМР | B20: P5 | C20: Насърчаване на ефективното използване на ресурсите и подпомагане на прехода към нисковъглеродна и устойчива на изменението на климата икономика в селското стопанство, сектора на храните и горското стопанство | D20: 5B | E20: Повишаване на ефективността при потреблението на енергия в селското стопанство и хранително-вкусовата промишленост | F20: Общ размер на инвестициите | G20: 0 | H20: 0
F21: (Сума от всички допустими инвестиционни разходи - публични и частни) | G21: 0 | H21: 0
B22: P5 | C22: Насърчаване на ефективното използване на ресурсите и подпомагане на прехода към нисковъглеродна и устойчива на изменението на климата икономика в селското стопанство, сектора на храните и горското стопанство | D22: 5C | E22: Улесняване на доставките и използването на възобновяеми източници на енергия, на странични продукти, отпадъци и остатъци, и други нехранителни суровини за целите на биоикономиката | F22: Общ размер на инвестициите | G22: 0 | H22: 0
F23: (Сума от всички допустими инвестиционни разходи - публични и частни) | G23: 0 | H23: 0
A24: За мерки 4, 8.1 до 8.5, 15.1 и др. подобни на тях, включени в стратегията за ВОМР | B24: P5 | C24: Насърчаване на ефективното използване на ресурсите и подпомагане на прехода към нисковъглеродна и устойчива на изменението на климата икономика в селското стопанство, сектора на храните и горското стопанство | D24: 5D | E24: Намаляване на емисиите на парникови газове и амоняк от селското стопанство | F24: Обща площ (ха) | G24: 0 | H24: 0
A25: За мярка 4 и др. подобни, включени в стратегията за ВОМР | B25: P5 | C25: Насърчаване на ефективното използване на ресурсите и подпомагане на прехода към нисковъглеродна и устойчива на изменението на климата икономика в селското стопанство, сектора на храните и горското стопанство | D25: 5D | E25: Намаляване на емисиите на парникови газове и амоняк от селското стопанство | F25: Брой на подпомаганите животински единици (ЖЕ) | G25: 0 | H25: 0
A26: За мерки 4, 8.1 до 8.5, 15.1 и др. подобни на тях, включени в стратегията за ВОМР | B26: P5 | C26: Насърчаване на ефективното използване на ресурсите и подпомагане на прехода към нисковъглеродна и устойчива на изменението на климата икономика в селското стопанство, сектора на храните и горското стопанство | D26: 5E | E26: Стимулиране на съхраняването и поглъщането на въглерода в сектора на селското и горското стопанство | F26: Обща площ (ха) | G26: 0 | H26: 0

Sheet Таблица-11
A1: Таблица 11:Брой проекти към СВОМР по типове кандидати/получатели и по фондове-2024
A2: ТИПОВЕ КАНДИДАТИ/ ПОЛУЧАТЕЛИ | B2: Цел за периода 2014 – 2020 | C2: Брой регистрирани заявления от кандидати за одобрение от МИГ | E2: Брой одобрени заявления от МИГ | G2: Брой внесени заявления от МИГ за одобрение от УО/ДФЗ | I2: Брой одобрени заявления от УО/ДФЗ | K2: Брой сключени договори с кандидати | M2: Процент на одобрение | N2: Брой договори с изплатена субсидия | P2: Процент на изплащане
B3: (брой) | C3: за отч. период | D3: от скл. на спораз. | E3: за отч. период | F3: от скл. на спораз. | G3: за отч. период | H3: от скл. на спораз. | I3: за отч. период | J3: от скл. на спораз. | K3: за отч. период | L3: от скл. на спораз. | M3: колона 12 разделена на колона 2 | N3: за отч. период | O3: от скл. на спораз. | P3: колона 15 разделена на колона 2
A4: 1 | B4: 2 | C4: 3 | D4: 4 | E4: 5 | F4: 6 | G4: 7 | H4: 8 | I4: 9 | J4: 10 | K4: 11 | L4: 12 | M4: 13 | N4: 14 | O4: 15 | P4: 16
A5: от ЕЗФРСР
A6: ПУБЛИЧНИ
A7: МИГ | B7: 0
A8: Публичен орган/община | B8: 18 | C8: 3 | D8: =18+C8 -> 21 | E8: 2 | F8: 20 | G8: 2 | H8: 20 | I8: 2 | J8: 19 | K8: 1 | L8: 18 | M8: =L8/B8% -> 100 | N8: 6 | O8: 14 | P8: =O8/B8*100 -> 77.777778
A9: НПО | C9: 0 | D9: 1 | E9: 0 | F9: 1 | G9: 0 | H9: 1 | I9: 0 | J9: 1 | K9: 0 | L9: 1 | N9: 1 | O9: 1
A10: други | G10: =E10 -> 0
A11: ЧАСТНИ | G11: =E11 -> 0
A12: Малко или средно предприятие
A13: Микропредприятие(Моля, отбележете и юридическата форма) | B13: 36 | M13: =(L14+L15+L17+L18)/B13*100 -> 119.44444 | P13: =(O14+O15+O18)/B13*100 -> 83.333333
A14: Физическо лице-ЗП | C14: 3 | D14: 24 | E14: 3 | F14: 24 | G14: 3 | H14: 24 | I14: 3 | J14: 23 | K14: 2 | L14: 23 | N14: 5 | O14: 22 | P14: 0
A15: ЕТ | C15: 0 | D15: 2 | E15: 0 | F15: 2 | G15: =E15 -> 0 | H15: 2 | I15: 0 | J15: 2 | K15: 0 | L15: 2 | N15: 1 | O15: 2
A16: Лице, регистрирано по ТЗ | G16: =E16 -> 0
A17: ООД | C17: 0 | D17: 10 | E17: 0 | F17: 7 | G17: 0 | H17: 7 | I17: 0 | J17: 7 | K17: 2 | L17: 6 | M17: 0 | N17: 1 | O17: 4
A18: ЕООД | C18: 2 | D18: 16 | E18: 2 | F18: 15 | G18: 2 | H18: 15 | I18: 4 | J18: 12 | K18: 3 | L18: 12 | M18: 0 | N18: 4 | O18: 6
A19: Друго(ако е приложимо) | G19: =E19 -> 0
A20: Общо от ЕЗФРСР: | B20: =SUM(B7:B19) -> 54 | C20: =SUM(C7:C19) -> 8 | D20: =SUM(D7:D19) -> 74 | E20: =SUM(E7:E19) -> 7 | F20: =SUM(F7:F19) -> 69 | G20: =SUM(G7:G19) -> 7 | H20: =SUM(H7:H19) -> 69 | I20: =SUM(I7:I19) -> 9 | ... L20: =SUM(L7:L19) -> 62 | M20: =L20/B20% -> 114.81481 | N20: =SUM(N7:N19) -> 18 | O20: =SUM(O7:O19) -> 49 | P20: =O20/B20*100 -> 90.740741
A22: от ОПОС
A23: Добавят се редове за съответните типове кандидати/получатели
A24: Общо от ОПОС
A26: от ОПНОИР
A27: Добавят се редове за съответните типове кандидати/получатели
A28: Общо от ОПНОИР
A30: от ОПРЧР
A31: Добавят се редове за съответните типове кандидати/получатели
A32: Общо от ОПРЧР
A34: от ОПИК
A35: Добавят се редове за съответните типове кандидати/получатели
A36: Общо от ОПИК
... A40: Общо от ПМДР
A41: ОБЩО: | B41: =B20 -> 54 | C41: =C20 -> 8 | D41: =D20 -> 74 | E41: =E20 -> 7 | F41: =F20 -> 69 | G41: =G20 -> 7 | H41: =H20 -> 69 | I41: =I20 -> 9 | ... P41: =P20 -> 90.740741

Sheet Таблица-12
A1: Таблица 12: Изпълнение на СВОМР по типове кандидати/ получателии по фондове от сключване на споразумение за финансиране в лева
A2: ТИПОВЕ КАНДИДАТИ/ ПОЛУЧАТЕЛИ | B2: Одобрен бюджет на субсидията за целия период | C2: Заявен общ размер на разходите по заявления подадени в МИГ | D2: Заявен общ размер на субсидиите по заявления, подадени в МИГ | F2: Одобрен общ размер на разходите по проект от МИГ | G2: Субсидия по проектите, одобрени от МИГ | J2: Заявен общ размер на разходите по проект към УО/ДФЗ | K2: Заявена субсидия към УО/ДФЗ | L2: Одобрен общ размер на разходите по проект от УО/ДФЗ | M2: Субсидия по проектите, одобрени от УО/ДФЗ | O2: Сключени договори | P2: ОСТАТЪК | Q2: Процент на одобрение | R2: Изплатена субсидия
P3: колона 2 минус колона 10 | Q3: колона 10 разделена на колона 2
A4: 1 | B4: 2 | C4: 3 | D4: 4 | F4: 5 | G4: 6 | J4: 7 | K4: 8 | L4: 9 | M4: 10 | O4: 11 | P4: 12 | Q4: 13 | R4: 14
A5: от ЕЗФРСР
A6: ПУБЛИЧНИ | B6: ='Таблица-13'!C66+'Таблица-13'!C82 -> 1943300 | C6: =SUM(C8:C9) -> 2215128.2 | D6: =SUM(D8:D9) -> 2215128.2 | F6: =SUM(F8:F9) -> 2139430.8 | G6: =SUM(G8:G9) -> 2139430.8 | J6: =SUM(J8:J9) -> 2139430.8 | K6: =SUM(K8:K9) -> 2139430.8 | L6: =SUM(L8:L9) -> 2090323.3 | M6: =SUM(M8:M9) -> 2020835.8 | N6: =SUM(N8:N9) -> 1817931.9 | O6: =SUM(O8:O9) -> 18 | P6: ='Таблица-5'!N9+'Таблица-5'!N10 -> 69548.76 | Q6: =M6/B6% -> 103.9899 | R6: =SUM(R8:R9) -> 1817931.9
A7: МИГ
A8: Публичен орган/община | C8: ='Таблица-13'!D65+'Таблица-13'!D84+'Таблица-13'!D85+'Таблица-13'!D86+'Таблица-13'!D87+'Таблица-13'!D88+'Таблица-13'!D89+'Таблица-13'!D90 -> 2185830.2 | D8: ='Таблица-13'!E65+'Таблица-13'!E84+'Таблица-13'!E85+'Таблица-13'!E86+'Таблица-13'!E87+'Таблица-13'!E88+'Таблица-13'!E89+'Таблица-13'!E90 -> 2185830.2 | E8: ='Таблица-13'!F65+'Таблица-13'!F84+'Таблица-13'!F85+'Таблица-13'!F86+'Таблица-13'!F87+'Таблица-13'!F88+'Таблица-13'!F89+'Таблица-13'!F90 -> 21 | F8: ='Таблица-13'!G65+'Таблица-13'!G84+'Таблица-13'!G85+'Таблица-13'!G86+'Таблица-13'!G87+'Таблица-13'!G88+'Таблица-13'!G89+'Таблица-13'!G90 -> 2110132.8 | G8: ='Таблица-13'!H65+'Таблица-13'!H84+'Таблица-13'!H85+'Таблица-13'!H86+'Таблица-13'!H87+'Таблица-13'!H88+'Таблица-13'!H89+'Таблица-13'!H90 -> 2110132.8 | J8: ='Таблица-13'!K65+'Таблица-13'!K84+'Таблица-13'!K85+'Таблица-13'!K86+'Таблица-13'!K87+'Таблица-13'!K88+'Таблица-13'!K89+'Таблица-13'!K90 -> 2110132.8 | K8: ='Таблица-13'!L65+'Таблица-13'!L84+'Таблица-13'!L85+'Таблица-13'!L86+'Таблица-13'!L87+'Таблица-13'!L88+'Таблица-13'!L89+'Таблица-13'!L90 -> 2110132.8 | L8: ='Таблица-13'!M65+'Таблица-13'!M84+'Таблица-13'!M85+'Таблица-13'!M86+'Таблица-13'!M87+'Таблица-13'!M88+'Таблица-13'!M89+'Таблица-13'!M90 -> 2061025.3 | M8: ='Таблица-13'!N65+'Таблица-13'!N84+'Таблица-13'!N85+'Таблица-13'!N86+'Таблица-13'!N87+'Таблица-13'!N88+'Таблица-13'!N89+'Таблица-13'!N90 -> 1991537.8 | N8: ='Таблица-13'!O65+'Таблица-13'!O84+'Таблица-13'!O85+'Таблица-13'!O86+'Таблица-13'!O87+'Таблица-13'!O88+'Таблица-13'!O89+'Таблица-13'!O90 -> 1788633.9 | O8: 17 | R8: =N8 -> 1788633.9
A9: НПО | C9: ='Таблица-13'!D83 -> 29298 | D9: ='Таблица-13'!E83 -> 29298 | E9: ='Таблица-13'!F83 -> 1 | F9: ='Таблица-13'!G83 -> 29298 | G9: ='Таблица-13'!H83 -> 29298 | J9: ='Таблица-13'!K83 -> 29298 | K9: ='Таблица-13'!L83 -> 29298 | L9: ='Таблица-13'!M83 -> 29298 | M9: ='Таблица-13'!N83 -> 29298 | N9: ='Таблица-13'!O83 -> 29298 | O9: 1 | R9: =N9 -> 29298
A10: други
A11: ЧАСТНИ
A12: Малко или средно предприятие
A13: Микропредприятие(Моля, отбележете и юридическата форма) | B13: ='Таблица-13'!C5+'Таблица-13'!C38+'Таблица-13'!C45 -> 1788700 | C13: =C14+C15+C16+C17 -> 5123753.1 | D13: =D14+D15+D16+D17 -> 2849473.3 | F13: =F14+F15+F16+F17 -> 4644539.7 | G13: =G14+G15+G16+G17 -> 2540009.4 | J13: =J14+J15+J16+J17 -> 4436881.3 | K13: =K14+K15+K16+K17 -> 2439142.2 | L13: =L14+L15+L16+L17 -> 4392191.2 | M13: =M14+M15+M16+M17 -> 2427350.6 | N13: =N14+N15+N16+N17 -> 1574124.8 | O13: =O14+O15+O16+O17 -> 44 | P13: ='Таблица-5'!N6+'Таблица-5'!N8 -> 103259.92 | Q13: =M13/B13*100 -> 135.70474 | R13: =R14+R15+R16+R17 -> 1574124.8
A14: Физическо лице | C14: ='Таблица-13'!D8+'Таблица-13'!D9+'Таблица-13'!D10+'Таблица-13'!D12+'Таблица-13'!D13+'Таблица-13'!D14+'Таблица-13'!D15+'Таблица-13'!D17+'Таблица-13'!D18+'Таблица-13'!D19+'Таблица-13'!D20+'Таблица-13'!D21+'Таблица-13'!D24+'Таблица-13'!D25+'Таблица-13'!D27+'Таблица-13'!D28+'Таблица-13'!D29+'Таблица-13'!D30+'Таблица-13'!D31+'Таблица-13'!D33+'Таблица-13'!D34+'Таблица-13'!D35++'Таблица-13'!D39 -> 2050166 | D14: ='Таблица-13'!E8+'Таблица-13'!E9+'Таблица-13'!E10+'Таблица-13'!E12+'Таблица-13'!E13+'Таблица-13'!E14+'Таблица-13'!E15+'Таблица-13'!E17+'Таблица-13'!E18+'Таблица-13'!E19+'Таблица-13'!E20+'Таблица-13'!E21+'Таблица-13'!E24+'Таблица-13'!E25+'Таблица-13'!E27+'Таблица-13'!E28+'Таблица-13'!E29+'Таблица-13'!E30+'Таблица-13'!E31+'Таблица-13'!E33+'Таблица-13'!E34+'Таблица-13'!E35++'Таблица-13'!E39 -> 1000097.9 | E14: ='Таблица-13'!F8+'Таблица-13'!F9+'Таблица-13'!F10+'Таблица-13'!F12+'Таблица-13'!F13+'Таблица-13'!F14+'Таблица-13'!F15+'Таблица-13'!F17+'Таблица-13'!F18+'Таблица-13'!F19+'Таблица-13'!F20+'Таблица-13'!F21+'Таблица-13'!F24+'Таблица-13'!F25+'Таблица-13'!F27+'Таблица-13'!F28+'Таблица-13'!F29+'Таблица-13'!F30+'Таблица-13'!F31+'Таблица-13'!F33+'Таблица-13'!F34+'Таблица-13'!F35++'Таблица-13'!F39 -> 11.23774 | F14: ='Таблица-13'!G8+'Таблица-13'!G9+'Таблица-13'!G10+'Таблица-13'!G12+'Таблица-13'!G13+'Таблица-13'!G14+'Таблица-13'!G15+'Таблица-13'!G17+'Таблица-13'!G18+'Таблица-13'!G19+'Таблица-13'!G20+'Таблица-13'!G21+'Таблица-13'!G24+'Таблица-13'!G25+'Таблица-13'!G27+'Таблица-13'!G28+'Таблица-13'!G29+'Таблица-13'!G30+'Таблица-13'!G31+'Таблица-13'!G33+'Таблица-13'!G34+'Таблица-13'!G35++'Таблица-13'!G39 -> 1958307.6 | G14: ='Таблица-13'!H8+'Таблица-13'!H9+'Таблица-13'!H10+'Таблица-13'!H12+'Таблица-13'!H13+'Таблица-13'!H14+'Таблица-13'!H15+'Таблица-13'!H17+'Таблица-13'!H18+'Таблица-13'!H19+'Таблица-13'!H20+'Таблица-13'!H21+'Таблица-13'!H24+'Таблица-13'!H25+'Таблица-13'!H27+'Таблица-13'!H28+'Таблица-13'!H29+'Таблица-13'!H30+'Таблица-13'!H31+'Таблица-13'!H33+'Таблица-13'!H34+'Таблица-13'!H35++'Таблица-13'!H39 -> 954168.75 | J14: ='Таблица-13'!K8+'Таблица-13'!K9+'Таблица-13'!K10+'Таблица-13'!K12+'Таблица-13'!K13+'Таблица-13'!K14+'Таблица-13'!K15+'Таблица-13'!K17+'Таблица-13'!K18+'Таблица-13'!K19+'Таблица-13'!K20+'Таблица-13'!K21+'Таблица-13'!K24+'Таблица-13'!K25+'Таблица-13'!K27+'Таблица-13'!K28+'Таблица-13'!K29+'Таблица-13'!K30+'Таблица-13'!K31+'Таблица-13'!K33+'Таблица-13'!K34+'Таблица-13'!K35++'Таблица-13'!K39 -> 1910573.3 | K14: ='Таблица-13'!L8+'Таблица-13'!L9+'Таблица-13'!L10+'Таблица-13'!L12+'Таблица-13'!L13+'Таблица-13'!L14+'Таблица-13'!L15+'Таблица-13'!L17+'Таблица-13'!L18+'Таблица-13'!L19+'Таблица-13'!L20+'Таблица-13'!L21+'Таблица-13'!L24+'Таблица-13'!L25+'Таблица-13'!L27+'Таблица-13'!L28+'Таблица-13'!L29+'Таблица-13'!L30+'Таблица-13'!L31+'Таблица-13'!L33+'Таблица-13'!L34+'Таблица-13'!L35++'Таблица-13'!L39 -> 930301.58 | L14: ='Таблица-13'!M8+'Таблица-13'!M9+'Таблица-13'!M10+'Таблица-13'!M12+'Таблица-13'!M13+'Таблица-13'!M14+'Таблица-13'!M15+'Таблица-13'!M17+'Таблица-13'!M18+'Таблица-13'!M19+'Таблица-13'!M20+'Таблица-13'!M21+'Таблица-13'!M24+'Таблица-13'!M25+'Таблица-13'!M27+'Таблица-13'!M28+'Таблица-13'!M29+'Таблица-13'!M30+'Таблица-13'!M31+'Таблица-13'!M33+'Таблица-13'!M34+'Таблица-13'!M35++'Таблица-13'!M39 -> 1909595.4 | M14: ='Таблица-13'!N8+'Таблица-13'!N9+'Таблица-13'!N10+'Таблица-13'!N12+'Таблица-13'!N13+'Таблица-13'!N14+'Таблица-13'!N15+'Таблица-13'!N17+'Таблица-13'!N18+'Таблица-13'!N19+'Таблица-13'!N20+'Таблица-13'!N21+'Таблица-13'!N24+'Таблица-13'!N25+'Таблица-13'!N27+'Таблица-13'!N28+'Таблица-13'!N29+'Таблица-13'!N30+'Таблица-13'!N31+'Таблица-13'!N33+'Таблица-13'!N34+'Таблица-13'!N35++'Таблица-13'!N39 -> 929812.62 | N14: ='Таблица-13'!O8+'Таблица-13'!O9+'Таблица-13'!O10+'Таблица-13'!O12+'Таблица-13'!O13+'Таблица-13'!O14+'Таблица-13'!O15+'Таблица-13'!O17+'Таблица-13'!O18+'Таблица-13'!O19+'Таблица-13'!O20+'Таблица-13'!O21+'Таблица-13'!O24+'Таблица-13'!O25+'Таблица-13'!O27+'Таблица-13'!O28+'Таблица-13'!O29+'Таблица-13'!O30+'Таблица-13'!O31+'Таблица-13'!O33+'Таблица-13'!O34+'Таблица-13'!O35++'Таблица-13'!O39 -> 659560.18 | O14: =20+4 -> 24 | R14: =N14 -> 659560.18
A15: ЕТ | C15: ='Таблица-13'!D52+'Таблица-13'!D54 -> 45228 | D15: ='Таблица-13'!E52+'Таблица-13'!E54 -> 31659.6 | E15: ='Таблица-13'!F52+'Таблица-13'!F54 -> 1.4 | F15: ='Таблица-13'!G52+'Таблица-13'!G54 -> 45228 | G15: ='Таблица-13'!H52+'Таблица-13'!H54 -> 31659.6 | J15: ='Таблица-13'!K52+'Таблица-13'!K54 -> 45228 | K15: ='Таблица-13'!L52+'Таблица-13'!L54 -> 31659.6 | L15: ='Таблица-13'!M52+'Таблица-13'!M54 -> 45228 | M15: ='Таблица-13'!N52+'Таблица-13'!N54 -> 31648.26 | N15: ='Таблица-13'!O52+'Таблица-13'!O54 -> 31648.26 | O15: 2 | R15: =N15 -> 31648.26
A16: Лице, регистрирано по ТЗ-ООД | C16: ='Таблица-13'!D11+'Таблица-13'!D41+'Таблица-13'!D42+'Таблица-13'!D43+'Таблица-13'!D46+'Таблица-13'!D47+'Таблица-13'!D49+'Таблица-13'!D51+'Таблица-13'!D53+'Таблица-13'!D55 -> 1300633.9 | D16: ='Таблица-13'!E11+'Таблица-13'!E41+'Таблица-13'!E42+'Таблица-13'!E43+'Таблица-13'!E46+'Таблица-13'!E47+'Таблица-13'!E49+'Таблица-13'!E51+'Таблица-13'!E53+'Таблица-13'!E55 -> 848084.47 | E16: ='Таблица-13'!F11+'Таблица-13'!F41+'Таблица-13'!F42+'Таблица-13'!F43+'Таблица-13'!F46+'Таблица-13'!F47+'Таблица-13'!F49+'Таблица-13'!F51+'Таблица-13'!F53+'Таблица-13'!F55 -> 6.3046249 | F16: ='Таблица-13'!G11+'Таблица-13'!G41+'Таблица-13'!G42+'Таблица-13'!G43+'Таблица-13'!G46+'Таблица-13'!G47+'Таблица-13'!G49+'Таблица-13'!G51+'Таблица-13'!G53+'Таблица-13'!G55 -> 906278.74 | G16: ='Таблица-13'!H11+'Таблица-13'!H41+'Таблица-13'!H42+'Таблица-13'!H43+'Таблица-13'!H46+'Таблица-13'!H47+'Таблица-13'!H49+'Таблица-13'!H51+'Таблица-13'!H53+'Таблица-13'!H55 -> 584549.76 | J16: ='Таблица-13'!K11+'Таблица-13'!K41+'Таблица-13'!K42+'Таблица-13'!K43+'Таблица-13'!K46+'Таблица-13'!K47+'Таблица-13'!K49+'Таблица-13'!K51+'Таблица-13'!K53+'Таблица-13'!K55 -> 906278.74 | K16: ='Таблица-13'!L11+'Таблица-13'!L41+'Таблица-13'!L42+'Таблица-13'!L43+'Таблица-13'!L46+'Таблица-13'!L47+'Таблица-13'!L49+'Таблица-13'!L51+'Таблица-13'!L53+'Таблица-13'!L55 -> 584549.76 | L16: ='Таблица-13'!M11+'Таблица-13'!M41+'Таблица-13'!M42+'Таблица-13'!M43+'Таблица-13'!M46+'Таблица-13'!M47+'Таблица-13'!M49+'Таблица-13'!M51+'Таблица-13'!M53+'Таблица-13'!M55 -> 885617.09 | M16: ='Таблица-13'!N11+'Таблица-13'!N41+'Таблица-13'!N42+'Таблица-13'!N43+'Таблица-13'!N46+'Таблица-13'!N47+'Таблица-13'!N49+'Таблица-13'!N51+'Таблица-13'!N53+'Таблица-13'!N55 -> 580512.99 | N16: ='Таблица-13'!O11+'Таблица-13'!O41+'Таблица-13'!O42+'Таблица-13'!O43+'Таблица-13'!O46+'Таблица-13'!O47+'Таблица-13'!O49+'Таблица-13'!O51+'Таблица-13'!O53+'Таблица-13'!O55 -> 278494.38 | O16: =10 -> 10 | R16: =N16 -> 278494.38
A17: Лице, регистрирано по ТЗ-ЕООД | C17: ='Таблица-13'!D22+'Таблица-13'!D23+'Таблица-13'!D26+'Таблица-13'!D32+'Таблица-13'!D36+'Таблица-13'!D40+'Таблица-13'!D48+'Таблица-13'!D50+'Таблица-13'!D56+'Таблица-13'!D57+'Таблица-13'!D58+'Таблица-13'!D59+'Таблица-13'!D60+'Таблица-13'!D61+'Таблица-13'!D62+'Таблица-13'!D63+'Таблица-13'!D64 -> 1727725.3 | D17: ='Таблица-13'!E22+'Таблица-13'!E23+'Таблица-13'!E26+'Таблица-13'!E32+'Таблица-13'!E36+'Таблица-13'!E40+'Таблица-13'!E48+'Таблица-13'!E50+'Таблица-13'!E56+'Таблица-13'!E57+'Таблица-13'!E58+'Таблица-13'!E59+'Таблица-13'!E60+'Таблица-13'!E61+'Таблица-13'!E62+'Таблица-13'!E63+'Таблица-13'!E64 -> 969631.27 | E17: ='Таблица-13'!F22+'Таблица-13'!F23+'Таблица-13'!F26+'Таблица-13'!F32+'Таблица-13'!F36+'Таблица-13'!F40+'Таблица-13'!F48+'Таблица-13'!F50+'Таблица-13'!F56+'Таблица-13'!F57+'Таблица-13'!F58+'Таблица-13'!F59+'Таблица-13'!F60+'Таблица-13'!F61+'Таблица-13'!F62+'Таблица-13'!F63+'Таблица-13'!F64 -> 9.9788787 | F17: ='Таблица-13'!G22+'Таблица-13'!G23+'Таблица-13'!G26+'Таблица-13'!G32+'Таблица-13'!G36+'Таблица-13'!G40+'Таблица-13'!G48+'Таблица-13'!G50+'Таблица-13'!G56+'Таблица-13'!G57+'Таблица-13'!G58+'Таблица-13'!G59+'Таблица-13'!G60+'Таблица-13'!G61+'Таблица-13'!G62+'Таблица-13'!G63+'Таблица-13'!G64 -> 1734725.3 | G17: ='Таблица-13'!H22+'Таблица-13'!H23+'Таблица-13'!H26+'Таблица-13'!H32+'Таблица-13'!H36+'Таблица-13'!H40+'Таблица-13'!H48+'Таблица-13'!H50+'Таблица-13'!H56+'Таблица-13'!H57+'Таблица-13'!H58+'Таблица-13'!H59+'Таблица-13'!H60+'Таблица-13'!H61+'Таблица-13'!H62+'Таблица-13'!H63+'Таблица-13'!H64 -> 969631.26 | J17: ='Таблица-13'!K22+'Таблица-13'!K23+'Таблица-13'!K26+'Таблица-13'!K32+'Таблица-13'!K36+'Таблица-13'!K40+'Таблица-13'!K48+'Таблица-13'!K50+'Таблица-13'!K56+'Таблица-13'!K57+'Таблица-13'!K58+'Таблица-13'!K59+'Таблица-13'!K60+'Таблица-13'!K61+'Таблица-13'!K62+'Таблица-13'!K63+'Таблица-13'!K64 -> 1574801.3 | K17: ='Таблица-13'!L22+'Таблица-13'!L23+'Таблица-13'!L26+'Таблица-13'!L32+'Таблица-13'!L36+'Таблица-13'!L40+'Таблица-13'!L48+'Таблица-13'!L50+'Таблица-13'!L56+'Таблица-13'!L57+'Таблица-13'!L58+'Таблица-13'!L59+'Таблица-13'!L60+'Таблица-13'!L61+'Таблица-13'!L62+'Таблица-13'!L63+'Таблица-13'!L64 -> 892631.27 | L17: ='Таблица-13'!M22+'Таблица-13'!M23+'Таблица-13'!M26+'Таблица-13'!M32+'Таблица-13'!M36+'Таблица-13'!M40+'Таблица-13'!M48+'Таблица-13'!M50+'Таблица-13'!M56+'Таблица-13'!M57+'Таблица-13'!M58+'Таблица-13'!M59+'Таблица-13'!M60+'Таблица-13'!M61+'Таблица-13'!M62+'Таблица-13'!M63+'Таблица-13'!M64 -> 1551750.7 | M17: ='Таблица-13'!N22+'Таблица-13'!N23+'Таблица-13'!N26+'Таблица-13'!N32+'Таблица-13'!N36+'Таблица-13'!N40+'Таблица-13'!N48+'Таблица-13'!N50+'Таблица-13'!N56+'Таблица-13'!N57+'Таблица-13'!N58+'Таблица-13'!N59+'Таблица-13'!N60+'Таблица-13'!N61+'Таблица-13'!N62+'Таблица-13'!N63+'Таблица-13'!N64 -> 885376.75 | N17: ='Таблица-13'!O22+'Таблица-13'!O23+'Таблица-13'!O26+'Таблица-13'!O32+'Таблица-13'!O36+'Таблица-13'!O40+'Таблица-13'!O48+'Таблица-13'!O50+'Таблица-13'!O56+'Таблица-13'!O57+'Таблица-13'!O58+'Таблица-13'!O59+'Таблица-13'!O60+'Таблица-13'!O61+'Таблица-13'!O62+'Таблица-13'!O63+'Таблица-13'!O64 -> 604422.03 | O17: =4+4 -> 8 | R17: =N17 -> 604422.03
A18: Друго(ако е приложимо)
A19: Общо от ЕЗФРСР: | B19: =B13+B6 -> 3732000 | C19: =C13+C6 -> 7338881.3 | D19: =D13+D6 -> 5064601.5 | E19: =E13+E6 -> 0 | F19: =F13+F6 -> 6783970.5 | G19: =G13+G6 -> 4679440.2 | H19: =H13+H6 -> 0 | I19: =I13+I6 -> 0 | ... P19: =P13+P6 -> 172808.68 | R19: =R13+R6 -> 3392056.7
A21: от ОПОС
A22: Добавят се редове за съответните типове кандидати/получатели
A23: Общо от ОПОС
A25: от ОПНОИР
A26: Добавят се редове за съответните типове кандидати/получатели
A27: Общо от ОПНОИР
A29: от ОПРЧР
A30: Добавят се редове за съответните типове кандидати/получатели
A31: Общо от ОПРЧР
A33: от ОПИК
A34: Добавят се редове за съответните типове кандидати/получатели
A35: Общо от ОПИК
... A39: Общо от ПМДР
A40: ОБЩО: | B40: =B19 -> 3732000 | C40: =C19 -> 7338881.3 | D40: =D19 -> 5064601.5 | F40: =F19 -> 6783970.5 | G40: =G19 -> 4679440.2 | J40: =J19 -> 6576312.1 | K40: =K19 -> 4578573 | L40: =L19 -> 6482514.4 | M40: =M19 -> 4448186.4 | N40: =N19 -> 3392056.7 | O40: =O19 -> 62 | P40: =P19 -> 172808.68 | R40: =R19 -> 3392056.7
L43: 5050244.8 | M43: 3931928.1 | R43: 2219422.9
L44: =L40-L43 -> 1432269.7 | M44: =M40-M43 -> 516258.29 | R44: =R40-R43 -> 1172633.9

Sheet Таблица-13
A1: Таблица 13: Изпълнение на СВОМР по кандидати/ получатели през отчетния период в лева - 2024г.
A2: МЕРКИ ПО ФОНДОВЕ | B2: Име на кандидата/ получателя | C2: Име на проекта | D2: Заявен общ размер на разходите по заявления подадени в МИГ | E2: Заявен общ размер наБФП по заявления, подадени в МИГ | F2: % на заявената помощ | G2: Одобрен общ размер на разходите по проект от МИГ | H2: Субсидия по проектите, одобрени от МИГ | I2: Договор № | J2: дата | K2: Заявен общ размер на разходите по проект към УО/ДФЗ | L2: Заявена субсидия към УО/ДФЗ | M2: Одобрен общ размер на разх. по проект от УО/ДФЗ | N2: Одобрена | O2: Изплатена субсидия
N3: субсидия от УО/ДФЗ
A4: 1 | B4: 2 | C4: 3 | D4: 4 | E4: 5 | F4: 6 | G4: 7 | H4: 8 | I4: 9 | J4: 10 | K4: 11 | L4: 12 | M4: 13 | N4: 14 | O4: 15
A5: Мерки, финансирани от ПРСР 2014 - 2020 г. (ЕЗФРСР) | C5: 996900
A6: Подмярка 4.1. Подкрепа за инвестиции в земеделски стопанства | D6: =SUM(D7:D36) -> 2822621.8 | E6: =SUM(E7:E36) -> 1368413.8 | G6: =SUM(G7:G36) -> 2822621.8 | H6: =SUM(H7:H36) -> 1368413.8 | K6: =SUM(K7:K36) -> 2614963.5 | L6: =SUM(L7:L36) -> 1267546.6 | M6: =SUM(M7:M36) -> 2613985.5 | N6: =SUM(N7:N36) -> 1267057.7 | O6: =SUM(O7:O36) -> 996460.41
B7: РАДИДА ООД | C7: „Модернизиране на кравеферма, включващо подмяна на покривни материали и закупуване на ехограф“ | I7: ОТТЕГЛЕН | J7: ДОПУСНАТА ТЕХНИЧЕСКА ГРЕШКА | K7: 0 | L7: 0 | M7: 0 | N7: 0 | O7: 0
A8: 1 | B8: Иван Иванов - земеделски стопанин физическо лице | C8: Механизиране на процесите по доене | D8: 101810 | E8: 50905 | F8: =E8/D8 -> 0.5 | G8: 101810 | H8: 50905 | I8: BG06RDNP001-19.076-0002 | J8: 30.9.2020 Отказан за изпълнение договор от Бенефициента | K8: =G8 -> 101810 | L8: =H8 -> 50905 | M8: 101810 | N8: 50905 | O8: 0 | P8: Отказан за изпълнение и финансиране
A9: 2 | B9: Венцислав Вълчев | C9: „Модернизиране на процесите по доене и поддържане на пасището във фермата на земеделски стопанин Венцислав Вълчев” | D9: 155307.23 | E9: 77653.62 | F9: =E9/D9 -> 0.50000003 | G9: 155307.23 | H9: 77653.62 | I9: BG06RDNP001-19.076-0003 | J9: 30.9.2020 Отказан за изпълнение договор от Бенефициента | K9: =G9 -> 155307.23 | L9: =H9 -> 77653.62 | M9: 155307.23 | N9: 77653.62 | O9: 0 | P9: Отказан за изпълнение и финансиране
A10: 3 | B10: Георги Стойчев Бохоров - земеделски стопанин | C10: Изграждане на склад за съхранение на пчелни продукти и модернизиране на процесите по добив на пчелен мед в стопанството на Георги Бохоров | D10: 65834.54 | E10: 32917.27 | F10: =E10/D10 -> 0.5 | G10: 65834.54 | H10: 32917.27 | I10: BG06RDNP001-19.076-0004 | J10: 44046 | K10: =G10 -> 65834.54 | L10: =H10 -> 32917.27 | M10: 65834.54 | N10: 32917.27 | O10: 24206.58
A11: 4 | B11: РАДИДА ООД | C11: „Модернизиране на кравеферма, включващо подмяна на покривни материали и закупуване на ехограф“ | D11: 145794.77 | E11: 72897.37 | F11: =E11/D11 -> 0.4999999 | G11: 145794.77 | H11: 72897.37 | I11: BG06RDNP001-19.076-0005 | J11: 43759 | K11: =G11 -> 145794.77 | L11: =H11 -> 72897.37 | M11: 145794.77 | N11: 72897.37 | O11: 72897.37
A12: 5 | B12: ЗП Иван Иванов | C12: "Подобряване конкурентноспособността на ЗП Иван Иванов" | D12: 105960 | E12: 42384 | F12: =E12/D12 -> 0.4 | G12: 105960 | H12: 42384 | I12: BG06RDNP001-19.076-0006 | J12: 21.10.2020 Отказан за изпълнение договор от Бенефициента | K12: =G12 -> 105960 | L12: =H12 -> 42384 | M12: 105960 | N12: 42384 | O12: 0 | P12: Отказан за изпълнение и финансиране
A13: 6 | B13: ЗС Росица Петрова | C13: Закупуване на машина за косене на лавандула МЕТАЛАГРО МА 301 S | D13: 33400 | E13: 16700 | F13: =E13/D13 -> 0.5 | G13: 33400 | H13: 16700 | I13: BG06RDNP001-19.076-0007 | J13: 44427 | K13: =G13 -> 33400 | L13: =H13 -> 16700 | M13: 33400 | N13: 16700 | O13: 12500
A14: 7 | B14: ЗС Живко Петров | C14: Закупуване на прикачен комбайн за лавандула марка BONINO, модел BE 500 | D14: 81000 | E14: 40500 | F14: =E14/D14 -> 0.5 | G14: 81000 | H14: 40500 | I14: BG06RDNP001-19.076-0008 | J14: 44046 | K14: =G14 -> 81000 | L14: =H14 -> 40500 | M14: 81000 | N14: 40500 | O14: 40500
A15: 8 | B15: ХРИСТО ИГНАТОВ | C15: Създаване на 33.700 дка. трайни насаждения от лавандула и закупуване на земеделска техника | D15: 46308.7 | E15: 23154.35 | F15: =E15/D15 -> 0.5 | G15: 46308.7 | H15: 23154.35 | I15: BG06RDNP001-19.076-0009 | J15: 44028 | K15: =G15 -> 46308.7 | L15: =H15 -> 23154.35 | M15: 46308.7 | N15: 23154.35 | O15: 18697.73
B16: ЗС МЕЛИХА ДЮКЯНДЖИ | C16: Закупуване на земеделска техника за обработка на насаждения от лавандула | L16: =H16 -> 0
A17: 9 | B17: ЗС МЕЛИХА ДЮКЯНДЖИ | C17: Закупуване на земеделска техника за обработка на насаждения от лавандула | D17: 159900 | E17: 79950 | F17: =E17/D17 -> 0.5 | G17: 159900 | H17: 79950 | I17: BG06RDNP001-19.076-0011 | J17: 43759 | K17: =G17 -> 159900 | L17: =H17 -> 79950 | M17: 159900 | N17: 79950 | O17: 79950
A18: 10 | B18: Димитър Иванов | C18: Инвестиционен проект за закупуване на земеделска техника и инвентар | D18: 129078 | E18: 64539 | F18: =E18/D18 -> 0.5 | G18: 129078 | H18: 64539 | I18: BG06RDNP001-19.076-0012 | J18: 44005 | K18: =G18 -> 129078 | L18: =H18 -> 64539 | M18: 129078 | N18: 64539 | O18: 62832.3
A19: 11 | B19: ЗП Константин Георгиев | C19: Закупуване на прикачен комбайн за лавандула | D19: 81000 | E19: 27356.94 | F19: =E19/D19 -> 0.33774 | G19: 81000 | H19: 27356.94 | I19: BG06RDNP001-19.076-0013 | J19: 44046 | K19: =G19 -> 81000 | L19: =H19 -> 27356.94 | M19: 81000 | N19: 27356.94 | O19: 27356.94
A20: 12 | B20: Таня Рачева | C20: Инвестиционен проект за закупуване на земеделска техника и инвентар | D20: 77618.5 | E20: 38809.25 | F20: =E20/D20 -> 0.5 | G20: 77618.5 | H20: 38809.25 | I20: BG06RDNP001-19.076-0014 | J20: 44005 | K20: =G20 -> 77618.5 | L20: =H20 -> 38809.25 | M20: 77618.5 | N20: 38809.25 | O20: 38809.25
A21: 13 | B21: ЗС ДЕЯН ПЕТРОВ | C21: Закупуване на земеделска техника за обработка и прибиране на лавандула | D21: 110716.61 | E21: 55358.3 | F21: =E21/D21 -> 0.49999995 | G21: 110716.61 | H21: 55358.3 | I21: BG06RDNP001-19.076-0015 | J21: 44427 | K21: 110716.61 | L21: 55358.3 | M21: 110716.61 | N21: 55358.3 | O21: 55358.3
A22: 14 | B22: "Агро Егер" ЕООД | C22: Закупуване на оборудване за кравеферма | D22: 159203.38 | E22: 79601.69 | F22: =E22/D22 -> 0.5 | G22: 159203.38 | H22: 79601.69 | I22: BG06RDNP001-19.076-0016 | J22: 44035 | K22: =G22 -> 159203.38 | L22: =H22 -> 79601.69 | M22: 159203.38 | N22: 79601.69 | O22: 79601.43
A23: 15 | B23: "ЕСЕНШЪЛ ОЙЛС"ЕООД | C23: Инвестиции в стопанството на „ЕСЕНШЪЛ ОЙЛС“ЕООД за покупка на прикачен инвентар за обработка и реколтиране на лавандула | D23: 90000 | E23: 45000 | F23: =E23/D23 -> 0.5 | G23: 90000 | H23: 45000 | I23: BG06RDNP001-19.076-0017 | J23: 44125 | K23: =G23 -> 90000 | L23: =H23 -> 45000 | M23: 90000 | N23: 45000 | O23: 45000
A24: 16 | B24: Земеделски стопанин Румяна Русева | C24: Закупуване на телескопичен товарач и фуражосмесител за нуждите на животновъдна ферма в село Кочмар, община Тервел | D24: 159000 | E24: 79500 | F24: =E24/D24 -> 0.5 | G24: 159000 | H24: 79500 | I24: BG06RDNP001-19.407-0001 | J24: 44293 | K24: =G24 -> 159000 | L24: =H24 -> 79500 | M24: 159000 | N24: 79500 | O24: 79500
A25: 17 | B25: ЗП НИКОЛАЙ КОЛЕВ | C25: Модернизация на животновъдното стопанство на ЗП Николай Колев | D25: 158315.54 | E25: 79157.77 | F25: =E25/D25 -> 0.5 | G25: 158315.54 | H25: 79157.77 | I25: BG06RDNP001-19.407-0002 | J25: 44621 | K25: =G25 -> 158315.54 | L25: =H25 -> 79157.77 | M25: 158315.54 | N25: 79157.77 | O25: 75922.77
A26: 18 | B26: „Василев - Тервел” ЕООД | C26: Закупуване на трактор в стопанството на „Василев Тервел” ЕООД | D26: 149500 | E26: 59800 | F26: =E26/D26 -> 0.4 | G26: 149500 | H26: 59800 | I26: BG06RDNP001-19.547-0001 | J26: 44949 | K26: =G26 -> 149500 | L26: =H26 -> 59800 | M26: 149500 | N26: 59800 | O26: 59800
A27: 19 | B27: ЗП " Вълчо Вълчев" (ЕИК: 179824938) | C27: "Модернизация в земеделското стопанство | D27: 57025.5 | E27: 28512.75 | F27: =E27/D27 -> 0.5 | G27: =D27 -> 57025.5 | H27: =E27 -> 28512.75 | I27: BG06RDNP001-19.547-0002 | J27: 45083 | K27: =G27 -> 57025.5 | L27: =H27 -> 28512.75 | M27: 57025.5 | N27: 28512.75 | O27: 28512.75
A28: 20 | B28: ЗС Славян Славов (Булстат за свободни професии (ЕГН): | C28: Закупуване на земеделски прикачен инвентар и оборудване | D28: 47694 | E28: 19077.6 | F28: =E28/D28 -> 0.4 | G28: =D28 -> 47694 | H28: =E28 -> 19077.6 | I28: BG06RDNP001-19.547-0003 | J28: 44995 | K28: =G28 -> 47694 | L28: =H28 -> 19077.6 | M28: 47694 | N28: 19077.6 | O28: 19077.6
A29: 21 | B29: ЗС Танер Юсню (Булстат за свободни професии (ЕГН): | C29: Закупуване на трактор в стопанството | D29: 107570.65 | E29: 53785.32 | F29: =E29/D29 -> 0.49999995 | G29: 107570.65 | H29: 53785.32 | I29: BG06RDNP001-19.547-0004 | J29: 45099 | K29: =G29 -> 107570.65 | L29: =H29 -> 53785.32 | M29: 106592.73 | N29: 53296.36 | O29: 53295.55
A30: 22 | B30: ЗС Гюлбахар Сали (Булстат за свободни професии (ЕГН): | C30: Закупуване на трактор в животновъдното стопанството | D30: =E30*2 -> 154000 | E30: 77000 | F30: =E30/D30 -> 0.5 | G30: 154000 | H30: 77000 | I30: BG06RDNP001-19.547-0005 | J30: 3.8.2023 Отказан за изпълнение договор от Бенефициента | K30: =G30 -> 154000 | L30: =H30 -> 77000 | M30: 154000 | N30: 77000 | O30: 0
A31: 23 | B31: ЗС ХРИСТОИГНАТОВ (Булстат: | C31: Създаване на 33,660 дка насаждения от лавандула и орехи | D31: 35234.02 | E31: 21140.41 | F31: =E31/D31 -> 0.59999994 | G31: 35234.02 | H31: 21140.41 | I31: BG06RDNP001-19.547-0006 | J31: 45098 | K31: =G31 -> 35234.02 | L31: =H31 -> 21140.41 | M31: 35234.02 | N31: 21140.41 | O31: 21140.41
A32: 24 | B32: АГРО ЕГЕР ЕООД (ЕИК: ) | C32: Закупуване на оборудване за кравеферма | D32: 159892.01 | E32: =D32/2-0.01 -> 79945.995 | F32: =E32/D32 -> 0.49999994 | G32: 159892.01 | H32: 79945.995 | I32: BG06RDNP001-19.547-0007 | J32: 45028 | K32: =G32 -> 159892.01 | L32: =H32 -> 79945.995 | M32: 159892.01 | N32: 79945.995 | O32: 79601.43
A33: 25 | B33: Николай Петров (Булстат: 124649399) | C33: Доставка на земеделска техника - прикачен инвентар | D33: 47734.34 | E33: 23867.17 | F33: =E33/D33 -> 0.5 | G33: =D33 -> 47734.34 | H33: =E33 -> 23867.17 | J33: В резерва
A34: 26 | B34: Валентин Димитров (Булстат: 179821714) | C34: Закупуване на подвижна поливна система | D34: 26800 | E34: 13400 | F34: =E34/D34 -> 0.5 | G34: =D34 -> 26800 | H34: =E34 -> 13400 | I34: BG06RDNP001-19.547-0009 | J34: 44764 | K34: =G34 -> 26800 | L34: =H34 -> 13400 | M34: =K34 -> 26800 | N34: =L34 -> 13400 | O34: 13400
A35: 27 | B35: ЗС Слави Ангелов (Булстат за свободни професии (ЕГН): 8104298062) | C35: Закупуване на 4 бр. полиетиленови оранжерии | D35: 17000 | E35: 8500 | F35: =E35/D35 -> 0.5 | G35: =D35 -> 17000 | H35: =E35 -> 8500 | I35: BG06RDNP001-19.547-0010 | J35: 45614 | K35: =G35 -> 17000 | L35: =H35 -> 8500 | M35: =K35 -> 17000 | N35: =L35 -> 8500 | O35: 8500
A36: 28 | B36: АГРО ЕГЕР ЕООД (ЕИК: 204155605) | C36: Изграждане на навес | D36: 159924 | E36: 77000 | F36: =E36/D36 -> 0.4814787 | G36: =D36 -> 159924 | H36: 77000 | J36: В резерва
A37: Подмярка 4.2 Инвестиции в преработка/маркетинг на селскостопански продукти | D37: =SUM(D39:D43) -> 351868.32 | E37: =SUM(E39:E43) -> 175934.19 | F37: =E37/D37 -> 0.50000009 | G37: =SUM(G39:G43) -> 134500 | H37: =SUM(H39:H43) -> 67250 | K37: =SUM(K39:K43) -> 134500 | L37: =SUM(L39:L43) -> 67250 | M37: =SUM(M39:M43) -> 134500 | N37: =SUM(N39:N43) -> 67250 | O37: =SUM(O39:O43) -> 25650
C38: 25650
A39: 1 | B39: Николай Петров | C39: Закупуване на поставяемо съоръжение за преработка и търговия с мляко и млечни продукти с дневен капацитет от 250 литра овче мляко и специализиран автомобил оборудван с хладилна инсталация за превоз на готова продукция | D39: 91858.32 | E39: 45929.19 | F39: =E39/D39 -> 0.50000033 | G39: 0 | H39: 0 | I39: ОТКАЗАН ОТ МИГ | J39: ЛИПСА НА СТАНОВИЩЕ ЗА ОСИП | K39: =G39 -> 0 | L39: =H39 -> 0 | M39: 0 | N39: 0 | O39: 0
A40: 2 | B40: ДЖАМБО - Л ЕООД | C40: „Повишаване на конкурентноспособността на „Джамбо - Л” ЕООД, произвеждащо плодови сокове от собствена суровина” | D40: 83200 | E40: 41600 | F40: =E40/D40 -> 0.5 | G40: 83200 | H40: 41600 | I40: BG06RDNP001-19.012-0002 | J40: 3.2.2020 Отказан за изпълнение договор от Бенефициента | K40: =G40 -> 83200 | L40: =H40 -> 41600 | M40: 83200 | N40: 41600 | O40: 0 | P40: Отказан за изпълнение и финансиране
A41: 3 | B41: А И К 2000 ООД | C41: ПО-КОНКУРЕНТНО ПРОИЗВОДСТВО НА КАЧЕСТВЕНИ ЗЕЛЕНЧУКОВИ ПОДПРАВКИ | D41: 62755 | E41: 31377.5 | F41: =E41/D41 -> 0.5 | G41: 0 | H41: 0 | I41: ОТКАЗАН ОТ МИГ | J41: ЛИПСА НА СТАНОВИЩЕ ЗА ОСИП | K41: =G41 -> 0 | L41: =H41 -> 0 | M41: 0 | N41: 0 | O41: 0
A42: 4 | B42: А И К 2000 ООД | C42: ПО-КОНКУРЕНТНО ПРОИЗВОДСТВО НА КАЧЕСТВЕНИ ЗЕЛЕНЧУКОВИ ПОДПРАВКИ | D42: 62755 | E42: 31377.5 | F42: 0.5 | G42: 0 | H42: 0 | I42: ОТКАЗАН ОТ МИГ | J42: ЛИПСА НА СТАНОВИЩЕ ЗА ОСИП | K42: 0 | L42: 0 | M42: 0 | N42: 0 | O42: 0
A43: 5 | B43: А И К 2000 ООД | C43: Закупуване, доставка и монтаж на сушилна камера за плодове и зеленчуци | D43: 51300 | E43: =D43/2 -> 25650 | F43: 0.5 | G43: 51300 | H43: 25650 | I43: BG06RDNP001-19.500-0001 | J43: 44876 | K43: 51300 | L43: 25650 | M43: 51300 | N43: =M43/2 -> 25650 | O43: 25650
A44: Подмярка 6.4. Инвестиции в подкрепа на неземеделски дейности | D44: =SUM(D46:D64) -> 1949263 | E44: =SUM(E46:E64) -> 1305125.3 | G44: =SUM(G46:G64) -> 1687417.9 | H44: =SUM(H46:H64) -> 1104345.6 | I44: =SUM(J46:J64) -> 450838 | J44: =SUM(I46:I64) -> 0 | K44: =SUM(K46:K64) -> 1687417.9 | L44: =SUM(L46:L64) -> 1104345.6 | M44: =SUM(M46:M64) -> 1643705.6 | N44: =SUM(N46:N64) -> 1093042.9 | O44: =SUM(O46:O64) -> 552014.44
C45: 766150
A46: 1 | B46: Групова практика за първична медицинска помощ по дентална медицина Дент експерт ООД | C46: „Развитие и подкрепа в сферата на денталната медицина на територията на МИГ ТЕРВЕЛ – КРУШАРИ“ | D46: 268845.14 | E46: =D46*70% -> 188191.6 | F46: =E46/D46 -> 0.7 | G46: 0 | H46: 0 | I46: ЛИПСА НАОБОСНОВАНОСТ И ДОКУМЕНТИ | J46: ОТКАЗАН ОТ МИГ | M46: 0 | N46: 0 | O46: 0
A47: 2 | B47: БРАТЯ РАЙЧЕВИ ООД | C47: Ивестиции в оборудване и обзавеждане на ресторант „Приятели” за по-добра конкуренция и улеснен достъп за населението от община Тервел | D47: 29969.16 | E47: =D47*70% -> 20978.412 | F47: =E47/D47 -> 0.7 | G47: =D47 -> 29969.16 | H47: =E47 -> 20978.412 | I47: BG06RDNP001-19.264-0002 | J47: 27.05.2022 | K47: 29969.16 | L47: 20978.41 | M47: 29969.16 | N47: 20978.412 | O47: 20978.412
A48: 3 | B48: ПЕНЕВ КАР ЕООД | C48: Закупуване на оборудване за автосервиз | D48: 118183 | E48: =D48*70% -> 82728.1 | F48: =E48/D48 -> 0.7 | G48: =D48 -> 118183 | H48: =E48 -> 82728.1 | I48: BG06RDNP001-19.264-0003 | J48: 05.04.2022 | K48: 118183 | L48: 82728.1 | M48: 118183 | N48: 82728.1 | O48: 82728.1
A49: 4 | B49: ДЖЕБЕДЖИ 60 ООД | C49: Изграждане на склад и магазин за строителни материали | D49: 380963.16 | E49: =D49*70% -> 266674.21 | F49: =E49/D49 -> 0.7 | G49: =D49 -> 380963.16 | H49: =E49 -> 266674.21 | I49: BG06RDNP001-19.264-0004 | J49: ПО ЗАПОВЕД / ОТКАЗАН ЗА СКЛЮЧВАНЕ от кандидата | K49: 380963.16 | L49: 266674.21 | M49: 380963.16 | N49: 266674.21 | O49: 0
A50: 5 | B50: "Братя Кондови 2019" ЕООД | C50: Развитие и оборудване на градински център "Братя Кондови 2019" ЕООД | D50: 35628 | E50: =D50*70% -> 24939.6 | F50: =E50/D50 -> 0.7 | G50: =D50 -> 35628 | H50: =E50 -> 24939.6 | I50: BG06RDNP001-19.264-0005 | J50: 01.03.2022 Отказан за изпълнение договор от Бенефициента | K50: 35628 | L50: 24939.6 | M50: 35628 | N50: 24939.6 | O50: 0
A51: 6 | B51: "Крис - 93" ООД | C51: „Повишаване на конкурентоспособността на „Крис- 93 ООД чрез въвеждане на съвременни информационни и комуникационни технологии в управлението и услугите” | D51: 20661.65 | E51: 16624.88 | F51: =E51/D51 -> 0.80462499 | G51: 20661.65 | H51: 4036.77 | I51: BG06RDNP001-19.264-0006 | J51: Отказанот кандидата проект | K51: 20661.65 | L51: 4036.77 | O51: 0
A52: 7 | B52: ЕТ Силвия Неделчева - СИДИ | C52: „Закупуване на специализирано оборудване за ОПТИКА в гр.Тервел“ | D52: 15312 | E52: 10718.4 | F52: =E52/D52 -> 0.7 | G52: 15312 | H52: 10718.4 | I52: BG06RDNP001-19.264-0007 | J52: 13.01.2021 | K52: 15312 | L52: 10718.4 | M52: 15312 | N52: 10718.4 | O52: 10718.4
A53: 8 | B53: ДОНИДО М ООД | C53: „ Подобряване на конкурентоспособността и условията на труд в „ДОНИДО М“ ООД“ | D53: 88500 | E53: 61950 | F53: =E53/D53 -> 0.7 | G53: 88500 | H53: 61950 | I53: BG06RDNP001-19.264-0008 | J53: 18.11.2021 | K53: 88500 | L53: 61950 | M53: 88500 | N53: 61950 | O53: 61950
A54: 9 | B54: ЕТ „Ненка-69-Николай Ненов” | C54: „Закупуване на специализирано оборудване за автосервиз в гр.Тервел“ | D54: 29916 | E54: 20941.2 | F54: =E54/D54 -> 0.7 | G54: 29916 | H54: 20941.2 | I54: BG06RDNP001-19.418-0001 | J54: 44473 | K54: 29916 | L54: 20941.2 | M54: 29916 | N54: 20929.86 | O54: 20929.86
A55: 10 | B55: Групова практика за първична медицинска помощ по дентална медицина Дент експерт ООД | C55: „Развитие и подкрепа в сферата на денталната медицина на територията на МИГ ТЕРВЕЛ – КРУШАРИ“ | D55: 189090 | E55: 132363 | F55: =E55/D55 -> 0.7 | G55: 189090 | H55: 132363 | I55: BG06RDNP001-19.496-0001 | J55: 44502 | K55: 189090 | L55: 132363 | M55: 189090 | N55: 132363 | O55: 97018.6
A56: 11 | B56: СТОУНС РУМО ЕООД (ЕИК: 202079322) | C56: Инвестиции в производствената дейност и конкурентноспособността на СТОУНС РУМО ЕООД | D56: 10363.6 | E56: 7254.52 | F56: =E56/D56 -> 0.7 | G56: 10363.6 | H56: 7254.52 | I56: BG06RDNP001-19.496-0002 | J56: Отказан от кандидата проект | K56: 10363.6 | L56: 7254.52
A57: 12 | B57: АМБУЛАТОРИЯ ЗА ИНДИВИДУАЛНА ПРАКТИКА ЗА ПЪРВИЧНА ИЗВЪНБОЛНИЧНА МЕДИЦИНСКА ПОМОЩ ПО ДЕНТАЛНА МЕДИЦИНА - Д-Р ДЕНИЦА КОВАЧЕВА | C57: Закупуване на оборудване за стоматологичен кабинет в гр. Тервел | D57: 72286 | E57: 50412.26 | F57: =E57/D57 -> 0.69740005 | G57: 72286 | H57: 50412.26 | I57: BG06RDNP001-19.496-0003 | J57: 44963 | K57: 72286 | L57: 50412.26 | M57: 72286 | N57: 50412.26 | O57: 50412.26
A58: 13 | B58: МЕГА ТРАНС 2014 ЕООД | C58: Обособяване на малък цех за производство на картонени чашки в село Орляк, община Тервел | D58: 280641.15 | E58: 196448.8 | F58: =E58/D58 -> 0.69999998 | G58: =D58 -> 280641.15 | H58: =E58 -> 196448.8 | I58: BG06RDNP001-19.598-0001 | J58: 45322 | K58: =D58 -> 280641.15 | L58: =E58 -> 196448.8 | M58: 280641.15 | N58: 196448.8 | O58: 0
A59: 14 | B59: АРТ 2020 ЕООД | C59: „Оборудване и експлоатация на киносалон в град Тервел и предоставяне на мобилни услуги по кинопоказ | D59: 190690 | E59: 95345 | F59: =E59/D59 -> 0.5 | G59: =D59 -> 190690 | H59: =E59 -> 95345 | I59: BG06RDNP001-19.598-0002 | J59: 44951 | K59: =D59 -> 190690 | L59: =E59 -> 95345 | M59: 190690 | N59: 95345 | O59: 95345
A60: 15 | B60: ВЕЛИКОВ СТРОЙ ИНВЕСТ ЕООД (ЕИК: 207065166) | C60: Закупуване на минибагер и оборудване | D60: 80730 | E60: 40365 | F60: =E60/D60 -> 0.5 | G60: 87730 | H60: 40365 | I60: BG06RDNP001-19.598-0003 | J60: 45126 | K60: 87730 | L60: 40365 | M60: 87730 | N60: 40365 | O60: 40365
A61: 16 | B61: „АМБУЛАТОРИЯ ЗА ИНДИВИДУАЛНА ПРАКТИКА ЗА ПЪРВИЧНА ИЗВЪНБОЛНИЧНА МЕДИЦИНСКА ПОМОЩ ПО ДЕНТАЛНА МЕДИЦИНА - Д-Р ДЕНИЦА КОВАЧЕВА“ | C61: Закупуване на дентален микроскоп за нуждите на стоматологичен кабинет в гр. Тервел | D61: 29960 | E61: =D61*F61 -> 20972 | F61: 0.7 | G61: 29960 | H61: 20972 | I61: BG06RDNP001-19.598-0004 | J61: 45259 | K61: 29960 | L61: 20972 | M61: 29960 | N61: 20972 | O61: 20972
A62: 17 | B62: ПЕНЕВ КАР ЕООД | C62: Подобряване на конкурентноспособността на „ПЕНЕВ КАР“ ЕООД | D62: 29991.15 | E62: =D62*F62 -> 20993.805 | F62: 0.7 | G62: 29991.15 | H62: 20993.8 | I62: BG06RDNP001-19.598-0005 | J62: 45331 | K62: 29991.15 | L62: 20993.805 | M62: 29991.15 | N62: 20993.805 | O62: 20993.805
A63: 18 | B63: АЗАЛ ДЕНТ - АМБУЛАТОРИЯ ЗА ИНДИВИДУАЛНА ПРАКТИКА ЗА ИЗВЪНБОЛНИЧНА ПЪРВИЧНА МЕДИЦИНСКА ПОМОЩ ПО ДЕНТАЛНА МЕДИЦИНА ЕООД (ЕИК: 205817378) | C63: Закупуване на оборудване за зъболекарски кабинет | D63: 35243 | E63: 17621.5 | F63: =E63/D63 -> 0.5 | G63: 35243 | H63: 17621.5 | I63: BG06RDNP001-19.598-0006 | J63: 45335 | K63: 35243 | L63: 17621.5 | M63: 35243 | N63: 17621.5 | O63: 0
A64: 19 | B64: АУТО ЕРДЖИ ЕООД | C64: Разширяване на обхвата на предоставяните от АУТО ЕРДЖИ ЕООД услуги чрез закупуване на оборудване за автосервиз | D64: 42290 | E64: =D64*F64 -> 29603 | F64: 0.7 | G64: =D64 -> 42290 | H64: =G64*70% -> 29603 | I64: BG06RDNP001-19.598-0007 | J64: 45576 | K64: 42290 | L64: 29603 | M64: 29603 | N64: 29603 | O64: 29603
A65: Подмярка 7.2. Инвестиции в създаването, подобряването или разширяването на всички видове малка по мащаби инфраструктура | D65: =SUM(D67:D80) -> 1991772.1 | E65: =SUM(E67:E80) -> 1991772.1 | F65: =SUM(F67:F80) -> 14 | G65: =SUM(G67:G80) -> 1931861.3 | H65: =SUM(H67:H80) -> 1931861.3 | I65: =SUM(J67:J80) -> 315706 | J65: =SUM(I67:I80) -> 0 | K65: =SUM(K67:K80) -> 1931861.3 | L65: =SUM(L67:L80) -> 1931861.3 | M65: =SUM(M67:M80) -> 1882753.8 | N65: =SUM(N67:N80) -> 1813506.3 | O65: =SUM(O67:O80) -> 1675644.9
C66: 1801500
A67: 1 | B67: ОБЩИНА КРУШАРИ | C67: Рехабилитация на част от улица "Черно море" и улица "Изгрев" в с.Крушари, община Крушари, област Добрич | D67: 137255.26 | E67: 137255.26 | F67: =E67/D67 -> 1 | G67: =D67 -> 137255.26 | H67: =E67 -> 137255.26 | I67: BG06RDNP001-19.003-0001 | J67: 09.09.2019 | K67: =G67 -> 137255.26 | L67: =H67 -> 137255.26 | M67: 137255.26 | N67: 133834.04 | O67: 130873.76
A68: 2 | B68: Община Тервел | C68: "Рехабилитация на улици в гр.Тервел - Улица "Дунав" - участък от ул."Черни връх" до ул."Черно море";Улица 'Пирин" от О.К.13 до О.К.56 и Улица "Тимок" от О.К 56 до О.К.63" | D68: 282245.27 | E68: 282245.27 | F68: =E68/D68 -> 1 | G68: =D68 -> 282245.27 | H68: =E68 -> 282245.27 | I68: BG06RDNP001-19.003-0002 | J68: 11.06.2020 | K68: =G68 -> 282245.27 | L68: =H68 -> 282245.27 | M68: 271908.46 | N68: 271908.46 | O68: 268325.44
A69: 3 | B69: Община Тервел | C69: „Обновяване на площад „Старият дъб в гр.Тервел“ – зона за отдих“ | D69: 101739 | E69: 101739 | F69: =E69/D69 -> 1 | G69: =D69 -> 101739 | H69: =E69 -> 101739 | I69: BG06RDNP001-19.003-0003 | J69: 30.06.2020 | K69: =G69 -> 101739 | L69: =H69 -> 101739 | M69: 169387.71 | N69: 101391.5 | O69: 98877.78
A70: 4 | B70: Община Тервел | C70: Ремонт на открита спортна площадка в основно училище с.Нова Камена,община Тервел | D70: 172331.93 | E70: 172331.93 | F70: =E70/D70 -> 1 | G70: =D70 -> 172331.93 | H70: =E70 -> 172331.93 | I70: BG06RDNP001-19.003-0004 | J70: 30.06.2020 | K70: =G70 -> 172331.93 | L70: =H70 -> 172331.93 | M70: 101391.5 | N70: 169077.06 | O70: 166839.66
A71: 5 | B71: Община Тервел | C71: „Реконструкция на сграда за център за социални услуги в с.Безмер“ | D71: 273775.49 | E71: 273775.49 | F71: =E71/D71 -> 1 | G71: =D71 -> 273775.49 | H71: =E71 -> 273775.49 | I71: BG06RDNP001-19.003-0005 | J71: 11.09.2020 | K71: =G71 -> 273775.49 | L71: =H71 -> 273775.49 | M71: 243884.5 | N71: 227803.18 | O71: 218923.91
A72: 6 | B72: ОБЩИНА КРУШАРИ | C72: Реконструкция на пешеходна зона на с. Крушари - УПИ XVІІ, кв. 60, по плана на с. Крушари | D72: 182249.66 | E72: 182249.66 | F72: =E72/D72 -> 1 | G72: 182249.66 | H72: 182249.66 | I72: BG06RDNP001-19.289-0001 | J72: 44074 | K72: 182249.66 | L72: 182249.66 | M72: 181252.87 | N72: 181250.44 | O72: 179661.56
A73: 7 | B73: Община Тервел | C73: Основен ремонт на участъци от улици „Втора“ и „Шеста“ в с.Безмер и „Първа“ в с.Попгруево“ | D73: 258422.92 | E73: 258422.92 | F73: 1 | G73: =D73 -> 258422.92 | H73: =E73 -> 258422.92 | I73: BG06RDNP001-19.548-0001 | J73: 15.03.2023 | K73: =G73 -> 258422.92 | L73: =H73 -> 258422.92 | M73: 258422.92 | N73: 232188.72 | O73: 231868.26
A74: 8 | B74: Община Тервел | C74: Основен ремонт на улица "Четвърта" в с.Каблешково | D74: 58234.15 | E74: 58234.15 | F74: 1 | G74: =D74 -> 58234.15 | H74: =E74 -> 58234.15 | I74: BG06RDNP001-19.548-0002 | J74: 44880 | K74: =G74 -> 58234.15 | L74: =H74 -> 58234.15 | M74: 58234.15 | N74: 55934.15 | O74: 55934.15
A75: 9 | B75: Община Тервел | C75: Обзавеждане на детски градини в села от Община Тервел | D75: 49783.02 | E75: 49783.02 | F75: 1 | G75: =D75 -> 49783.02 | H75: =E75 -> 49783.02 | I75: BG06RDNP001-19.548-0003 | J75: 45016 | K75: =G75 -> 49783.02 | L75: =H75 -> 49783.02 | M75: 49783.02 | N75: 28885.32 | O75: 28885.32
A76: 10 | B76: ОБЩИНА КРУШАРИ | C76: „Основен ремонт на покрив на читалище – с. Телериг, находящ се в пл. №205, кв. 14 по плана на с. Телериг, община Крушари“ | D76: 264563.37 | E76: 264563.37 | F76: 1 | G76: =D76 -> 264563.37 | H76: =E76 -> 264563.37 | I76: BG06RDNP001-19.548-0004 | J76: 44952 | K76: =G76 -> 264563.37 | L76: =H76 -> 264563.37 | M76: 264563.37 | N76: 264563.37 | O76: 264563.37
A77: 11 | B77: ОБЩИНА КРУШАРИ | C77: Подобряване на материално-техническата база на Детските градини в община Крушари | D77: 30891.66 | E77: 30891.66 | F77: 1 | G77: 30891.66 | H77: 30891.66 | I77: BG06RDNP001-19.762-0001 | J77: 45394 | K77: 30891.66 | L77: 30891.66 | M77: 30891.66 | N77: 30891.66 | O77: 30891.66
A78: 12 | B78: Община Тервел | C78: „Доставка и монтаж на улични принадлежности (табели и пилони) в гр. Тервел и село Зърнево“ | D78: 59910.76 | E78: 59910.76 | F78: 1
A79: 13 | B79: Община Тервел | C79: Основен ремонт на улица 12-та в с. Честименско, общ. Тервел | D79: 93959.58 | E79: =D79 -> 93959.58 | F79: 1 | G79: 93959.58 | H79: 93959.58 | I79: BG06RDNP001-19.762-0003 | J79: 45692 | K79: 93959.58 | L79: =K79 -> 93959.58 | M79: 92297.98 | N79: 92297.98 | O79: 0
A80: 14 | B80: ОБЩИНА КРУШАРИ | C80: Подобряване на материално-техническата база в сграите | D80: 26410 | E80: =D80 -> 26410 | F80: 1 | G80: 26410 | H80: 26410 | I80: BG06RDNP001-19.762-0004 | J80: 45698 | K80: 26410 | L80: =K80 -> 26410 | M80: 23480.4 | N80: 23480.4 | O80: 0
A81: Подмярка 19.7.6. Проучвания и инвестиции, свързани с възстановяване и подобряване на културното и природното наследство | D81: =SUM(D83:D90) -> 223356.15 | E81: =SUM(E83:E90) -> 223356.15 | F81: 0 | G81: =SUM(G83:G90) -> 207569.49 | H81: =SUM(H83:H90) -> 207569.49 | K81: =SUM(K83:K90) -> 207569.49 | L81: =SUM(L83:L90) -> 207569.49 | M81: =SUM(M83:M90) -> 207569.49 | N81: =SUM(N83:N90) -> 207329.49 | O81: =SUM(O83:O90) -> 142287
C82: 141800
A83: 1 | B83: ФОНДАЦИЯ КРУГА | C83: „Дивите растения като храна – опознаване, популяризиране и съхранение на местното биоразнообразие и кулинарна традиция в община Крушари“ | D83: 29298 | E83: 29298 | F83: =E83/D83 -> 1 | G83: 29298 | H83: 29298 | I83: BG06RDNP001-19.338-0001 | J83: 02.02.2022 | K83: 29298 | L83: 29298 | M83: 29298 | N83: 29298 | O83: 29298
A84: 2 | B84: ОБЩИНА ТЕРВЕЛ | C84: ФЕСТИВАЛ НА БЯЛАТА ЖЪТВА - ЗА ЗЕМЯТА, ДОБРУДЖАНЕЦА И ХЛЯБА | D84: 26750 | E84: 26750 | F84: =E84/D84 -> 1 | G84: 26750 | H84: 26750 | I84: BG06RDNP001-19.338-0002 | J84: 01.04.2022 | K84: 26750 | L84: 26750 | M84: 26750 | N84: 26750 | O84: 26150
A85: 3 | B85: ОБЩИНА КРУШАРИ | C85: „ПРАЗНИК НА ГЪРНЕТАТА – КУЛИНАРНАТА АКАДЕМИЯ ДА ДОБРУДЖА“ | D85: 29400 | E85: 29400 | F85: =E85/D85 -> 1 | G85: 29400 | H85: 29400 | I85: BG06RDNP001-19.338-0003 | J85: 01.03.2022 Отказан за изпълнение договор от Бенефициента | K85: 29400 | L85: 29400 | M85: 29400 | N85: 29400 | O85: 0
A86: 4 | B86: ОБЩИНА КРУШАРИ | C86: ФЕСТИВАЛ „ПРОЛЕТНИЦИ ЗА СИТА ЗИМА“ | D86: 27140 | E86: 27140 | F86: =E86/D86 -> 1 | G86: 27140 | H86: 27140 | I86: BG06RDNP001-19.338-0004 | J86: 27.04.2021 | K86: 27140 | L86: 27140 | M86: 27140 | N86: 27140 | O86: 27094
A87: 5 | B87: ОБЩИНА КРУШАРИ | C87: Подобряване на материално-техническата база на седемте читалища от Община Крушари чрез закупуване на обзавеждане и оборудване | D87: 25621.49 | E87: 25621.49 | F87: =E87/D87 -> 1 | G87: 25621.49 | H87: 25621.49 | I87: BG06RDNP001-19.338-0005 | J87: 31.03.2022 Отказан за изпълнение договор от Бенефициента | K87: 25621.49 | L87: 25621.49 | M87: 25621.49 | N87: 25621.49 | O87: 0
A88: 6 | B88: ОБЩИНА КРУШАРИ | C88: „НЕВИДИМИТЕ СЪКРОВИЩА НА ДОБРУДЖА“ | D88: 25161.66 | E88: 25161.66 | F88: =E88/D88 -> 1 | G88: 9375 | H88: 9375 | I88: BG06RDNP001-19.338-0006 | J88: 05.04.2022 Отказан за изпълнение договор от Бенефициента | K88: 9375 | L88: 9375 | M88: 9375 | N88: 9375 | O88: 0
A89: 7 | B89: ОБЩИНА ТЕРВЕЛ | C89: „ФОЛКЛОРНАТА МАГИЯ НА ТАНЦА – БАГРИ, РИТЪМ, МЛАДОСТ, СВЕТЛИНА“ | D89: 29985 | E89: 29985 | F89: =E89/D89 -> 1 | G89: 29985 | H89: 29985 | I89: BG06RDNP001-19.761-0001 | J89: 45364 | K89: 29985 | L89: 29985 | M89: 29985 | N89: 29985 | O89: 29985
A90: 8 | B90: ОБЩИНА КРУШАРИ | C90: „Кулинарните маршрути на община Крушари“ | D90: 30000 | E90: 30000 | F90: =E90/D90 -> 1 | G90: 30000 | H90: 30000 | I90: BG06RDNP001-19.761-0002 | J90: 45272 | K90: 30000 | L90: 30000 | M90: 30000 | N90: 29760 | O90: 29760
A91: Общо: | D91: =D81+D65+D44+D37+D6 -> 7338881.3 | E91: =E81+E65+E44+E37+E6 -> 5064601.5 | G91: =G81+G65+G44+G37+G6 -> 6783970.5 | H91: =H81+H65+H44+H37+H6 -> 4679440.2 | K91: =K81+K65+K44+K37+K6 -> 6576312.1 | L91: =L81+L65+L44+L37+L6 -> 4578573 | M91: =M81+M65+M44+M37+M6 -> 6482514.4 | N91: =N81+N65+N44+N37+N6 -> 4448186.4 | O91: =O81+O65+O44+O37+O6 -> 3392056.7
A92: =A90+A79+A64+A43+A36 -> 73

Sheet Лист5
A1: Таблица 13: Изпълнение на СВОМР по кандидати/ получатели през отчетния период в лева - 2022г.
A2: МЕРКИ ПО ФОНДОВЕ | B2: Име на кандидата/ получателя | C2: Име на проекта | D2: Заявен общ размер на разходите по заявления подадени в МИГ | E2: Заявен общ размер наБФП по заявления, подадени в МИГ | F2: % на заявената помощ | G2: Одобрен общ размер на разходите по проект от МИГ | H2: Субсидия по проектите, одобрени от МИГ | I2: Отхвърлено/ оттеглено/ анулирано заявление | J2: Мотив за отхвърляне | K2: Заявен общ размер на разходите по проект към УО/ДФЗ | L2: Заявена субсидия към УО/ДФЗ | M2: Одобрен общ размер на разх. по проект от УО/ДФЗ | N2: Одобрена | O2: Изплатена субсидия
N3: субсидия от УО/ДФЗ
A4: 1 | B4: 2 | C4: 3 | D4: 4 | E4: 5 | F4: 6 | G4: 7 | H4: 8 | I4: 9 | J4: 10 | K4: 11 | L4: 12 | M4: 13 | N4: 14 | O4: 15
A5: Мерки, финансирани от ПРСР 2014 - 2020 г. (ЕЗФРСР)
A6: Подмярка 4.1. Подкрепа за инвестиции в земеделски стопанства | D6: =SUM(D7:D32) -> 1870186.7 | E6: =SUM(E7:E32) -> 910108.28 | F6: =E6/D6 -> 0.48664034 | G6: =SUM(G7:G32) -> 1870186.7 | H6: =SUM(H7:H32) -> 910108.28 | K6: =SUM(K7:K32) -> 1870186.7 | L6: =SUM(L7:L32) -> 910108.28 | M6: =SUM(M7:M32) -> 1433853.3 | N6: =SUM(N7:N32) -> 686822.81 | O6: =SUM(O7:O32) -> 417704.52
A8: 1 | B8: Иван Ангелов Иванов - земеделски стопанин физическо лице | C8: Механизиране на процесите по доене | D8: 101810 | E8: 50905 | F8: =E8/D8 -> 0.5 | G8: 101810 | H8: 50905 | I8: НП | J8: ОТКАЗАН ЗА ИЗПЪЛНЕНИЕ ОТ БЕНЕФИЦИЕНТА | K8: 101810 | L8: 50905 | M8: 101810 | N8: 50905 | O8: 0 | P8: Отказан за изпълнение и финансиране
A9: 2 | B9: Венцислав Манолов Вълчев | C9: „Модернизиране на процесите по доене и поддържане на пасището във фермата на земеделски стопанин Венцислав Вълчев” | D9: 155307.23 | E9: 77653.62 | F9: =E9/D9 -> 0.50000003 | G9: 155307.23 | H9: 77653.62 | I9: НП | J9: ОТКАЗАН ЗА ИЗПЪЛНЕНИЕ ОТ БЕНЕФИЦИЕНТА | K9: 155307.23 | L9: 77653.62 | M9: 155307.23 | N9: 77653.62 | O9: 0 | P9: Отказан за изпълнение и финансиране
A10: 3 | B10: Георги Стойчев Бохоров - земеделски стопанин | C10: Изграждане на склад за съхранение на пчелни продукти и модернизиране на процесите по добив на пчелен мед в стопанството на Георги Бохоров | D10: 65834.54 | E10: 32917.27 | F10: =E10/D10 -> 0.5 | G10: 65834.54 | H10: 32917.27 | I10: НП | J10: НП | K10: =G10 -> 65834.54 | L10: =H10 -> 32917.27 | M10: 48905.81 | N10: 24452.9 | O10: 2200 | Q10: 21 | R10: =O10+O13+O14+O15+O17+O18+O19+O20+O21+O24 -> 417704.52
A12: 5 | B12: ЗП Иван Веселинов Иванов | C12: "Подобряване конкурентноспособността на ЗП Иван Веселинов Иванов" | D12: 105960 | E12: 42384 | F12: =E12/D12 -> 0.4 | G12: 105960 | H12: 42384 | I12: НП | J12: ОТКАЗАН ЗА ИЗПЪЛНЕНИЕ ОТ БЕНЕФИЦИЕНТА | K12: 105960 | L12: 42384 | M12: 105960 | N12: 42384 | O12: 0 | P12: Отказан за изпълнение и финансиране
A13: 6 | B13: ЗС Росица Георгиева Петрова | C13: Закупуване на машина за косене на лавандула МЕТАЛАГРО МА 301 S | D13: 33400 | E13: 16700 | F13: =E13/D13 -> 0.5 | G13: 33400 | H13: 16700 | I13: НП | J13: НП | K13: =G13 -> 33400 | L13: =H13 -> 16700 | M13: 27846.14 | N13: 12500 | O13: 12500
A14: 7 | B14: ЗС Живко Димитров Петров | C14: Закупуване на прикачен комбайн за лавандула марка BONINO, модел BE 500 | D14: 81000 | E14: 40500 | F14: =E14/D14 -> 0.5 | G14: 81000 | H14: 40500 | I14: НП | J14: НП | K14: =G14 -> 81000 | L14: =H14 -> 40500 | M14: 81000 | N14: 40500 | O14: 40500 | Q14: 21
A15: 8 | B15: ХРИСТО ПЛАМЕНОВ ИГНАТОВ | C15: Създаване на 33.700 дка. трайни насаждения от лавандула и закупуване на земеделска техника | D15: 46308.7 | E15: 23154.35 | F15: =E15/D15 -> 0.5 | G15: 46308.7 | H15: 23154.35 | I15: НП | J15: НП | K15: =G15 -> 46308.7 | L15: =H15 -> 23154.35 | M15: 37395.47 | N15: 18697.73 | O15: 18697.73 | Q15: 21
B16: ЗС МЕЛИХА АХМЕД ДЮКЯНДЖИ | C16: Закупуване на земеделска техника за обработка на насаждения от лавандула | I16: ОТТЕГЛЕН | J16: ДОПУСНАТА ТЕХНИЧЕСКА ГРЕШКА
A17: 9 | B17: ЗС МЕЛИХА АХМЕД ДЮКЯНДЖИ | C17: Закупуване на земеделска техника за обработка на насаждения от лавандула | D17: 159900 | E17: 79950 | F17: =E17/D17 -> 0.5 | G17: 159900 | H17: 79950 | I17: НП | J17: НП | K17: =G17 -> 159900 | L17: =H17 -> 79950 | M17: 159900 | N17: 79950 | O17: 79950 | Q17: 21
A18: 10 | B18: Димитър Стоянов Иванов | C18: Инвестиционен проект за закупуване на земеделска техника и инвентар | D18: 129078 | E18: 64539 | F18: =E18/D18 -> 0.5 | G18: 129078 | H18: 64539 | I18: НП | J18: НП | K18: =G18 -> 129078 | L18: =H18 -> 64539 | M18: 125664.61 | N18: 62832.3 | O18: 62832.3 | Q18: 21
A19: 11 | B19: ЗП Константин Атанасов Георгиев | C19: Закупуване на прикачен комбайн за лавандула | D19: 81000 | E19: 27356.94 | F19: =E19/D19 -> 0.33774 | G19: 81000 | H19: 27356.94 | I19: НП | J19: НП | K19: 81000 | L19: =H19 -> 27356.94 | M19: 81000 | N19: 27356.94 | O19: 27356.94 | Q19: 21
A20: 12 | B20: Таня Георгиева Рачева | C20: Инвестиционен проект за закупуване на земеделска техника и инвентар | D20: 77618.5 | E20: 38809.25 | F20: =E20/D20 -> 0.5 | G20: 77618.5 | H20: 38809.25 | I20: НП | J20: НП | K20: 77618.5 | L20: =H20 -> 38809.25 | M20: 77618.5 | N20: 38809.25 | O20: 38809.25 | Q20: 21
A21: 13 | B21: ЗС ДЕЯН ДИМИТРОВ ПЕТРОВ | C21: Закупуване на земеделска техника за обработка и прибиране на лавандула | D21: 114130 | E21: 57065 | F21: =E21/D21 -> 0.5 | G21: 114130 | H21: 57065 | I21: НП | J21: НП | K21: =G21 -> 114130 | L21: =H21 -> 57065 | M21: 114130 | N21: 55358.3 | O21: 55358.3
A24: 16 | B24: Земеделски стопанин Румяна Петкова Русева | C24: Закупуване на телескопичен товарач и фуражосмесител за нуждите на животновъдна ферма в село Кочмар, община Тервел | D24: 159000 | E24: 79500 | F24: =E24/D24 -> 0.5 | G24: 159000 | H24: 79500 | I24: НП | J24: НП | K24: 159000 | L24: =H24 -> 79500 | M24: 159000 | N24: 79500 | O24: 79500
A25: 17 | B25: ЗП НИКОЛАЙ ТОШКОВ КОЛЕВ | C25: Модернизация на животновъдното стопанство на ЗП Николай Колев | D25: 158315.54 | E25: 79157.77 | F25: =E25/D25 -> 0.5 | G25: 158315.54 | H25: 79157.77 | I25: НП | J25: НП | K25: 158315.54 | L25: =H25 -> 79157.77 | M25: 158315.54 | N25: 75922.77 | O25: 0
A27: 19 | B27: ЗП " Вълчо Вълчев" (ЕИК: 179824938) | C27: "Модернизация в земеделското стопанство | D27: 57025.5 | E27: 28512.75 | F27: =E27/D27 -> 0.5 | G27: =D27 -> 57025.5 | H27: =E27 -> 28512.75 | I27: НП | J27: НП | K27: 57025.5 | L27: 28512.75
A28: 20 | B28: ЗС Славян Веселинов Славов (Булстат за свободни професии (ЕГН): | C28: Закупуване на земеделски прикачен инвентар и оборудване | D28: 47694 | E28: 19077.6 | F28: =E28/D28 -> 0.4 | G28: =D28 -> 47694 | H28: =E28 -> 19077.6 | I28: НП | J28: НП | K28: 47694 | L28: 19077.6
A29: 21 | B29: ЗС Танер Неждет Юсню (Булстат за свободни професии (ЕГН): | C29: Закупуване на трактор в стопанството | D29: 107570.65 | E29: 53785.32 | F29: =E29/D29 -> 0.49999995 | G29: 107570.65 | H29: 53785.32 | I29: НП | J29: НП | K29: 107570.65 | L29: 53785.32
A30: 22 | B30: ЗС Гюлбахар Хайредин Сали (Булстат за свободни професии (ЕГН): | C30: Закупуване на трактор в животновъдното стопанството | D30: =E30*2 -> 154000 | E30: 77000 | F30: =E30/D30 -> 0.5 | G30: 154000 | H30: 77000 | I30: НП | J30: НП | K30: 154000 | L30: 77000
A31: 23 | B31: ЗС ХРИСТО ПЛАМЕНОВ ИГНАТОВ (Булстат: | C31: Създаване на 33,660 дка насаждения от лавандула и орехи | D31: 35234.02 | E31: 21140.41 | F31: =E31/D31 -> 0.59999994 | G31: 35234.02 | H31: 21140.41 | I31: НП | J31: НП | K31: 35234.02 | L31: 21140.41
A33: 1 | B33: Николай Георгиев Петров | C33: Закупуване на поставяемо съоръжение за преработка и търговия с мляко и млечни продукти с дневен капацитет от 250 литра овче мляко и специализиран автомобил оборудван с хладилна инсталация за превоз на готова продукция | D33: 91858.32 | E33: 45929.19 | F33: =E33/D33 -> 0.50000033 | G33: 0 | H33: 0 | I33: ОТКАЗАН ОТ МИГ | J33: ЛИПСА НА СТАНОВИЩЕ ЗА ОСИП | K33: =G33 -> 0 | L33: =H33 -> 0 | M33: 0 | N33: 0 | O33: 0
A34: Мерки, които не са част от ПРСР 2014 - 2020 г. , но са включени в Регламент (EC) № 1305/2013 (финансирани от ЕЗФРСР) | O34: 0
A35: ……… | O35: 0
A36: Мерки, извън обхвата на мерките от Регламент (EC) № 1305/2013, но съответстващи на целите на регламента (финансирани от ЕЗФРСР) | O36: 0
A37: ……… | O37: 0
A38: Мерки, финансирани от ОПОС (ЕФРР) | O38: 0
A39: ……… | O39: 0
A40: Мерки, финансирани от ОПНОИР (ЕСФ) | O40: 0
A41: ……… | O41: 0
A42: Мерки, финансирани от ОПРЧР (ЕСФ) | O42: 0
A43: ……… | O43: 0
A44: Мерки, финансирани от ОПИК (ЕФРР) | O44: 0
A45: ……… | O45: 0
... A47: ……… | O47: 0
A48: Общо: | D48: =SUM(D8:D47) -> 1962045 | E48: =SUM(E8:E47) -> 956037.47 | G48: =SUM(G8:G47) -> 1870186.7 | H48: =SUM(H8:H47) -> 910108.28 | K48: =SUM(K8:K47) -> 1870186.7 | L48: =SUM(L8:L47) -> 910108.28 | M48: =SUM(M8:M47) -> 1433853.3 | N48: =SUM(N8:N47) -> 686822.81 | O48: =SUM(O8:O47) -> 417704.52 | R48: =O13+O21+O23+O24+#REF!+#REF!+#REF!+#REF!+#REF!+#REF! -> #REF!
D50: =#REF!+#REF! -> #REF!

Sheet Лист6
A1: Таблица 13: Изпълнение на СВОМР по кандидати/ получатели през отчетния период в лева - 2022г.
A2: МЕРКИ ПО ФОНДОВЕ | B2: Име на кандидата/ получателя | C2: Име на проекта | D2: Заявен общ размер на разходите по заявления подадени в МИГ | E2: Заявен общ размер наБФП по заявления, подадени в МИГ | F2: % на заявената помощ | G2: Одобрен общ размер на разходите по проект от МИГ | H2: Субсидия по проектите, одобрени от МИГ | I2: Отхвърлено/ оттеглено/ анулирано заявление | J2: Мотив за отхвърляне | K2: Заявен общ размер на разходите по проект към УО/ДФЗ | L2: Заявена субсидия към УО/ДФЗ | M2: Одобрен общ размер на разх. по проект от УО/ДФЗ | N2: Одобрена | O2: Изплатена субсидия
N3: субсидия от УО/ДФЗ
A4: 1 | B4: 2 | C4: 3 | D4: 4 | E4: 5 | F4: 6 | G4: 7 | H4: 8 | I4: 9 | J4: 10 | K4: 11 | L4: 12 | M4: 13 | N4: 14 | O4: 15
A5: Мерки, финансирани от ПРСР 2014 - 2020 г. (ЕЗФРСР)
A6: Подмярка 4.1. Подкрепа за инвестиции в земеделски стопанства
A7: 1 | B7: "Агро Егер" ЕООД | C7: Закупуване на оборудване за кравеферма | D7: 159203.38 | E7: 79601.69 | F7: =E7/D7 -> 0.5 | G7: 159203.38 | H7: 79601.69 | I7: НП | J7: НП | K7: =G7 -> 159203.38 | L7: =H7 -> 79601.69 | M7: 159202.89 | N7: 79601.43 | O7: 0
A8: 2 | B8: "ЕСЕНШЪЛ ОЙЛС"ЕООД | C8: Инвестиции в стопанството на „ЕСЕНШЪЛ ОЙЛС“ЕООД за покупка на прикачен инвентар за обработка и реколтиране на лавандула | D8: 90000 | E8: 45000 | F8: =E8/D8 -> 0.5 | G8: 90000 | H8: 45000 | I8: НП | J8: НП | K8: =G8 -> 90000 | L8: =H8 -> 45000 | M8: 90000 | N8: 45000 | O8: 45000
A9: 3 | B9: „Василев - Тервел” ЕООД | C9: Закупуване на трактор в стопанството на „Василев Тервел” ЕООД | D9: 149500 | E9: 59800 | F9: =E9/D9 -> 0.4 | G9: 149500 | H9: 59800 | I9: НП | J9: НП | K9: 149500 | L9: 59800 | O9: 0
A10: 4 | B10: АГРО ЕГЕР ЕООД (ЕИК: ) | C10: Закупуване на оборудване за кравеферма | D10: 159892.01 | E10: =D10/2-0.01 -> 79945.995 | F10: =E10/D10 -> 0.49999994 | G10: 159892.01 | H10: 79945.995 | I10: НП | J10: НП | K10: 159892.01 | L10: 79945.995
A11: 5 | B11: ДЖАМБО - Л ЕООД | C11: „Повишаване на конкурентноспособността на „Джамбо - Л” ЕООД, произвеждащо плодови сокове от собствена суровина” | D11: 83200 | E11: 41600 | F11: =E11/D11 -> 0.5 | G11: 83200 | H11: 41600 | I11: НП | J11: ОТКАЗАН ЗА ИЗПЪЛНЕНИЕ ОТ БЕНЕФИЦИЕНТА | K11: =G11 -> 83200 | L11: =H11 -> 41600 | M11: 83200 | N11: 41600 | O11: 0 | P11: Отказан за изпълнение и финансиране
A12: 6 | B12: ПЕНЕВ КАР ЕООД | C12: Закупуване на оборудване за автосервиз | D12: 118183 | E12: =D12*70% -> 82728.1 | F12: =E12/D12 -> 0.7 | G12: =D12 -> 118183 | H12: =E12 -> 82728.1 | I12: НП | J12: НП | K12: 118183 | L12: 82728.1 | M12: 118183 | N12: 82728.1 | O12: 0
A13: 7 | B13: "Братя Кондови 2019" ЕООД | C13: Развитие и оборудване на градински център "Братя Кондови 2019" ЕООД | D13: 35628 | E13: =D13*70% -> 24939.6 | F13: =E13/D13 -> 0.7 | G13: =D13 -> 35628 | H13: =E13 -> 24939.6 | I13: НП | J13: НП | K13: 35628 | L13: 24939.6 | M13: 35628 | N13: 24939.6 | O13: 0
A14: 8 | B14: СТОУНС РУМО ЕООД (ЕИК: 202079322) | C14: Инвестиции в производствената дейност и конкурентноспособността на СТОУНС РУМО ЕООД | D14: 10363.6 | E14: 7254.52 | F14: =E14/D14 -> 0.7 | G14: 10363.6 | H14: 7254.52 | I14: НП | J14: ОТКАЗАН ПРОЕКТ ОТ БЕНЕФИЦИЕНТА | K14: 10363.6 | L14: 7254.52 | M14: 0 | N14: 0 | O14: =M14-N14 -> 0
A15: 9 | B15: АМБУЛАТОРИЯ ЗА ИНДИВИДУАЛНА ПРАКТИКА ЗА ПЪРВИЧНА ИЗВЪНБОЛНИЧНА МЕДИЦИНСКА ПОМОЩ ПО ДЕНТАЛНА МЕДИЦИНА - Д-Р ДЕНИЦА КОВАЧЕВА | C15: Закупуване на оборудване за стоматологичен кабинет в гр. Тервел | D15: 72286 | E15: 50412.26 | F15: =E15/D15 -> 0.69740005 | G15: 72286 | H15: 50412.26 | I15: НП | J15: НП | K15: 72286 | L15: 50412.26 | M15: 0 | N15: 0 | O15: 0
A16: 10 | B16: МЕГА ТРАНС 2014 ЕООД | C16: Обособяване на малък цех за производство на картонени чашки в село Орляк, община Тервел | D16: 280641.15 | E16: 196448.8 | F16: =E16/D16 -> 0.69999998 | G16: =D16 -> 280641.15 | H16: =E16 -> 196448.8 | I16: НП | J16: НП | K16: =D16 -> 280641.15 | L16: =E16 -> 196448.8 | M16: 0 | N16: 0 | O16: 0
A17: 11 | B17: АРТ 2020 ЕООД | C17: „Оборудване и експлоатация на киносалон в град Тервел и предоставяне на мобилни услуги по кинопоказ | D17: 190690 | E17: 95345 | F17: =E17/D17 -> 0.5 | G17: =D17 -> 190690 | H17: =E17 -> 95345 | I17: НП | J17: НП | K17: =D17 -> 190690 | L17: =E17 -> 95345 | M17: 0 | N17: 0 | O17: 0
A18: 12 | B18: ВЕЛИКОВ СТРОЙ ИНВЕСТ ЕООД (ЕИК: 207065166) | C18: Закупуване на минибагер и оборудване | D18: 80730 | E18: 40365 | F18: =E18/D18 -> 0.5 | G18: 87730 | H18: 40365 | I18: НП | J18: НП | K18: 87730 | L18: 40365 | M18: 0 | N18: 0 | O18: 0
D19: =SUM(D7:D18) -> 1430317.1 | E19: =SUM(E7:E18) -> 803440.96 | G19: =SUM(G7:G18) -> 1437317.1 | H19: =SUM(H7:H18) -> 803440.96 | K19: =SUM(K7:K18) -> 1437317.1 | L19: =SUM(L7:L18) -> 803440.96 | M19: =SUM(M7:M18) -> 486213.89 | N19: =SUM(N7:N18) -> 273869.13 | O19: =SUM(O7:O18) -> 45000 | R19: =#REF!+#REF!+O8+#REF!+#REF!+#REF!+#REF!+#REF!+#REF!+#REF! -> #REF!
D21: =#REF!+#REF! -> #REF!

Sheet Лист7
A1: Таблица 13: Изпълнение на СВОМР по кандидати/ получатели през отчетния период в лева - 2022г.
A2: МЕРКИ ПО ФОНДОВЕ | B2: Име на кандидата/ получателя | C2: Име на проекта | D2: Заявен общ размер на разходите по заявления подадени в МИГ | E2: Заявен общ размер наБФП по заявления, подадени в МИГ | F2: % на заявената помощ | G2: Одобрен общ размер на разходите по проект от МИГ | H2: Субсидия по проектите, одобрени от МИГ | I2: Отхвърлено/ оттеглено/ анулирано заявление | J2: Мотив за отхвърляне | K2: Заявен общ размер на разходите по проект към УО/ДФЗ | L2: Заявена субсидия към УО/ДФЗ | M2: Одобрен общ размер на разх. по проект от УО/ДФЗ | N2: Одобрена | O2: Изплатена субсидия
N3: субсидия от УО/ДФЗ
A4: 1 | B4: 2 | C4: 3 | D4: 4 | E4: 5 | F4: 6 | G4: 7 | H4: 8 | I4: 9 | J4: 10 | K4: 11 | L4: 12 | M4: 13 | N4: 14 | O4: 15
A5: Мерки, финансирани от ПРСР 2014 - 2020 г. (ЕЗФРСР)
A6: 4 | B6: РАДИДА ООД | C6: „Модернизиране на кравеферма, включващо подмяна на покривни материали и закупуване на ехограф“ | D6: 145794.77 | E6: 72897.37 | F6: =E6/D6 -> 0.4999999 | G6: 145794.77 | H6: 72897.37 | I6: НП | J6: НП | K6: =G6 -> 145794.77 | L6: =H6 -> 72897.37 | M6: 145794.77 | N6: 72897.37 | O6: 0
A7: 3 | B7: А И К 2000 ООД | C7: ПО-КОНКУРЕНТНО ПРОИЗВОДСТВО НА КАЧЕСТВЕНИ ЗЕЛЕНЧУКОВИ ПОДПРАВКИ | D7: 62755 | E7: 31377.5 | F7: =E7/D7 -> 0.5 | G7: 0 | H7: 0 | I7: ОТКАЗАН ОТ МИГ | J7: ЛИПСА НА ОБОСНОВАНОСТ И ДОКУМЕНТИ | K7: =G7 -> 0 | L7: =H7 -> 0 | M7: 0 | N7: 0 | O7: 0
A8: 4 | B8: А И К 2000 ООД | C8: ПО-КОНКУРЕНТНО ПРОИЗВОДСТВО НА КАЧЕСТВЕНИ ЗЕЛЕНЧУКОВИ ПОДПРАВКИ | D8: 62755 | E8: 31377.5 | F8: 0.5 | G8: 0 | H8: 0 | I8: ОТКАЗАН ОТ МИГ | J8: ЛИПСА НА ОБОСНОВАНОСТ И ДОКУМЕНТИ | K8: 0 | L8: 0 | M8: 0 | N8: 0 | O8: 0
A9: 5 | B9: А И К 2000 ООД | C9: Закупуване, доставка и монтаж на сушилна камера за плодове и зеленчуци | D9: 50100 | E9: 25050 | F9: 0.5 | G9: 50100 | H9: 25050 | I9: НП | J9: НП | K9: 50100 | L9: 25050 | M9: 50100 | N9: 25050 | O9: 0
A10: 1 | B10: Групова практика за първична медицинска помощ по дентална медицина Дент експерт ООД | C10: „Развитие и подкрепа в сферата на денталната медицина на територията на МИГ ТЕРВЕЛ – КРУШАРИ“ | D10: 268845.14 | E10: =D10*70% -> 188191.6 | F10: =E10/D10 -> 0.7 | G10: 0 | H10: 0 | I10: ОТКАЗАН ОТ МИГ | J10: ЛИПСА НАОБОСНОВАНОСТ И ДОКУМЕНТИ | M10: 0 | N10: 0 | O10: 0
A11: 2 | B11: БРАТЯ РАЙЧЕВИ ООД | C11: Ивестиции в оборудване и обзавеждане на ресторант „Приятели” за по-добра конкуренция и улеснен достъп за населението от община Тервел | D11: 29969.16 | E11: =D11*70% -> 20978.412 | F11: =E11/D11 -> 0.7 | G11: =D11 -> 29969.16 | H11: =E11 -> 20978.412 | I11: НП | J11: НП | K11: 29969.16 | L11: 20978.412 | M11: 29969.16 | N11: 20978.412 | O11: 0
A12: 4 | B12: ДЖЕБЕДЖИ 60 ООД | C12: Изграждане на склад и магазин за строителни материали | D12: 380963.16 | E12: =D12*70% -> 266674.21 | F12: =E12/D12 -> 0.7 | G12: =D12 -> 380963.16 | H12: =E12 -> 266674.21 | I12: НП | J12: ОТКАЗАН ЗА ПОДПИСВАНЕ ДОГОВОР ОТ БЕНЕФИЦИЕНТА | K12: 380963.16 | L12: 266674.21 | M12: 380963.16 | N12: 266674.21 | O12: 0
A13: 6 | B13: "Крис - 93" ООД | C13: „Повишаване на конкурентоспособността на „Крис- 93 ООД чрез въвеждане на съвременни информационни и комуникационни технологии в управлението и услугите” | D13: 20661.65 | E13: =D13*70% -> 14463.155 | F13: =E13/D13 -> 0.7 | G13: 20661.65 | H13: 4036.77 | I13: НП | J13: ОТКАЗАН ПРОЕКТ ОТ БЕНЕФИЦИЕНТА | K13: 20661.65 | L13: 4036.77 | O13: 0
A14: 8 | B14: ДОНИДО М ООД | C14: „ Подобряване на конкурентоспособността и условията на труд в „ДОНИДО М“ ООД“ | D14: 88500 | E14: 61950 | F14: =E14/D14 -> 0.7 | G14: 88500 | H14: 61950 | I14: НП | J14: НП | K14: 88500 | L14: 61950 | M14: 88500 | N14: 61950 | O14: 0
A15: 10 | B15: Групова практика за първична медицинска помощ по дентална медицина Дент експерт ООД | C15: „Развитие и подкрепа в сферата на денталната медицина на територията на МИГ ТЕРВЕЛ – КРУШАРИ“ | D15: 189090 | E15: 132363 | F15: =E15/D15 -> 0.7 | G15: 189090 | H15: 132363 | I15: НП | J15: НП | K15: 189090 | L15: 132363 | M15: 189090 | N15: 132363
D16: =SUM(D6:D15) -> 1299433.9 | E16: =SUM(E6:E15) -> 845322.75 | G16: =SUM(G6:G15) -> 905078.74 | H16: =SUM(H6:H15) -> 583949.76 | K16: =SUM(K6:K15) -> 905078.74 | L16: =SUM(L6:L15) -> 583949.76 | M16: =SUM(M6:M15) -> 884417.09 | N16: =SUM(N6:N15) -> 579912.99 | O16: =SUM(O6:O15) -> 0

Sheet договори
B1: Бенефициент | C1: Седалище | D1: Местонахождение | E1: Номер на проектно предложение | F1: Наименование на проекта | G1: Обща стойност | H1: БФП | I1: Собствено съфинансиране от бенефициента | J1: Реално изплатени суми | K1: Продължителност (месеци) | L1: Статус на изпълнение на договора/заповедта за БФП
B2: Подмярка | C2: 4.1.
A3: 1 | B3: 204155605 "Агро Егер" ЕООД | C3: България, гр.Тервел, 9450, ул. Г.С.Раковски 30 | D3: гр.Тервел | E3: BG06RDNP001-19.076-0016 | F3: Закупуване на оборудване за кравеферма | G3: 159203.38 | H3: 79601.43 | I3: 79601.95 | J3: 0 | K3: 24 | L3: Сключен
A4: 2 | B4: 205376542 "ЕСЕНШЪЛ ОЙЛС"ЕООД | C4: България, с.Божан, 9475, ул."Втора"№12 | D4: с.Божан | E4: BG06RDNP001-19.076-0017 | F4: Инвестиции в стопанството на „ЕСЕНШЪЛ ОЙЛС“ЕООД за покупка на прикачен инвентар за обработка и реколтиране на лавандула | G4: 90000 | H4: 45000 | I4: 45000 | J4: 0 | K4: 24 | L4: Сключен
A5: 3 | B5: Венцислав | C5: България, с.Безмер, 9480, Първа № 7 | D5: с.Безмер (общ.Тервел) | E5: BG06RDNP001-19.076-0003 | F5: „Модернизиране на процесите по доене и поддържане на пасището във фермата на земеделски стопанин Венцислав Вълчев” | G5: 155307.23 | H5: 77652.67 | I5: 77654.56 | J5: 0 | K5: 18 | L5: Отказан за изпълнение
A6: 4 | B6: Георги | C6: България, с.Коларци, 9481, Осма № 16 | D6: с.Коларци | E6: BG06RDNP001-19.076-0004 | F6: Изграждане на склад за съхранение на пчелни продукти и модернизиране на процесите по добив на пчелен мед в стопанството на Георги Бохоров | G6: 65834.54 | H6: 24452.91 | I6: 41381.63 | J6: 2200 | K6: 26 | L6: Сключен
A7: 5 | B7: Димитър | C7: България, гр.Тервел, 9450, жк. Изгрев 11 вх.Б ет.2 ап.5 | D7: Тервел | E7: BG06RDNP001-19.076-0012 | F7: Инвестиционен проект за закупуване на земеделска техника и инвентар | G7: 125664.61 | H7: 62832.3 | I7: 62832.31 | J7: 62832.3 | K7: 24 | L7: Сключен
A8: 6 | B8: ЗП | C8: България, гр.Тервел, 9450, жк."Изгрев" бл.13, ет.2, ап.3 | D8: гр.Тервел | E8: BG06RDNP001-19.076-0006 | F8: "Подобряване конкурентноспособността на ЗП Иван Веселинов Иванов" | G8: 105960 | H8: 42146.39 | I8: 63813.61 | J8: 0 | K8: 24 | L8: Отказан за изпълнение
A9: 7 | B9: ЗП | C9: България, с.Полковник Дяково, 9401, улица "Шеста" № 5 | D9: с.Полковник Дяково | E9: BG06RDNP001-19.076-0013 | F9: Закупуване на прикачен комбайн за лавандула | G9: 81000 | H9: 27356.94 | I9: 53643.06 | J9: 27356.94 | K9: 24 | L9: Сключен
A10: 8 | B10: ЗС | C10: България, с.Крушари, 9410, "9 септември" 4 | D10: с.Крушари | E10: BG06RDNP001-19.076-0015 | F10: Закупуване на земеделска техника за обработка и прибиране на лавандула | G10: 110716.61 | H10: 55358.3 | I10: 55358.31 | J10: 0 | K10: 24 | L10: Сключен
A11: 9 | B11: ЗС | C11: България, с.Крушари, 9410, ул. "9 септември" №4 | D11: с.Крушари | E11: BG06RDNP001-19.076-0008 | F11: Закупуване на прикачен комбайн за лавандула марка BONINO, модел BE 500 | G11: 81000 | H11: 40500 | I11: 40500 | J11: 40500 | K11: 24 | L11: Сключен
A12: 10 | B12: ЗС | C12: България, с.Орляк, 9490, ул. "Тринадесета" 27 | D12: с.Орляк | E12: BG06RDNP001-19.076-0011 | F12: Закупуване на земеделска техника за обработка на насаждения от лавандула | G12: 159900 | H12: 79950 | I12: 79950 | J12: 79950 | K12: 24 | L12: Сключен
A13: 11 | B13: ЗС | C13: България, с.Александрия, 9404, ул. Шеста №3 | D13: с.Александрия | E13: BG06RDNP001-19.076-0007 | F13: Закупуване на машина за косене на лавандула МЕТАЛАГРО МА 301 S | G13: 33400 | H13: 13923.07 | I13: 19476.93 | J13: 0 | K13: 24 | L13: Сключен
A14: 12 | B14: Иван | C14: България, гр.Тервел, 9540, ул. Васил Левски № 11 | D14: гр.Тервел | E14: BG06RDNP001-19.076-0002 | F14: Механизиране на процесите по доене | G14: 101809.99 | H14: 50904.22 | I14: 50905.77 | J14: 0 | K14: 24 | L14: Отказан за изпълнение
... A18: 16 | B18: 124531747 РАДИДА ООД | C18: България, с.Сърнец, 9482, Кравеферма | D18: с.Сърнец | E18: BG06RDNP001-19.076-0005 | F18: „Модернизиране на кравеферма, включващо подмяна на покривни материали и закупуване на ехограф“ | G18: 145794.77 | H18: 72897.37 | I18: 72897.4 | J18: 0 | K18: 36 | L18: Сключен
G19: 1698518.3 | H19: 809582.58 | I19: 888935.75 | J19: 270346.22
B20: Подмярка | C20: 4.2.
A21: 3 | B21: 200976113 ДЖАМБО - Л ЕООД | C21: България, гр.Тервел, 9450, УЛ. ГЕНЕРАЛ СТОЛЕТОВ, номер 4 | D21: гр.Тервел | E21: BG06RDNP001-19.012-0002 | F21: „Повишаване на конкурентноспособността на „Джамбо - Л” ЕООД, произвеждащо плодови сокове от собствена суровина” | G21: 83200 | H21: 41600 | I21: 41600 | J21: 0 | K21: 24 | L21: Отказан за изпълнение
G22: 83200 | H22: 41600 | I22: 41600 | J22: 0
B23: Подмярка | C23: 6.4.
B24: 203656937 ДОНИДО М ООД | C24: България, гр.Тервел, 9450, ул. Гео Милев, номер 9 | D24: гр.Тервел | E24: BG06RDNP001-19.264-0008 | F24: „ Подобряване на конкурентоспособността и условията на труд в | G24: 88500 | H24: 61950 | I24: 26550 | J24: 0 | K24: 18 | L24: Сключен
F25: „ДОНИДО М“ ООД“
B26: 124133985 ЕТ Силвия Неделчева - СИДИ | C26: България, гр.Тервел, 9450, жк.Изгрев №7, вх.Б, ет.1, ап.2 | D26: гр.Тервел | E26: BG06RDNP001-19.264-0007 | F26: „Закупуване на специализирано оборудване за ОПТИКА в гр.Тервел“ | G26: 15312 | H26: 10718.4 | I26: 4593.6 | J26: 10718.4 | K26: 18 | L26: Сключен
B27: 203855501 ЕТ „Ненка-69-Николай Ненов” | C27: България, гр.Тервел, 9450, гр.Тервел ул.Хан Аспарух №59 | D27: гр.Тервел | E27: BG06RDNP001-19.418-0001 | F27: „Закупуване на специализирано оборудване за автосервиз в гр.Тервел“ | G27: 29899.8 | H27: 20929.86 | I27: 8969.94 | J27: 0 | K27: 20 | L27: Сключен
B28: 124718540 Групова практика за първична медицинска помощ по дентална медицина Дент експерт ООД | C28: България, гр.Тервел, 9450, ул.Св.Св. Кирил и Методий №18 | D28: Тервел | E28: BG06RDNP001-19.496-0001 | F28: „Развитие и подкрепа в сферата на денталната медицина на територията на МИГ ТЕРВЕЛ – КРУШАРИ“ | G28: 189090 | H28: 132363 | I28: 56727 | J28: 0 | K28: 19 | L28: Сключен
G29: 322801.8 | H29: 225961.26 | I29: 96840.54 | J29: 10718.4
B30: Подмярка | C30: 7.2.
B31: 000852925 Община Тервел | C31: България, гр.Тервел, 9450, улица "Св.Св.Кирил и Методий" 8 | D31: гр.Тервел | E31: BG06RDNP001-19.003-0002 | F31: "Рехабилитация на улици в гр.Тервел - Улица "Дунав" - участък от ул."Черни връх" до ул."Черно море";Улица 'Пирин" от О.К.13 до О.К.56 и Улица "Тимок" от О.К 56 до О.К.63" | G31: 271908.46 | H31: 271908.46 | I31: 0 | J31: 135954.22 | K31: 24 | L31: Сключен
B32: 000852925 Община Тервел | C32: България, гр.Тервел, 9450, улица "Св.Св.Кирил и Методий" 8 | D32: гр.Тервел | E32: BG06RDNP001-19.003-0004 | F32: „Обновяване на площад „Старият дъб в гр.Тервел“ – зона за отдих“ | G32: 101391.5 | H32: 101391.5 | I32: 0 | J32: 50695.75 | K32: 24 | L32: Сключен
B33: 000852925 Община Тервел | C33: България, гр.Тервел, 9450, Улица "Св.Св.Кирил и Методий" 8 | D33: с.Безмер (общ.Тервел) | E33: BG06RDNP001-19.003-0005 | F33: „Реконструкция на сграда за център за социални услуги в с.Безмер“ | G33: 243884.5 | H33: 243884.5 | I33: 0 | J33: 121942.24 | K33: 24 | L33: Сключен
B34: 000852925 Община Тервел | C34: България, гр.Тервел, 9450, улица "Св.Св.Кирил и Методий" 8 | D34: с.Нова Камена | E34: BG06RDNP001-19.003-0003 | F34: Ремонт на открита спортна площадка в основно училище с.Нова Камена,община Тервел | G34: 169387.71 | H34: 169387.71 | I34: 0 | J34: 0 | K34: 24 | L34: Сключен
B35: 000852754 ОБЩИНА КРУШАРИ | C35: България, с.Крушари, 9410, ул. "Девети септември" 3А | D35: Крушари | E35: BG06RDNP001-19.003-0001 | F35: Рехабилитация на част от улица "Черно море" и улица "Изгрев" в с.Крушари, община Крушари, област Добрич | G35: 137255.26 | H35: 137255.26 | I35: 0 | J35: 130873.76 | K35: 36 | L35: Сключен
B36: 000852754 ОБЩИНА КРУШАРИ | C36: България, с.Крушари, 9410, ул. "Девети септември" №3-А | D36: с.Крушари | E36: BG06RDNP001-19.289-0001 | F36: Реконструкция на пешеходна зона на с. Крушари - УПИ XVІІ, кв. 60, по плана на с. Крушари | G36: 181252.87 | H36: 181252.87 | I36: 0 | J36: 90626.43 | K36: 21 | L36: Сключен
G37: 1105080.3 | H37: 1105080.3 | I37: 0 | J37: 530092.4
B38: Подмярка | C38: 19.7.6.
B39: 000852754 ОБЩИНА КРУШАРИ | C39: България, с.Крушари, 9410, ул. "Девети септември" №3-А | D39: с.Крушари | E39: BG06RDNP001-19.338-0004 | F39: ФЕСТИВАЛ „ПРОЛЕТНИЦИ ЗА СИТА ЗИМА“ | G39: 27140 | H39: 27140 | I39: 0 | J39: 0 | K39: 12 | L39: Сключен
G40: 27140 | H40: 27140 | I40: 0 | J40: 0
G41: 3236740.4 | H41: 2209364.1 | I41: 1027376.3 | J41: 811157.02

Sheet Лист1
E1: Таблица 13: Изпълнение на СВОМР по кандидати/ получатели през отчетния период в лева
E2: МЕРКИ ПО ФОНДОВЕ | F2: Име на кандидата/ получателя | G2: Име на проекта | H2: Заявен общ размер на разходите по заявления подадени в МИГ | I2: Заявен общ размер наБФП по заявления, подадени в МИГ | J2: Одобрен общ размер на разходите по проект от МИГ | K2: Субсидия по проектите, одобрени от МИГ | L2: Заявен общ размер на разходите по проект към УО/ДФЗ | M2: Заявена субсидия към УО/ДФЗ | N2: Одобрен общ размер на разх. по проект от УО/ДФЗ | O2: Одобрена | Q2: Изплатена субсидия | R2: Остатък
A3: ЗП | B3: ЕТ | C3: ЕООД | D3: ООД | O3: субсидия от УО/ДФЗ
E4: 1 | F4: 2 | G4: 3 | H4: 4 | I4: 5 | J4: 7 | K4: 8 | L4: 11 | M4: 12 | N4: 13 | O4: 14 | Q4: 15
E5: Мерки, финансирани от ПРСР 2014 - 2020 г. (ЕЗФРСР)
E6: Подмярка 4.1. Подкрепа за инвестиции в земеделски стопанства | F6: 1018400 | H6: =SUM(H7:H29) -> 2013160.7 | I6: =SUM(I7:I29) -> 967891.26 | J6: =SUM(J7:J29) -> 1863660.7 | K6: =SUM(K7:K29) -> 908091.26 | L6: =SUM(L7:L29) -> 1863660.7 | M6: =SUM(M7:M29) -> 908091.26 | N6: =SUM(N7:N29) -> 1828851 | O6: =SUM(O7:O29) -> 884313.02 | Q6: =SUM(Q7:Q29) -> 270345.62 | R6: =F6-(O6+I29) -> 74286.98
F7: 4.1 "Инвестиции в земеделски стопанства" Първи прием- Процедура BG06RDNP001-19.076
F8: РАДИДА ООД | G8: „Модернизиране на кравеферма, включващо подмяна на покривни материали и закупуване на ехограф“ | L8: 0 | M8: 0 | N8: 0 | O8: 0 | Q8: 0
A9: 1 | E9: 1 | F9: Иван Ангелов Иванов - земеделски стопанин физическо лице | G9: Механизиране на процесите по доене | H9: 101810 | I9: 50905 | J9: 101810 | K9: 50905 | L9: 101810 | M9: 50905 | N9: 101810 | O9: 50905 | Q9: 0 | S9: ОТКАЗАН ЗА ИЗПЪЛНЕНИЕ | V9: 50905
A10: 1 | E10: 2 | F10: Венцислав Манолов Вълчев | G10: „Модернизиране на процесите по доене и поддържане на пасището във фермата на земеделски стопанин Венцислав Вълчев” | H10: 155307.23 | I10: 77653.62 | J10: 155307.23 | K10: 77653.62 | L10: 155307.23 | M10: 77653.62 | N10: 155307.23 | O10: 77653.62 | Q10: 0 | S10: ОТКАЗАН ЗА ИЗПЪЛНЕНИЕ | V10: 77653.62
A11: 1 | E11: 3 | F11: Георги Стойчев Бохоров - земеделски стопанин | G11: Изграждане на склад за съхранение на пчелни продукти и модернизиране на процесите по добив на пчелен мед в стопанството на Георги Бохоров | H11: 65834.54 | I11: 32917.27 | J11: 65834.54 | K11: 32917.27 | L11: =J11 -> 65834.54 | M11: =K11 -> 32917.27 | N11: 48905.81 | O11: 24452.9 | P11: =N11-O11 -> 24452.91 | Q11: 2200
D12: 1 | E12: 4 | F12: РАДИДА ООД | G12: „Модернизиране на кравеферма, включващо подмяна на покривни материали и закупуване на ехограф“ | H12: 145794.77 | I12: 72897.37 | J12: 145794.77 | K12: 72897.37 | L12: =J12 -> 145794.77 | M12: =K12 -> 72897.37 | N12: 145794.77 | O12: 72897.37 | P12: =N12-O12 -> 72897.4 | Q12: 0
A13: 1 | E13: 5 | F13: ЗП Иван Веселинов Иванов | G13: "Подобряване конкурентноспособността на ЗП Иван Веселинов Иванов" | H13: 105960 | I13: 42384 | J13: 105960 | K13: 42384 | L13: 105960 | M13: 42384 | N13: 105960 | O13: 42384 | P13: =N13-O13 -> 63576 | Q13: 0 | S13: ОТКАЗАН ЗА ИЗПЪЛНЕНИЕ | V13: 42384
A14: 1 | E14: 6 | F14: ЗС Росица Георгиева Петрова | G14: Закупуване на машина за косене на лавандула МЕТАЛАГРО МА 301 S | H14: 33400 | I14: 16700 | J14: 33400 | K14: 16700 | L14: =J14 -> 33400 | M14: =K14 -> 16700 | N14: 27846.14 | O14: 13923.07 | P14: =N14-O14 -> 13923.07 | Q14: 0 | V14: =SUM(V9:V13) -> 170942.62
A15: 1 | E15: 7 | F15: ЗС Живко Димитров Петров | G15: Закупуване на прикачен комбайн за лавандула марка BONINO, модел BE 500 | H15: 81000 | I15: 40500 | J15: 81000 | K15: 40500 | L15: =J15 -> 81000 | M15: =K15 -> 40500 | N15: 81000 | O15: 40500 | P15: =N15-O15 -> 40500 | Q15: 40500
A16: 1 | E16: 8 | F16: ХРИСТО ПЛАМЕНОВ ИГНАТОВ | G16: Създаване на 33.700 дка. трайни насаждения от лавандула и закупуване на земеделска техника | H16: 46308.7 | I16: 23154.35 | J16: 46308.7 | K16: 23154.35 | L16: =J16 -> 46308.7 | M16: =K16 -> 23154.35 | N16: 37395.47 | O16: 18697.73 | P16: =N16-O16 -> 18697.74 | Q16: 18697.13
F17: ЗС МЕЛИХА АХМЕД ДЮКЯНДЖИ | G17: Закупуване на земеделска техника за обработка на насаждения от лавандула | N17: 0 | O17: 0 | P17: =N17-O17 -> 0
A18: 1 | E18: 9 | F18: ЗС МЕЛИХА АХМЕД ДЮКЯНДЖИ | G18: Закупуване на земеделска техника за обработка на насаждения от лавандула | H18: 159900 | I18: 79950 | J18: 159900 | K18: 79950 | L18: =J18 -> 159900 | M18: =K18 -> 79950 | N18: 159900 | O18: 79950 | P18: =N18-O18 -> 79950 | Q18: 79950
A19: 1 | E19: 10 | F19: Димитър Стоянов Иванов | G19: Инвестиционен проект за закупуване на земеделска техника и инвентар | H19: 129078 | I19: 64539 | J19: 129078 | K19: 64539 | L19: =J19 -> 129078 | M19: =K19 -> 64539 | N19: 125664.61 | O19: 62832.3 | P19: =N19-O19 -> 62832.31 | Q19: 62832.3
A20: 1 | E20: 11 | F20: ЗП Константин Атанасов Георгиев | G20: Закупуване на прикачен комбайн за лавандула | H20: 81000 | I20: 27356.94 | J20: 81000 | K20: 27356.94 | L20: 81000 | M20: =K20 -> 27356.94 | N20: 81000 | O20: 27356.94 | P20: =N20-O20 -> 53643.06 | Q20: 27356.94
A21: 1 | E21: 12 | F21: Таня Георгиева Рачева | G21: Инвестиционен проект за закупуване на земеделска техника и инвентар | H21: 77618.5 | I21: 38809.25 | J21: 77618.5 | K21: 38809.25 | L21: 77618.5 | M21: =K21 -> 38809.25 | N21: 77618.5 | O21: 38809.25 | P21: =N21-O21 -> 38809.25 | Q21: =O21 -> 38809.25
A22: 1 | E22: 13 | F22: ЗС ДЕЯН ДИМИТРОВ ПЕТРОВ | G22: Закупуване на земеделска техника за обработка и прибиране на лавандула | H22: 114130 | I22: 57065 | J22: 114130 | K22: 57065 | L22: =J22 -> 114130 | M22: =K22 -> 57065 | N22: 114130 | O22: 55358.3 | P22: =N22-O22 -> 58771.7 | Q22: 0 | S22: =I22-O22 -> 1706.7
C23: 1 | E23: 14 | F23: "Агро Егер" ЕООД | G23: Закупуване на оборудване за кравеферма | H23: 159203.38 | I23: 79601.69 | J23: 159203.38 | K23: 79601.69 | L23: =J23 -> 159203.38 | M23: =K23 -> 79601.69 | N23: 159202.89 | O23: 79601.43 | P23: =N23-O23 -> 79601.46 | Q23: 0
C24: 1 | E24: 15 | F24: "ЕСЕНШЪЛ ОЙЛС"ЕООД | G24: Инвестиции в стопанството на „ЕСЕНШЪЛ ОЙЛС“ЕООД за покупка на прикачен инвентар за обработка и реколтиране на лавандула | H24: 90000 | I24: 45000 | J24: 90000 | K24: 45000 | L24: =J24 -> 90000 | M24: =K24 -> 45000 | N24: 90000 | O24: 45000 | P24: =N24-O24 -> 45000 | Q24: 0
F25: 4.1 "Инвестиции в земеделски стопанства" Втори прием- Процедура BG06RDNP001-19.407 | P25: =N25-O25 -> 0
A26: 1 | E26: 16 | F26: Земеделски стопанин Румяна Петкова Русева | G26: Закупуване на телескопичен товарач и фуражосмесител за нуждите на животновъдна ферма в село Кочмар, община Тервел | H26: 159000 | I26: 79500 | J26: 159000 | K26: 79500 | L26: 159000 | M26: =K26 -> 79500 | N26: 159000 | O26: 79500 | P26: =N26-O26 -> 79500 | Q26: 0
A27: 1 | E27: 17 | F27: ЗП НИКОЛАЙ ТОШКОВ КОЛЕВ | G27: Модернизация на животновъдното стопанство на ЗП Николай Колев | H27: 158315.54 | I27: 79157.77 | J27: 158315.54 | K27: 79157.77 | L27: 158315.54 | M27: =K27 -> 79157.77 | N27: 158315.54 | O27: =M27-4666.66 -> 74491.11 | P27: =N27-O27 -> 83824.43 | Q27: 0 | S27: =M26+M27 -> 158657.77
F28: BG06RDNP001-19.547-0001 | P28: =N28-O28 -> 0
C29: 1 | E29: 18 | F29: „Василев - Тервел” ЕООД | G29: Закупуване на трактор в стопанството на „Василев Тервел” ЕООД | H29: 149500 | I29: 59800 | P29: =N29-O29 -> 0
E30: Подмярка 4.2 Инвестиции в преработка/маркетинг на селскостопански продукти | F30: 41600 | H30: =SUM(H31:H37) -> 350668.32 | I30: =SUM(I31:I37) -> 175334.19 | J30: =SUM(J31:J37) -> 133300 | K30: =SUM(K31:K37) -> 66650 | L30: =SUM(L31:L37) -> 133300 | M30: =SUM(M31:M37) -> 66650 | N30: =SUM(N31:N37) -> 0 | O30: =SUM(O31:O37) -> 0 | ... Q30: =SUM(Q31:Q37) -> 0 | R30: =F30-M37 -> 16550
F31: Подмярка 4.2 Инвестиции в преработка/маркетинг на селскостопански продукти - Процедура BG06RDNP001-19.012 | N31: =SUM(N32:N35) -> 0 | O31: =SUM(O32:O35) -> 0 | P31: =N31+O31 -> 0 | Q31: =SUM(Q32:Q35) -> 0
A32: 1 | E32: 1 | F32: Николай Георгиев Петров | G32: Закупуване на поставяемо съоръжение за преработка и търговия с мляко и млечни продукти с дневен капацитет от 250 литра овче мляко и специализиран автомобил оборудван с хладилна инсталация за превоз на готова продукция | H32: 91858.32 | I32: 45929.19 | J32: 0 | K32: 0 | L32: =J32 -> 0 | M32: =K32 -> 0 | N32: 0 | O32: 0 | P32: =N32+O32 -> 0 | Q32: 0
C33: 1 | E33: 2 | F33: ДЖАМБО - Л ЕООД | G33: „Повишаване на конкурентноспособността на „Джамбо - Л” ЕООД, произвеждащо плодови сокове от собствена суровина” | H33: 83200 | I33: 41600 | J33: 83200 | K33: 41600 | L33: =J33 -> 83200 | M33: =K33 -> 41600 | N33: 0 | O33: 0 | P33: =N33+O33 -> 0 | S33: Отказан за изпълнение и финансиране
D34: 1 | E34: 3 | F34: А И К 2000 ООД | G34: ПО-КОНКУРЕНТНО ПРОИЗВОДСТВО НА КАЧЕСТВЕНИ ЗЕЛЕНЧУКОВИ ПОДПРАВКИ | H34: 62755 | I34: 31377.5 | J34: 0 | K34: 0 | L34: =J34 -> 0 | M34: =K34 -> 0 | N34: 0 | O34: 0 | P34: =N34+O34 -> 0 | Q34: 0
H35: 62755 | I35: 31377.5 | P35: =N35+O35 -> 0
F36: BG06RDNP001-19.500-S1, Процедура: МИГ ТЕРВЕЛ - КРУШАРИ Подмярка 4.2. | P36: =N36+O36 -> 0
D37: 1 | E37: 5 | F37: А И К 2000 ООД | G37: ПО-КОНКУРЕНТНО ПРОИЗВОДСТВО НА КАЧЕСТВЕНИ ЗЕЛЕНЧУКОВИ ПОДПРАВКИ | H37: 50100 | I37: 25050 | J37: 50100 | K37: 25050 | L37: 50100 | M37: 25050 | P37: =N37+O37 -> 0
E38: Подмярка 6.4. Инвестиции в подкрепа на неземеделски дейности | F38: 785500 | H38: =SUM(H40:H54) -> 1259717.7 | I38: =SUM(I40:I54) -> 881614.46 | J38: =SUM(J40:J54) -> 918586.57 | K38: =SUM(K40:K54) -> 632584.21 | L38: =SUM(L40:L54) -> 918586.57 | M38: =SUM(M40:M54) -> 632584.21 | N38: =SUM(N40:N54) -> 908222.97 | O38: =SUM(O40:O54) -> 625318.35 | ... Q38: =SUM(Q40:Q54) -> 10718.4 | R38: =F38-M38 -> 152915.79
F39: 6.4 Инвестиции в подкрепа на неземеделски дейности" BG06RDNP001-19.264-Първи прием | P39: =N39+O39 -> 0
E40: 1 | F40: Групова практика за първична медицинска помощ по дентална медицина Дент експерт ООД | G40: „Развитие и подкрепа в сферата на денталната медицина на територията на МИГ ТЕРВЕЛ – КРУШАРИ“ | H40: 268845.14 | I40: =H40*70% -> 188191.6 | J40: 0 | K40: 0 | N40: 0 | O40: 0 | P40: =N40+O40 -> 0 | Q40: 0
D41: 1 | E41: 2 | F41: БРАТЯ РАЙЧЕВИ ООД | G41: Ивестиции в оборудване и обзавеждане на ресторант „Приятели” за по-добра конкуренция и улеснен достъп за населението от община Тервел | H41: 29969.16 | I41: =H41*70% -> 20978.412 | J41: =H41 -> 29969.16 | K41: =I41 -> 20978.412 | L41: 29969.16 | M41: 20978.412 | N41: 29969.16 | O41: 20978.412 | P41: =H41-I41 -> 8990.748 | Q41: 0 | U41: 25621.49
C42: 1 | E42: 3 | F42: ПЕНЕВ КАР ЕООД | G42: Закупуване на оборудване за автосервиз | H42: 118183 | I42: =H42*70% -> 82728.1 | J42: =H42 -> 118183 | K42: =I42 -> 82728.1 | L42: 118183 | M42: 82728.1 | N42: 118183 | O42: 82728.1 | P42: =H42-I42 -> 35454.9 | Q42: 0 | U42: 25621.49
D43: 1 | E43: 4 | F43: ДЖЕБЕДЖИ 60 ООД | G43: Изграждане на склад и магазин за строителни материали | H43: 380963.16 | I43: =H43*70% -> 266674.21 | J43: =H43 -> 380963.16 | K43: =I43 -> 266674.21 | L43: 380963.16 | M43: 266674.21 | N43: 380963.16 | O43: 266674.21 | P43: =H43-I43 -> 114288.95 | Q43: 0
C44: 1 | E44: 5 | F44: "Братя Кондови 2019" ЕООД | G44: Развитие и оборудване на градински център "Братя Кондови 2019" ЕООД | H44: 35628 | I44: =H44*70% -> 24939.6 | J44: =H44 -> 35628 | K44: =I44 -> 24939.6 | L44: 35628 | M44: 24939.6 | N44: 35628 | O44: 24939.6 | P44: =H44-I44 -> 10688.4 | Q44: 0 | U44: 25621.49
D45: 1 | E45: 6 | F45: "Крис - 93" ООД | G45: „Повишаване на конкурентоспособността на „Крис- 93 ООД чрез въвеждане на съвременни информационни и комуникационни технологии в управлението и услугите” | H45: 20661.65 | I45: =H45*70% -> 14463.155 | J45: 20661.65 | K45: 4036.77 | L45: 20661.65 | M45: 4036.77 | N45: 20661.65 | O45: 4036.77 | P45: =L45-M45 -> 16624.88 | Q45: 0 | U45: =SUM(U41:U44) -> 76864.47
F46: 6.4 Инвестиции в подкрепа на неземеделски дейности" BG06RDNP001-19.264-Втори прием | P46: =N46-O46 -> 0
B47: 1 | E47: 7 | F47: ЕТ Силвия Неделчева - СИДИ | G47: „Закупуване на специализирано оборудване за ОПТИКА в гр.Тервел“ | H47: 15312 | I47: 10718.4 | J47: 15312 | K47: 10718.4 | L47: 15312 | M47: 10718.4 | N47: 15312 | O47: 10718.4 | P47: =N47-O47 -> 4593.6 | Q47: 10718.4
D48: 1 | E48: 8 | F48: ДОНИДО М ООД | G48: „ Подобряване на конкурентоспособността и условията на труд в „ДОНИДО М“ ООД“ | H48: 88500 | I48: 61950 | J48: 88500 | K48: 61950 | L48: 88500 | M48: 61950 | N48: 88500 | O48: 61950 | P48: =N48-O48 -> 26550 | Q48: 0
F49: Подмярка 6.4. Инвестиции в подкрепа на неземеделски дейности - Процедура BG06RDNP001-19.418 | P49: =N49-O49 -> 0
B50: 1 | E50: 9 | F50: ЕТ „Ненка-69-Николай Ненов” | G50: „Закупуване на специализирано оборудване за автосервиз в гр.Тервел“ | H50: 29916 | I50: 20941.2 | J50: 29916 | K50: 20941.2 | L50: 29916 | M50: 20941.2 | N50: 29916 | O50: 20929.86 | P50: =N50-O50 -> 8986.14 | Q50: 0
F51: BG06RDNP001-19.496 | P51: =N51-O51 -> 0
B52: 1 | E52: 10 | F52: Групова практика за първична медицинска помощ по дентална медицина Дент експерт ООД | G52: „Развитие и подкрепа в сферата на денталната медицина на територията на МИГ ТЕРВЕЛ – КРУШАРИ“ | H52: 189090 | I52: 132363 | J52: 189090 | K52: 132363 | L52: 189090 | M52: 132363 | N52: 189090 | O52: 132363 | P52: =N52-O52 -> 56727 | U52: =O47+O48+O50+O52 -> 225961.26
C53: 1 | E53: 11 | F53: СТОУНС РУМО ЕООД (ЕИК: 202079322) | G53: Инвестиции в производствената дейност и конкурентноспособността на СТОУНС РУМО ЕООД | H53: 10363.6 | I53: 7254.52 | J53: 10363.6 | K53: 7254.52 | L53: 10363.6 | M53: 7254.52 | P53: =N53-O53 -> 0
B54: 1 | E54: 12 | F54: АМБУЛАТОРИЯ ЗА ИНДИВИДУАЛНА ПРАКТИКА ЗА ПЪРВИЧНА ИЗВЪНБОЛНИЧНА МЕДИЦИНСКА ПОМОЩ ПО ДЕНТАЛНА МЕДИЦИНА - Д-Р ДЕНИЦА КОВАЧЕВА | H54: 72286 | I54: 50412.26 | P54: =H54-M54 -> 72286 | S54: =O52+O50+O48+O47 -> 225961.26
A55: =SUM(A4:A54) -> 15 | B55: =SUM(B4:B54) -> 4 | C55: =SUM(C4:C54) -> 7 | D55: =SUM(D4:D54) -> 7 | E55: Подмярка 7.2. Инвестиции в създаването, подобряването или разширяването на всички видове малка по мащаби инфраструктура | F55: 1736500 | H55: =SUM(H57:H63) -> 1149596.6 | I55: =SUM(I57:I63) -> 1149596.6 | J55: =SUM(J57:J63) -> 1149596.6 | K55: =SUM(K57:K63) -> 1149596.6 | L55: =SUM(L57:L63) -> 1149596.6 | M55: =SUM(M57:M63) -> 1149596.6 | N55: =SUM(N57:N63) -> 1149596.6 | O55: =SUM(O57:O63) -> 1101659.1 | Q55: =SUM(Q57:Q63) -> 530092.41 | R55: =F55-O55 -> 634840.92
F56: BG06RDNP001-19.003 | S56: =SUM(S57:S63) -> -47937.53
E57: 1 | F57: ОБЩИНА КРУШАРИ | G57: Рехабилитация на част от улица "Черно море" и улица "Изгрев" в с.Крушари, община Крушари, област Добрич | H57: 137255.26 | I57: 137255.26 | J57: =H57 -> 137255.26 | K57: =I57 -> 137255.26 | L57: =J57 -> 137255.26 | M57: =K57 -> 137255.26 | N57: 137255.26 | O57: 133834.04 | Q57: 130873.76 | S57: =O57-H57 -> -3421.22
E58: 2 | F58: Община Тервел | G58: "Рехабилитация на улици в гр.Тервел - Улица "Дунав" - участък от ул."Черни връх" до ул."Черно море";Улица 'Пирин" от О.К.13 до О.К.56 и Улица "Тимок" от О.К 56 до О.К.63" | H58: 282245.27 | I58: 282245.27 | J58: =H58 -> 282245.27 | K58: =I58 -> 282245.27 | L58: =J58 -> 282245.27 | M58: =K58 -> 282245.27 | N58: 282245.27 | O58: 271908.46 | Q58: =O58/2 -> 135954.23 | S58: =O58-H58 -> -10336.81
E59: 3 | F59: Община Тервел | G59: „Обновяване на площад „Старият дъб в гр.Тервел“ – зона за отдих“ | H59: 101739 | I59: 101739 | J59: =H59 -> 101739 | K59: =I59 -> 101739 | L59: =J59 -> 101739 | M59: =K59 -> 101739 | N59: 101739 | O59: 101391.5 | Q59: 50695.75 | S59: =O59-H59 -> -347.5
E60: 4 | F60: Община Тервел | G60: Ремонт на открита спортна площадка в основно училище с.Нова Камена,община Тервел | H60: 172331.93 | I60: 172331.93 | J60: =H60 -> 172331.93 | K60: =I60 -> 172331.93 | L60: =J60 -> 172331.93 | M60: =K60 -> 172331.93 | N60: 172331.93 | O60: 169387.71 | Q60: 0 | S60: =O60-H60 -> -2944.22
E61: 5 | F61: Община Тервел | G61: „Реконструкция на сграда за център за социални услуги в с.Безмер“ | H61: 273775.49 | I61: 273775.49 | J61: =H61 -> 273775.49 | K61: =I61 -> 273775.49 | L61: =J61 -> 273775.49 | M61: =K61 -> 273775.49 | N61: 273775.49 | O61: 243884.5 | Q61: 121942.24 | S61: =O61-H61 -> -29890.99
F62: BG06RDNP001-19.289 | S62: =O62-H62 -> 0
E63: 6 | F63: ОБЩИНА КРУШАРИ | G63: Реконструкция на пешеходна зона на с. Крушари - УПИ XVІІ, кв. 60, по плана на с. Крушари | H63: 182249.66 | I63: 182249.66 | J63: 182249.66 | K63: 182249.66 | L63: 182249.66 | M63: 182249.66 | N63: 182249.66 | O63: 181252.87 | Q63: 90626.43 | S63: =O63-H63 -> -996.79
E64: Подмярка 19.7.6. Проучвания и инвестиции, свързани с възстановяване и подобряване на културното и природното наследство | F64: 150000 | H64: =SUM(H66:H71) -> 163371.15 | I64: =SUM(I66:I71) -> 163371.15 | J64: =SUM(J66:J71) -> 147584.49 | K64: =SUM(K66:K71) -> 147584.49 | L64: =SUM(L66:L71) -> 147584.49 | M64: =SUM(M66:M71) -> 147584.49 | N64: =SUM(N66:N71) -> 27140 | O64: =SUM(O66:O71) -> 27140 | Q64: =SUM(Q66:Q71) -> 0 | R64: =F64-M64 -> 2415.51
F65: BG06RDNP001-19.338 | P65: =N65+O65 -> 0
E66: 1 | F66: ФОНДАЦИЯ КРУГА | G66: „Дивите растения като храна – опознаване, популяризиране и съхранение на местното биоразнообразие и кулинарна традиция в община Крушари“ | H66: 29298 | I66: 29298 | J66: 29298 | K66: 29298 | L66: 29298 | M66: 29298 | N66: 0 | O66: 0 | P66: =N66+O66 -> 0 | Q66: 0
E67: 2 | F67: ОБЩИНА ТЕРВЕЛ | G67: ФЕСТИВАЛ НА БЯЛАТА ЖЪТВА - ЗА ЗЕМЯТА, ДОБРУДЖАНЕЦА И ХЛЯБА | H67: 26750 | I67: 26750 | J67: 26750 | K67: 26750 | L67: 26750 | M67: 26750 | N67: 0 | O67: 0 | P67: =N67+O67 -> 0 | Q67: 0
E68: 3 | F68: ОБЩИНА КРУШАРИ | G68: „ПРАЗНИК НА ГЪРНЕТАТА – КУЛИНАРНАТА АКАДЕМИЯ ДА ДОБРУДЖА“ | H68: 29400 | I68: 29400 | J68: 29400 | K68: 29400 | L68: 29400 | M68: 29400 | N68: 0 | O68: 0 | P68: =N68+O68 -> 0 | Q68: 0
E69: 4 | F69: ОБЩИНА КРУШАРИ | G69: ФЕСТИВАЛ „ПРОЛЕТНИЦИ ЗА СИТА ЗИМА“ | H69: 27140 | I69: 27140 | J69: 27140 | K69: 27140 | L69: 27140 | M69: 27140 | N69: 27140 | O69: 27140 | Q69: 0
E70: 5 | F70: ОБЩИНА КРУШАРИ | G70: Подобряване на материално-техническата база на седемте читалища от Община Крушари чрез закупуване на обзавеждане и оборудване | H70: 25621.49 | I70: 25621.49 | J70: 25621.49 | K70: 25621.49 | L70: 25621.49 | M70: 25621.49 | N70: 0 | O70: 0 | P70: =N70+O70 -> 0 | Q70: 0
E71: 6 | F71: ОБЩИНА КРУШАРИ | G71: „НЕВИДИМИТЕ СЪКРОВИЩА НА ДОБРУДЖА“ | H71: 25161.66 | I71: 25161.66 | J71: 9375 | K71: 9375 | L71: 9375 | M71: 9375 | N71: 0 | O71: 0 | P71: =N71+O71 -> 0 | Q71: 0
E72: Мерки, които не са част от ПРСР 2014 - 2020 г. , но са включени в Регламент (EC) № 1305/2013 (финансирани от ЕЗФРСР) | P72: =N72+O72 -> 0 | Q72: 0
E73: ……… | P73: =N73+O73 -> 0 | Q73: 0
E74: Мерки, извън обхвата на мерките от Регламент (EC) № 1305/2013, но съответстващи на целите на регламента (финансирани от ЕЗФРСР) | P74: =N74+O74 -> 0 | Q74: 0
E75: ……… | P75: =N75+O75 -> 0 | Q75: 0
E76: Мерки, финансирани от ОПОС (ЕФРР) | P76: =N76+O76 -> 0 | Q76: 0
E77: ……… | P77: =N77+O77 -> 0 | Q77: 0
E78: Мерки, финансирани от ОПНОИР (ЕСФ) | P78: =N78+O78 -> 0 | Q78: 0
E79: ……… | P79: =N79+O79 -> 0 | Q79: 0
E80: Мерки, финансирани от ОПРЧР (ЕСФ) | P80: =N80+O80 -> 0 | Q80: 0
E81: ……… | P81: =N81+O81 -> 0 | Q81: 0
E82: Мерки, финансирани от ОПИК (ЕФРР) | P82: =N82+O82 -> 0 | Q82: 0
E83: ……… | P83: =N83+O83 -> 0 | Q83: 0
... E85: ……… | P85: =N85+O85 -> 0 | Q85: 0
E86: Общо: | H86: =H64+H55+H38+H30+H6 -> 4936514.4 | I86: =I64+I55+I38+I30+I6 -> 3337807.7 | J86: =J64+J55+J38+J30+J6 -> 4212728.3 | K86: =K64+K55+K38+K30+K6 -> 2904506.6 | L86: =L64+L55+L38+L30+L6 -> 4212728.3 | M86: =M64+M55+M38+M30+M6 -> 2904506.6 | N86: =N64+N55+N38+N30+N6 -> 3913810.5 | O86: =O64+O55+O38+O30+O6 -> 2638430.5 | Q86: =Q64+Q55+Q38+Q30+Q6 -> 811156.43 | R86: =R64+R55+R38+R30+R6 -> 881009.2
E87: =E71+E63+E54+E37+E29 -> 47 | F87: =F64+F55+F38+F30+F6 -> 3732000
E88: =E95+E101+E107+E113+E120 -> 28 | F88: Сключини
E89: 8 | F89: заповеди
E90: 7 | F90: в оценка
E91: 4 | F91: нодобрени от МИГ и ДФЗ
E92: 4 | F92: отказани за изпълнение
E93: =F6 -> 1018400 | F93: 4.1. | G93: общо проекти | H93: БФП | I93: одобрени от МИГ | J93: Отказани | K93: отчетени
E94: =E29 -> 18 | F94: подадени | G94: =H6 -> 2013160.7 | H94: =I6 -> 967891.26 | I94: =M6 -> 908091.26
E95: 16 | F95: сключени
E96: 3 | F96: отказани за изпълнение | J96: =V9+V10+V13 -> 170942.62
E97: 7 | F97: отчетени и платени | K97: =Q14+Q15+Q16+Q18+Q19+Q20+Q21+Q22 -> 268145.62
E98: 1 | F98: в оценка
E99: 41600 | F99: 4.2 | G99: общо проекти | H99: БФП | I99: одобрени от МИГ | J99: Отказани | K99: отчетени
E100: 5 | F100: подадени | G100: =H30 -> 350668.32 | H100: =I30 -> 175334.19 | I100: 41600
E101: 1 | F101: сключени
...

Sheet Лист3
B1: Приоритет и специфични цели | C1: Общо за периода на стратегията | F1: Одобрени от МИГ към 31/12/2021 | I1: Одобрени от ДФЗ към 31/12/2021[1]
C2: лева | D2: % | E2: лева | G2: % | J2: %
A3: Приоритет 1: Насърчаване на местния бизнес за създаване на заетост, доходи и разнообразяване на икономическите дейности | C3: 1845500 | D3: 49 | E3: =SUM(E4:F6) -> 2540009.4 | G3: =E3/C13*100 -> 68.060273 | H3: =SUM(H4:I6) -> 2427350.6 | J3: =H3/C13*100 -> 65.041549
A4: Специфична цел 1.1: | B4: Повишаване на конкурентоспособността на местното земеделие и добавяне на стойност при местните селскостопански продукти | C4: 1060000 | D4: 28 | E4: ='Таблица-5'!F6+'Таблица-5'!F7 -> 1435663.8 | G4: =E4/C13*100 -> 38.469019 | H4: ='Таблица-5'!J6+'Таблица-5'!J7 -> 1334307.7 | J4: =H4/C13*100 -> 35.753153
B5: Мярка 4.1. и Мярка 4.2.
A6: Специфична цел 1.2: | B6: Подкрепа на предприемачеството за разнообразяване на бизнеса на територията | C6: 785500 | D6: 21 | E6: ='Таблица-5'!F8 -> 1104345.6 | G6: =E6/C13*100 -> 29.591253 | H6: ='Таблица-5'!J8 -> 1093042.9 | J6: =H6/C13*100 -> 29.288396
B7: Мярка 6.4.
A8: Приоритет 2: Развитие на благоприятна жизнена среда за социално приобщаване и общо подобряване на качеството на живот | C8: 1886500 | D8: 51 | E8: =SUM(E9:F11) -> 2139430.8 | G8: =E8/C13*100 -> 57.326656 | H8: =SUM(H9:I11) -> 2020835.8 | J8: =H8/C13*100 -> 54.148868
A9: Специфична цел 2.1: | B9: Подобряване на средата на живот и достъпа до услуги за населението в населените места | C9: 1736500 | D9: 47 | E9: ='Таблица-5'!F9 -> 1931861.3 | G9: =E9/C13*100 -> 51.764773 | H9: ='Таблица-5'!J9 -> 1813506.3 | J9: =H9/C13*100 -> 48.593416
B10: Мярка 7.2.
A11: Специфична цел 2.2: | B11: Оползотворяване на местните традиции и наследство за постигане на устойчиви общности | C11: 150000 | D11: 4 | E11: ='Таблица-5'!F10 -> 207569.49 | G11: =E11/C13*100 -> 5.5618834 | H11: ='Таблица-5'!J10 -> 207329.49 | J11: =H11/C13*100 -> 5.5554526
B12: Мярка 19.7.6.
B13: ОБЩО ЗА ЦЯЛАТА СТРАТЕГИЯ | C13: 3732000 | D13: 100 | E13: =E8+E3 -> 4679440.2 | G13: =E13/C13*100 -> 125.38693 | H13: =H8+H3 -> 4448186.4 | J13: =H13/C13*100 -> 119.19042
A16: [1] В стойностите са включени сключените ДБФП и издадените Заповеди за одобрение от ДФЗ.

Sheet Лист4
B2: Приоритет и специфични цели | C2: Общо за периода на стратегията | E2: Общо за отчетния период
C3: лева | D3: % | E3: лева | F3: %
A4: Приоритет 1: Насърчаване на местния бизнес за създаване на заетост, доходи и разнообразяване на икономическите дейности | C4: 1633000 | D4: 55.7 | E4: =SUM(E5:E8) -> 791033.49 | F4: =SUM(F5:F8) -> 26.970116
A5: Специфична цел 1.1: | B5: Повишаване на конкурентноспособността на местното земеделие и добавяне на стойност при местните селскостопански продукти | C5: 950000 | D5: 32.4 | E5: 791033.49 | F5: =E5/C14*100 -> 26.970116
B6: Мярка 4.1. и Мярка 4.2.
A7: Специфична цел 1.2: | B7: Подкрепа на предприемачеството за разнообразяване на бизнеса на територията | C7: 683000 | D7: 23.3 | E7: 0 | F7: 0
B8: Мярка 6.4.
A9: Приоритет 2: Развитие на благоприятна жизнена среда за социално приобщаване и общо подобряване на качеството на живот | C9: 1 300 000 | D9: 44.3 | E9: =SUM(E10:E13) -> 967346.95 | F9: =SUM(F10:F13) -> 32.981485
A10: Специфична цел 2.1: | B10: Подобряване на средата на живот и достъпа до услуги за населението в населените места | C10: 1150000 | D10: 39.2 | E10: 967346.95 | F10: =E10/C14*100 -> 32.981485
B11: Мярка 7.2.
A12: Специфична цел 2.2: | B12: Оползотворяване на местните традиции и наследство за постигане на устойчиви общности | C12: 150000 | D12: 5.1 | E12: 0 | F12: 0
B13: Мярка 19.7.6.
B14: ОБЩО ЗА ЦЯЛАТА СТРАТЕГИЯ | C14: 2933000 | D14: 100 | E14: =E4+E9 -> 1758380.4 | F14: =F4+F9 -> 59.9516
